BEGIN:VCALENDAR
VERSION:2.0
PRODID:-//AELCLÉS - ECPv6.15.20//NONSGML v1.0//EN
CALSCALE:GREGORIAN
METHOD:PUBLISH
X-ORIGINAL-URL:https://www.aelcles.org
X-WR-CALDESC:Eventos para AELCLÉS
REFRESH-INTERVAL;VALUE=DURATION:PT1H
X-Robots-Tag:noindex
X-PUBLISHED-TTL:PT1H
BEGIN:VTIMEZONE
TZID:Europe/Madrid
BEGIN:DAYLIGHT
TZOFFSETFROM:+0100
TZOFFSETTO:+0200
TZNAME:CEST
DTSTART:20230326T010000
END:DAYLIGHT
BEGIN:STANDARD
TZOFFSETFROM:+0200
TZOFFSETTO:+0100
TZNAME:CET
DTSTART:20231029T010000
END:STANDARD
BEGIN:DAYLIGHT
TZOFFSETFROM:+0100
TZOFFSETTO:+0200
TZNAME:CEST
DTSTART:20240331T010000
END:DAYLIGHT
BEGIN:STANDARD
TZOFFSETFROM:+0200
TZOFFSETTO:+0100
TZNAME:CET
DTSTART:20241027T010000
END:STANDARD
BEGIN:DAYLIGHT
TZOFFSETFROM:+0100
TZOFFSETTO:+0200
TZNAME:CEST
DTSTART:20250330T010000
END:DAYLIGHT
BEGIN:STANDARD
TZOFFSETFROM:+0200
TZOFFSETTO:+0100
TZNAME:CET
DTSTART:20251026T010000
END:STANDARD
END:VTIMEZONE
BEGIN:VEVENT
DTSTART;TZID=Europe/Madrid:20241105T173000
DTEND;TZID=Europe/Madrid:20241105T183000
DTSTAMP:20260425T062239
CREATED:20240930T104750Z
LAST-MODIFIED:20240930T105427Z
UID:3758-1730827800-1730831400@www.aelcles.org
SUMMARY:Café con Hematología
DESCRIPTION:Nuestra cita de #caféconhematología cómo siempre será el primer martes del mes con la colaboración de #JohnsonJohnson \n  \nEl primer martes de cada mes a las 17:30h en el enlace https://us06web.zoom.us/j/87073534778 \n  \n \nOs esperamos!!! \n 
URL:https://www.aelcles.org/evento/cafe-con-hematologia-28/
CATEGORIES:online
ATTACH;FMTTYPE=image/jpeg:https://www.aelcles.org/wp-content/uploads/2024/09/Cafe-con-hematologia_generico.jpg
ORGANIZER;CN="AELCLES":MAILTO:info@aelcles.org
END:VEVENT
BEGIN:VEVENT
DTSTART;TZID=Europe/Madrid:20241106T000000
DTEND;TZID=Europe/Madrid:20241106T000000
DTSTAMP:20260425T062239
CREATED:20241005T095247Z
LAST-MODIFIED:20241005T095247Z
UID:3777-1730851200-1730851200@www.aelcles.org
SUMMARY:Mi tiempo para Mi
DESCRIPTION:Si tienes Mieloma Múltiple recuerda que desde #AELCLÉS\, estamos desarrollando el programa «Mi tiempo para mí» para personas con Mieloma Múltiple.\nEste programa ofrece «terapia psicológica» gratuita a pacientes\, familiares y cuidadores de personas afectadas con Mieloma Múltiple. Además puedes contactar con otras personas afectadas con Mieloma Múltiple a través de nuestro grupo de iguales\, en el que trabajamos aspectos como autoestima\, emociones y compartimos experiencias. \nNo te lo pienses y únete a nosotras!!! contáctanos en psicologia@aelcles.org o en el teléfono 641496702
URL:https://www.aelcles.org/evento/mi-tiempo-para-mi-25/
CATEGORIES:online
ATTACH;FMTTYPE=image/jpeg:https://www.aelcles.org/wp-content/uploads/2022/05/Mi-tiempo-para-mi.jpg
END:VEVENT
BEGIN:VEVENT
DTSTART;VALUE=DATE:20241108
DTEND;VALUE=DATE:20241110
DTSTAMP:20260425T062239
CREATED:20241022T115927Z
LAST-MODIFIED:20241023T142209Z
UID:3860-1731024000-1731196799@www.aelcles.org
SUMMARY:I Encuentro Nacional de Asociaciones AELCLÉS
DESCRIPTION:Nos complace anunciar que los próximos días 8 y 9 de noviembre de 2024 se celebrará el I Encuentro Nacional de Asociaciones de Enfermedades Onco-hematológicas\, organizado por AELCLÉS – Agrupación Española de Entidades de Lucha contra la Leucemia y Enfermedades de la Sangre. Este evento\, que tendrá lugar en el Hotel H10 Puerta de Alcalá en Madrid\, supone una oportunidad única para reunir a organizaciones\, pacientes\, familiares y expertos en el campo de la hematología en España. \nEl encuentro\, abierto al público mediante inscripción previa hasta completar aforo\, tiene como objetivo fortalecer el apoyo a los pacientes y sus familias\, además de fomentar la colaboración entre las asociaciones que trabajan día a día para mejorar la calidad de vida de las personas afectadas por enfermedades hematológicas en las diferentes regiones de nuestro país. \n  \n \nVIERNES 8 DE NOVIEMBRE 4-9 PM \nDedicado a ponencias impartidas por destacados expertos en hematología\, quienes abordarán los principales pilares de esta disciplina\, ofreciendo una visión actualizada y detallada de los avances más recientes en el tratamiento de las enfermedades onco-hematológicas. Será una oportunidad invaluable para adquirir conocimientos sobre el panorama actual de estas patologías y sus tratamientos\, exponer las dudas que afectan a los pacientes y ofrecerles respuesta. Al finalizar las sesiones se ofrecerá un cóctel a los asistentes. \nSÁBADO 9 DE NOVIEMBRE 9-2 PM \nEl sábado por la mañana\, el enfoque se dirigirá hacia las asociaciones de personas que conviven con enfermedades hematológicas en España\, con sesiones de formación diseñadas específicamente para brindarles herramientas útiles en su labor diaria de apoyo a los pacientes y sus familias. Estas sesiones buscarán fortalecer las capacidades de las asociaciones\, compartiendo estrategias y recursos que les permitan mejorar la atención\, la comunicación y el acompañamiento que ofrecen. \nConsulta el Programa Provisional AQUÍ \nEste primer encuentro nacional marca un paso importante en la consolidación de una red sólida y colaborativa entre las asociaciones de enfermedades onco-hematológicas en España. Desde AELCLÉS\, os animamos a todos a participar y formar parte de este evento\, que busca continuar mejorando la calidad de vida de los pacientes y fomentar una mayor concienciación social sobre estas enfermedades. \nEsta actividad cuenta con el aval social de la Sociedad Española de Hematología y Hemoterapia (SEHH)\, con la colaboración de entidades como Myeloma Patients Europe (MPE) de la que AELCLÉS es miembro\, así como con el apoyo de las compañías farmacéuticas Johnson and Johnson\, Astrazéneca\, Lilly\, Prothena Biosciences\, Daiichi-Sankyo\, Beigene y Novartis. \nNo pierdas la oportunidad de asistir. Inscríbete ya y reserva tu plaza: \nSi eres paciente\, familiar\, profesional sanitario o una asociación de pacientes que NO es miembro de AELCLÉS\, INSCRÍBETE AQUÍ. \nSi eres una asociación de pacientes miembro de AELCLÉS\, INSCRÍBETE AQUÍ. \n 
URL:https://www.aelcles.org/evento/i-encuentro-nacional-de-asociaciones-aelcles/
CATEGORIES:Jornada,Presencial
ATTACH;FMTTYPE=image/png:https://www.aelcles.org/wp-content/uploads/2024/10/161024_LogEncuentro_IG_Post.png
ORGANIZER;CN="AELCLES":MAILTO:info@aelcles.org
END:VEVENT
BEGIN:VEVENT
DTSTART;TZID=Europe/Madrid:20241113T000000
DTEND;TZID=Europe/Madrid:20241113T000000
DTSTAMP:20260425T062239
CREATED:20241005T095322Z
LAST-MODIFIED:20241005T095322Z
UID:3778-1731456000-1731456000@www.aelcles.org
SUMMARY:Mi tiempo para Mi
DESCRIPTION:Si tienes Mieloma Múltiple recuerda que desde #AELCLÉS\, estamos desarrollando el programa «Mi tiempo para mí» para personas con Mieloma Múltiple.\nEste programa ofrece «terapia psicológica» gratuita a pacientes\, familiares y cuidadores de personas afectadas con Mieloma Múltiple. Además puedes contactar con otras personas afectadas con Mieloma Múltiple a través de nuestro grupo de iguales\, en el que trabajamos aspectos como autoestima\, emociones y compartimos experiencias. \nNo te lo pienses y únete a nosotras!!! contáctanos en psicologia@aelcles.org o en el teléfono 641496702
URL:https://www.aelcles.org/evento/mi-tiempo-para-mi-26/
CATEGORIES:online
ATTACH;FMTTYPE=image/jpeg:https://www.aelcles.org/wp-content/uploads/2022/05/Mi-tiempo-para-mi.jpg
END:VEVENT
BEGIN:VEVENT
DTSTART;TZID=Europe/Madrid:20241120T000000
DTEND;TZID=Europe/Madrid:20241120T000000
DTSTAMP:20260425T062239
CREATED:20241005T095351Z
LAST-MODIFIED:20241114T101414Z
UID:3779-1732060800-1732060800@www.aelcles.org
SUMMARY:Mi tiempo para Mi
DESCRIPTION:Si tienes Mieloma Múltiple recuerda que desde #AELCLÉS\, estamos desarrollando el programa «Mi tiempo para mí» para personas con Mieloma Múltiple.\nEste programa ofrece «terapia psicológica» gratuita a pacientes\, familiares y cuidadores de personas afectadas con Mieloma Múltiple. Además puedes contactar con otras personas afectadas con Mieloma Múltiple a través de nuestro grupo de iguales\, en el que trabajamos aspectos como autoestima\, emociones y compartimos experiencias. \nNo te lo pienses y únete a nosotras!!! contáctanos en psicologia@aelcles.org o en el teléfono 641496702
URL:https://www.aelcles.org/evento/mi-tiempo-para-mi-27/
CATEGORIES:online
ATTACH;FMTTYPE=image/jpeg:https://www.aelcles.org/wp-content/uploads/2024/10/WhatsApp-Image-2024-11-14-at-11.04.39.jpeg
END:VEVENT
BEGIN:VEVENT
DTSTART;TZID=Europe/Madrid:20241125T170000
DTEND;TZID=Europe/Madrid:20241125T180000
DTSTAMP:20260425T062239
CREATED:20241005T095017Z
LAST-MODIFIED:20241114T101525Z
UID:3775-1732554000-1732557600@www.aelcles.org
SUMMARY:Mi Hilo Rojo
DESCRIPTION:Como cada último lunes del mes nos reencontramos  con #mihilorojo\, un grupo de iguales en el que el paciente o su familiar se siente apoyado y comprendido\, solventar posibles dudas a través de otros miembros del grupo para confrontar mejor la enfermedad\, su tratamiento y recuperación. \nSe realiza a través del enlace de ZOOM\, si quieres participar ponte en contacto en psicologia@aelcles.org o en el teléfono 641496702
URL:https://www.aelcles.org/evento/mi-hilo-rojo-23/
CATEGORIES:online
ATTACH;FMTTYPE=image/jpeg:https://www.aelcles.org/wp-content/uploads/2024/10/WhatsApp-Image-2024-11-14-at-11.04.39-2.jpeg
END:VEVENT
END:VCALENDAR