BEGIN:VCALENDAR
VERSION:2.0
PRODID:-//AELCLÉS - ECPv6.15.20//NONSGML v1.0//EN
CALSCALE:GREGORIAN
METHOD:PUBLISH
X-WR-CALNAME:AELCLÉS
X-ORIGINAL-URL:https://www.aelcles.org
X-WR-CALDESC:Eventos para AELCLÉS
REFRESH-INTERVAL;VALUE=DURATION:PT1H
X-Robots-Tag:noindex
X-PUBLISHED-TTL:PT1H
BEGIN:VTIMEZONE
TZID:Europe/Madrid
BEGIN:DAYLIGHT
TZOFFSETFROM:+0100
TZOFFSETTO:+0200
TZNAME:CEST
DTSTART:20230326T010000
END:DAYLIGHT
BEGIN:STANDARD
TZOFFSETFROM:+0200
TZOFFSETTO:+0100
TZNAME:CET
DTSTART:20231029T010000
END:STANDARD
BEGIN:DAYLIGHT
TZOFFSETFROM:+0100
TZOFFSETTO:+0200
TZNAME:CEST
DTSTART:20240331T010000
END:DAYLIGHT
BEGIN:STANDARD
TZOFFSETFROM:+0200
TZOFFSETTO:+0100
TZNAME:CET
DTSTART:20241027T010000
END:STANDARD
BEGIN:DAYLIGHT
TZOFFSETFROM:+0100
TZOFFSETTO:+0200
TZNAME:CEST
DTSTART:20250330T010000
END:DAYLIGHT
BEGIN:STANDARD
TZOFFSETFROM:+0200
TZOFFSETTO:+0100
TZNAME:CET
DTSTART:20251026T010000
END:STANDARD
END:VTIMEZONE
BEGIN:VEVENT
DTSTART;TZID=Europe/Madrid:20240604T173000
DTEND;TZID=Europe/Madrid:20240604T183000
DTSTAMP:20260425T155855
CREATED:20240502T141642Z
LAST-MODIFIED:20240515T164126Z
UID:3542-1717522200-1717525800@www.aelcles.org
SUMMARY:CAFÉ CON HEMATOLOGÍA
DESCRIPTION:Y esta es nuestra última cita de la temporada de #caféconhematología \, será el martes 4 de junio a las  17:30h\, como siempre en el enlace de zoom: \nhttps://us06web.zoom.us/j/82421398293\nOs esperamos!!!!
URL:https://www.aelcles.org/evento/cafe-con-hematologia-25/
ATTACH;FMTTYPE=image/jpeg:https://www.aelcles.org/wp-content/uploads/2024/05/CAFE-CON-HEMATOLOGIA.jpg
END:VEVENT
BEGIN:VEVENT
DTSTART;TZID=Europe/Madrid:20240605T170000
DTEND;TZID=Europe/Madrid:20240605T180000
DTSTAMP:20260425T155855
CREATED:20240401T114931Z
LAST-MODIFIED:20240515T164321Z
UID:3464-1717606800-1717610400@www.aelcles.org
SUMMARY:Mi tiempo para Mi
DESCRIPTION:Si tienes Mieloma Múltiple recuerda que desde #AELCLÉS\, estamos desarrollando el programa «Mi tiempo para mí» para personas con Mieloma Múltiple.\nEste programa ofrece «terapia psicológica» gratuita a pacientes\, familiares y cuidadores de personas afectadas con Mieloma Múltiple. Además puedes contactar con otras personas afectadas con Mieloma Múltiple a través de nuestro grupo de iguales\, en el que trabajamos aspectos como autoestima\, emociones y compartimos experiencias. \nNo te lo pienses y únete a nosotras!!! contáctanos en psicologia@aelcles.org o en el teléfono 641496702
URL:https://www.aelcles.org/evento/mi-tiempo-para-mi-18/
ATTACH;FMTTYPE=image/jpeg:https://www.aelcles.org/wp-content/uploads/2022/05/Mi-tiempo-para-mi.jpg
END:VEVENT
BEGIN:VEVENT
DTSTART;TZID=Europe/Madrid:20240612T170000
DTEND;TZID=Europe/Madrid:20240612T180000
DTSTAMP:20260425T155855
CREATED:20240401T115009Z
LAST-MODIFIED:20240515T164514Z
UID:3466-1718211600-1718215200@www.aelcles.org
SUMMARY:Mi tiempo para Mi
DESCRIPTION:Si tienes Mieloma Múltiple recuerda que desde #AELCLÉS\, estamos desarrollando el programa «Mi tiempo para mí» para personas con Mieloma Múltiple.\nEste programa ofrece «terapia psicológica» gratuita a pacientes\, familiares y cuidadores de personas afectadas con Mieloma Múltiple. Además puedes contactar con otras personas afectadas con Mieloma Múltiple a través de nuestro grupo de iguales\, en el que trabajamos aspectos como autoestima\, emociones y compartimos experiencias. \nNo te lo pienses y únete a nosotras!!! contáctanos en psicologia@aelcles.org o en el teléfono 641496702
URL:https://www.aelcles.org/evento/mi-tiempo-para-mi-19/
ATTACH;FMTTYPE=image/jpeg:https://www.aelcles.org/wp-content/uploads/2022/05/Mi-tiempo-para-mi.jpg
END:VEVENT
BEGIN:VEVENT
DTSTART;TZID=Europe/Madrid:20240619T170000
DTEND;TZID=Europe/Madrid:20240619T180000
DTSTAMP:20260425T155855
CREATED:20240401T115044Z
LAST-MODIFIED:20240515T164555Z
UID:3468-1718816400-1718820000@www.aelcles.org
SUMMARY:Mi tiempo para Mi
DESCRIPTION:Si tienes Mieloma Múltiple recuerda que desde #AELCLÉS\, estamos desarrollando el programa «Mi tiempo para mí» para personas con Mieloma Múltiple.\nEste programa ofrece «terapia psicológica» gratuita a pacientes\, familiares y cuidadores de personas afectadas con Mieloma Múltiple. Además puedes contactar con otras personas afectadas con Mieloma Múltiple a través de nuestro grupo de iguales\, en el que trabajamos aspectos como autoestima\, emociones y compartimos experiencias. \nNo te lo pienses y únete a nosotras!!! contáctanos en psicologia@aelcles.org o en el teléfono 641496702
URL:https://www.aelcles.org/evento/mi-tiempo-para-mi-20/
ATTACH;FMTTYPE=image/jpeg:https://www.aelcles.org/wp-content/uploads/2022/05/Mi-tiempo-para-mi.jpg
END:VEVENT
BEGIN:VEVENT
DTSTART;TZID=Europe/Madrid:20240624T170000
DTEND;TZID=Europe/Madrid:20240624T180000
DTSTAMP:20260425T155855
CREATED:20240401T120254Z
LAST-MODIFIED:20240502T143039Z
UID:3478-1719248400-1719252000@www.aelcles.org
SUMMARY:Mi Hilo Rojo
DESCRIPTION:Como cada último lunes del mes nos reencontramos  con #mihilorojo\, un grupo de iguales en el que el paciente o su familiar se siente apoyado y comprendido\, solventar posibles dudas a través de otros miembros del grupo para confrontar mejor la enfermedad\, su tratamiento y recuperación. \nSe realiza a través del enlace de ZOOM\, si quieres participar ponte en contacto en psicologia@aelcles.org o en el teléfono 641496702
URL:https://www.aelcles.org/evento/mi-hilo-rojo-21/
ATTACH;FMTTYPE=image/png:https://www.aelcles.org/wp-content/uploads/2024/04/Diseno-sin-titulo.png
END:VEVENT
BEGIN:VEVENT
DTSTART;TZID=Europe/Madrid:20240626T170000
DTEND;TZID=Europe/Madrid:20240626T180000
DTSTAMP:20260425T155855
CREATED:20240401T115135Z
LAST-MODIFIED:20240515T164628Z
UID:3470-1719421200-1719424800@www.aelcles.org
SUMMARY:Mi tiempo para Mi
DESCRIPTION:Si tienes Mieloma Múltiple recuerda que desde #AELCLÉS\, estamos desarrollando el programa «Mi tiempo para mí» para personas con Mieloma Múltiple.\nEste programa ofrece «terapia psicológica» gratuita a pacientes\, familiares y cuidadores de personas afectadas con Mieloma Múltiple. Además puedes contactar con otras personas afectadas con Mieloma Múltiple a través de nuestro grupo de iguales\, en el que trabajamos aspectos como autoestima\, emociones y compartimos experiencias. \nNo te lo pienses y únete a nosotras!!! contáctanos en psicologia@aelcles.org o en el teléfono 641496702
URL:https://www.aelcles.org/evento/mi-tiempo-para-mi-21/
ATTACH;FMTTYPE=image/jpeg:https://www.aelcles.org/wp-content/uploads/2022/05/Mi-tiempo-para-mi.jpg
END:VEVENT
END:VCALENDAR