BEGIN:VCALENDAR
VERSION:2.0
PRODID:-//AELCLÉS - ECPv6.15.20//NONSGML v1.0//EN
CALSCALE:GREGORIAN
METHOD:PUBLISH
X-ORIGINAL-URL:https://www.aelcles.org
X-WR-CALDESC:Eventos para AELCLÉS
REFRESH-INTERVAL;VALUE=DURATION:PT1H
X-Robots-Tag:noindex
X-PUBLISHED-TTL:PT1H
BEGIN:VTIMEZONE
TZID:Europe/Madrid
BEGIN:DAYLIGHT
TZOFFSETFROM:+0100
TZOFFSETTO:+0200
TZNAME:CEST
DTSTART:20230326T010000
END:DAYLIGHT
BEGIN:STANDARD
TZOFFSETFROM:+0200
TZOFFSETTO:+0100
TZNAME:CET
DTSTART:20231029T010000
END:STANDARD
BEGIN:DAYLIGHT
TZOFFSETFROM:+0100
TZOFFSETTO:+0200
TZNAME:CEST
DTSTART:20240331T010000
END:DAYLIGHT
BEGIN:STANDARD
TZOFFSETFROM:+0200
TZOFFSETTO:+0100
TZNAME:CET
DTSTART:20241027T010000
END:STANDARD
BEGIN:DAYLIGHT
TZOFFSETFROM:+0100
TZOFFSETTO:+0200
TZNAME:CEST
DTSTART:20250330T010000
END:DAYLIGHT
BEGIN:STANDARD
TZOFFSETFROM:+0200
TZOFFSETTO:+0100
TZNAME:CET
DTSTART:20251026T010000
END:STANDARD
END:VTIMEZONE
BEGIN:VEVENT
DTSTART;TZID=Europe/Madrid:20240507T173000
DTEND;TZID=Europe/Madrid:20240507T183000
DTSTAMP:20260425T173735
CREATED:20240502T113704Z
LAST-MODIFIED:20240502T113704Z
UID:3539-1715103000-1715106600@www.aelcles.org
SUMMARY:CAFÉ CON HEMATOLOGÍA
DESCRIPTION:Un mes más una cita nueva con #caféconhematología martes 7 de mayo a las  17:30h en el enlace de zoom https://us06web.zoom.us/j/82421398293
URL:https://www.aelcles.org/evento/cafe-con-hematologia-24/
ATTACH;FMTTYPE=image/png:https://www.aelcles.org/wp-content/uploads/2024/05/Primera-cita-de-este-ano-9-de-Enero_20240502_130635_0000.png
END:VEVENT
BEGIN:VEVENT
DTSTART;TZID=Europe/Madrid:20240508T170000
DTEND;TZID=Europe/Madrid:20240508T180000
DTSTAMP:20260425T173735
CREATED:20240401T114641Z
LAST-MODIFIED:20240401T114641Z
UID:3456-1715187600-1715191200@www.aelcles.org
SUMMARY:Mi tiempo para Mi
DESCRIPTION:Si tienes Mieloma Múltiple recuerda que desde #AELCLÉS\, estamos desarrollando el programa «Mi tiempo para mí» para personas con Mieloma Múltiple.\nEste programa ofrece «terapia psicológica» gratuita a pacientes\, familiares y cuidadores de personas afectadas con Mieloma Múltiple. Además puedes contactar con otras personas afectadas con Mieloma Múltiple a través de nuestro grupo de iguales\, en el que trabajamos aspectos como autoestima\, emociones y compartimos experiencias. \nNo te lo pienses y únete a nosotras!!! contáctanos en psicologia@aelcles.org o en el teléfono 641496702
URL:https://www.aelcles.org/evento/mi-tiempo-para-mi-14/
ATTACH;FMTTYPE=image/jpeg:https://www.aelcles.org/wp-content/uploads/2022/05/WhatsApp-Image-2024-01-19-at-17.37.37.jpeg
END:VEVENT
BEGIN:VEVENT
DTSTART;TZID=Europe/Madrid:20240509T170000
DTEND;TZID=Europe/Madrid:20240509T180000
DTSTAMP:20260425T173735
CREATED:20240508T165825Z
LAST-MODIFIED:20240508T165825Z
UID:3552-1715274000-1715277600@www.aelcles.org
SUMMARY:HABLEMOS DE CÁNCER Y...... ANSIEDAD Y DEPRESIÓN
DESCRIPTION:“Hablemos de cáncer y ansiedad y depresión”. En este ciclo estarán el oncólogo Alfonso Cortés\,  Estefanía Romero desde su rol de psicooncóloga y Bernard Gaspar\, presidente de la Asociación Española de Afectados de Cáncer de Pulmón (AEACaP). En este encuentro\, se conversará sobre el malestar emocional que a menudo acompaña al diagnóstico de cáncer y a su proceso de tratamiento y sobre qué podemos hacer para cuidar mejor nuestra salud mental.\n 
URL:https://www.aelcles.org/evento/hablemos-de-cancer-y-ansiedad-y-depresion/
ATTACH;FMTTYPE=image/jpeg:https://www.aelcles.org/wp-content/uploads/2024/05/WhatsApp-Image-2024-05-08-at-18.50.44.jpeg
END:VEVENT
BEGIN:VEVENT
DTSTART;TZID=Europe/Madrid:20240511T080000
DTEND;TZID=Europe/Madrid:20240511T170000
DTSTAMP:20260425T173735
CREATED:20240511T071948Z
LAST-MODIFIED:20240511T071948Z
UID:3582-1715414400-1715446800@www.aelcles.org
SUMMARY:Taller de Estética Oncológica
DESCRIPTION:De nuevo el martes 14 de mayo a las 17h tenemos una cita con Naira Martin que nos enseñará técnicas de automaquillaje y diseño de cejas.\nAdemás nos resolverá todas las dudas relacionadas con el cuidado de la piel y del cabello.\nMás información en psicologia@aelcles.org y en el número 641496702\nConéctate  Aquí
URL:https://www.aelcles.org/evento/taller-de-estetica-oncologica-3/
ATTACH;FMTTYPE=image/jpeg:https://www.aelcles.org/wp-content/uploads/2024/05/IMG_20240508_133316_936.jpg
END:VEVENT
BEGIN:VEVENT
DTSTART;TZID=Europe/Madrid:20240514T170000
DTEND;TZID=Europe/Madrid:20240514T180000
DTSTAMP:20260425T173735
CREATED:20240508T170130Z
LAST-MODIFIED:20240508T170130Z
UID:3560-1715706000-1715709600@www.aelcles.org
SUMMARY:HABLEMOS DE CÁNCER Y .... REPERCUSIONES DIGESTIVAS
DESCRIPTION:Las repercusiones digestivas en muchas ocasiones acompañan a las personas con cáncer durante la enfermedad y sus tratamientos. Contaremos con el endocrino Francisco Botella y Sandra Lara\, presidenta de PERITONEUM\, asociación de apoyo a pacientes y familiares afectados por carcinomatosis peritoneal. Dialogaremos sobre efectos secundarios como la mucositis\, las náuseas\, los vómitos y la diarrea y nuestros ponentes nos darán pautas para sobrellevarlos mejor.
URL:https://www.aelcles.org/evento/hablemos-de-cancer-y-repercusiones-digestivas/
ATTACH;FMTTYPE=image/jpeg:https://www.aelcles.org/wp-content/uploads/2024/05/WhatsApp-Image-2024-05-08-at-18.50.43-2.jpeg
END:VEVENT
BEGIN:VEVENT
DTSTART;TZID=Europe/Madrid:20240515T170000
DTEND;TZID=Europe/Madrid:20240515T180000
DTSTAMP:20260425T173735
CREATED:20240401T114723Z
LAST-MODIFIED:20240401T114723Z
UID:3458-1715792400-1715796000@www.aelcles.org
SUMMARY:Mi tiempo para Mi
DESCRIPTION:Si tienes Mieloma Múltiple recuerda que desde #AELCLÉS\, estamos desarrollando el programa «Mi tiempo para mí» para personas con Mieloma Múltiple.\nEste programa ofrece «terapia psicológica» gratuita a pacientes\, familiares y cuidadores de personas afectadas con Mieloma Múltiple. Además puedes contactar con otras personas afectadas con Mieloma Múltiple a través de nuestro grupo de iguales\, en el que trabajamos aspectos como autoestima\, emociones y compartimos experiencias. \nNo te lo pienses y únete a nosotras!!! contáctanos en psicologia@aelcles.org o en el teléfono 641496702
URL:https://www.aelcles.org/evento/mi-tiempo-para-mi-15/
ATTACH;FMTTYPE=image/jpeg:https://www.aelcles.org/wp-content/uploads/2022/05/WhatsApp-Image-2024-01-19-at-17.37.37.jpeg
END:VEVENT
BEGIN:VEVENT
DTSTART;TZID=Europe/Madrid:20240516T170000
DTEND;TZID=Europe/Madrid:20240516T180000
DTSTAMP:20260425T173735
CREATED:20240508T170353Z
LAST-MODIFIED:20240508T170353Z
UID:3562-1715878800-1715882400@www.aelcles.org
SUMMARY:HABLEMOS DE CÁNCER Y .... ALTERACIONES DE LA PIEL
DESCRIPTION:Hablemos de cáncer y las alteraciones de la piel. Para tratarlo contaremos con la oncóloga radioterápica Andrea Bobo y el dermatólogo Manuel Sánchez. También nos acompañará Beatriz Revilla\, que es miembro de la Asociación Española Cáncer de Mama Metastásico (AECMM). En este seminario\, nos hablarán de las alteraciones de la piel que más frecuentemente se producen por los tratamientos oncológicos y nos enseñarán a cómo mejorar el cuidado de nuestra piel.
URL:https://www.aelcles.org/evento/hablemos-de-cancer-y-alteraciones-de-la-piel/
ATTACH;FMTTYPE=image/jpeg:https://www.aelcles.org/wp-content/uploads/2024/05/WhatsApp-Image-2024-05-08-at-18.50.43-1.jpeg
END:VEVENT
BEGIN:VEVENT
DTSTART;TZID=Europe/Madrid:20240521T170000
DTEND;TZID=Europe/Madrid:20240521T180000
DTSTAMP:20260425T173735
CREATED:20240508T170614Z
LAST-MODIFIED:20240508T170614Z
UID:3564-1716310800-1716314400@www.aelcles.org
SUMMARY:
DESCRIPTION:Por último\, cerraremos este ciclo de seminarios hablando de cáncer e inmunosupresión. En este último encuentro\, contaremos con la participación del inmunólogo José Ramón Regueiro\, el hematólogo Carlos Solano y Vanessa Pérez\, presidenta de la Asociación de Donantes de Médula Ósea en Burgos (ADMOBU)\, asociación miembro de la Agrupación Española de Entidades de Lucha Contra la Leucemia y Enfermedades de Sangre (AELCLÉS). Juntos conversaremos sobre qué cuidados tenemos que seguir si tenemos inmunosupresión y cómo podemos adaptarnos a esta situación que algunas veces acompaña al diagnóstico de cáncer y los tratamientos.
URL:https://www.aelcles.org/evento/3564/
ATTACH;FMTTYPE=image/jpeg:https://www.aelcles.org/wp-content/uploads/2024/05/WhatsApp-Image-2024-05-08-at-18.50.43.jpeg
END:VEVENT
BEGIN:VEVENT
DTSTART;TZID=Europe/Madrid:20240522T170000
DTEND;TZID=Europe/Madrid:20240522T180000
DTSTAMP:20260425T173735
CREATED:20240401T114805Z
LAST-MODIFIED:20240515T163744Z
UID:3460-1716397200-1716400800@www.aelcles.org
SUMMARY:Mi tiempo para Mi
DESCRIPTION:Si tienes Mieloma Múltiple recuerda que desde #AELCLÉS\, estamos desarrollando el programa «Mi tiempo para mí» para personas con Mieloma Múltiple.\nEste programa ofrece «terapia psicológica» gratuita a pacientes\, familiares y cuidadores de personas afectadas con Mieloma Múltiple. Además puedes contactar con otras personas afectadas con Mieloma Múltiple a través de nuestro grupo de iguales\, en el que trabajamos aspectos como autoestima\, emociones y compartimos experiencias. \nNo te lo pienses y únete a nosotras!!! contáctanos en psicologia@aelcles.org o en el teléfono 641496702
URL:https://www.aelcles.org/evento/mi-tiempo-para-mi-16/
ATTACH;FMTTYPE=image/jpeg:https://www.aelcles.org/wp-content/uploads/2022/05/Mi-tiempo-para-mi.jpg
END:VEVENT
BEGIN:VEVENT
DTSTART;TZID=Europe/Madrid:20240527T170000
DTEND;TZID=Europe/Madrid:20240527T180000
DTSTAMP:20260425T173735
CREATED:20240401T120154Z
LAST-MODIFIED:20240502T142854Z
UID:3476-1716829200-1716832800@www.aelcles.org
SUMMARY:Mi Hilo Rojo
DESCRIPTION:Como cada último lunes del mes nos reencontramos  con #mihilorojo\, un grupo de iguales en el que el paciente o su familiar se siente apoyado y comprendido\, solventar posibles dudas a través de otros miembros del grupo para confrontar mejor la enfermedad\, su tratamiento y recuperación. \nSe realiza a través del enlace de ZOOM\, si quieres participar ponte en contacto en psicologia@aelcles.org o en el teléfono 641496702
URL:https://www.aelcles.org/evento/mi-hilo-rojo-20/
ATTACH;FMTTYPE=image/png:https://www.aelcles.org/wp-content/uploads/2024/04/Diseno-sin-titulo.png
END:VEVENT
BEGIN:VEVENT
DTSTART;TZID=Europe/Madrid:20240528T170000
DTEND;TZID=Europe/Madrid:20240528T180000
DTSTAMP:20260425T173735
CREATED:20240527T164644Z
LAST-MODIFIED:20240527T164644Z
UID:3619-1716915600-1716919200@www.aelcles.org
SUMMARY:
DESCRIPTION:Este martes 28 a las 17:00h será nuestra última reunión del «Club de Lectura» hasta después del verano. \nNuestras compañeras de ASOTRAME han planteado como actividad para este último encuentro un café-te virtual en el que podéis llevar a la reunión cada una vuestra bebida y algo de comer\, un postre\, unas galletas\, lo que prefiráis para acompañar. Si os animáis a cocinar y compartir vuestras recetas del aperitivo que elijáis ¡también serán bienvenidas! Nos vemos mañana 28 a las 17:00h con el libro «Viaje al país de los blancos» de Ousman Umar. \nTema: Club de lectura Asotrame \nHora: 28 may 2024 05:00 p. m. Madrid \nEntrar Reunión  \nID de reunión: 853 0310 1337 \nCódigo de acceso: 920785
URL:https://www.aelcles.org/evento/3619/
ATTACH;FMTTYPE=image/jpeg:https://www.aelcles.org/wp-content/uploads/2024/05/IMG-20240527-WA0030.jpg
END:VEVENT
BEGIN:VEVENT
DTSTART;TZID=Europe/Madrid:20240529T170000
DTEND;TZID=Europe/Madrid:20240529T180000
DTSTAMP:20260425T173735
CREATED:20240401T114849Z
LAST-MODIFIED:20240515T163914Z
UID:3462-1717002000-1717005600@www.aelcles.org
SUMMARY:Mi tiempo para Mi
DESCRIPTION:Si tienes Mieloma Múltiple recuerda que desde #AELCLÉS\, estamos desarrollando el programa «Mi tiempo para mí» para personas con Mieloma Múltiple.\nEste programa ofrece «terapia psicológica» gratuita a pacientes\, familiares y cuidadores de personas afectadas con Mieloma Múltiple. Además puedes contactar con otras personas afectadas con Mieloma Múltiple a través de nuestro grupo de iguales\, en el que trabajamos aspectos como autoestima\, emociones y compartimos experiencias. \nNo te lo pienses y únete a nosotras!!! contáctanos en psicologia@aelcles.org o en el teléfono 641496702
URL:https://www.aelcles.org/evento/mi-tiempo-para-mi-17/
ATTACH;FMTTYPE=image/jpeg:https://www.aelcles.org/wp-content/uploads/2022/05/Mi-tiempo-para-mi.jpg
END:VEVENT
END:VCALENDAR