BEGIN:VCALENDAR
VERSION:2.0
PRODID:-//AELCLÉS - ECPv6.15.20//NONSGML v1.0//EN
CALSCALE:GREGORIAN
METHOD:PUBLISH
X-WR-CALNAME:AELCLÉS
X-ORIGINAL-URL:https://www.aelcles.org
X-WR-CALDESC:Eventos para AELCLÉS
REFRESH-INTERVAL;VALUE=DURATION:PT1H
X-Robots-Tag:noindex
X-PUBLISHED-TTL:PT1H
BEGIN:VTIMEZONE
TZID:Europe/Madrid
BEGIN:DAYLIGHT
TZOFFSETFROM:+0100
TZOFFSETTO:+0200
TZNAME:CEST
DTSTART:20200329T010000
END:DAYLIGHT
BEGIN:STANDARD
TZOFFSETFROM:+0200
TZOFFSETTO:+0100
TZNAME:CET
DTSTART:20201025T010000
END:STANDARD
BEGIN:DAYLIGHT
TZOFFSETFROM:+0100
TZOFFSETTO:+0200
TZNAME:CEST
DTSTART:20210328T010000
END:DAYLIGHT
BEGIN:STANDARD
TZOFFSETFROM:+0200
TZOFFSETTO:+0100
TZNAME:CET
DTSTART:20211031T010000
END:STANDARD
BEGIN:DAYLIGHT
TZOFFSETFROM:+0100
TZOFFSETTO:+0200
TZNAME:CEST
DTSTART:20220327T010000
END:DAYLIGHT
BEGIN:STANDARD
TZOFFSETFROM:+0200
TZOFFSETTO:+0100
TZNAME:CET
DTSTART:20221030T010000
END:STANDARD
BEGIN:DAYLIGHT
TZOFFSETFROM:+0100
TZOFFSETTO:+0200
TZNAME:CEST
DTSTART:20230326T010000
END:DAYLIGHT
BEGIN:STANDARD
TZOFFSETFROM:+0200
TZOFFSETTO:+0100
TZNAME:CET
DTSTART:20231029T010000
END:STANDARD
END:VTIMEZONE
BEGIN:VEVENT
DTSTART;TZID=Europe/Madrid:20220205T200000
DTEND;TZID=Europe/Madrid:20220205T200000
DTSTAMP:20260426T014016
CREATED:20220121T113400Z
LAST-MODIFIED:20220121T113400Z
UID:2082-1644091200-1644091200@www.aelcles.org
SUMMARY:IV ACTO SOLIDARIO AYUDAMOS CON TU AYUDA.
DESCRIPTION:El sábado 5 de febrero a las 20h en el Centro Sociocultural Fernando De los Ríos (Casa de la Cultura de Albolote) se llevará a cabo la entrega de Ayudas Solidarias 2022 y un espectáculo de flamenco «La Capitana». \nEl precio de las entradas son 5 euros y se venden en el Centro Sociocultural o llamando al 649 939 196. \nEstarán presentes: la Asociación Damas del Pilar de Granada\, Neuroafeic y Héroes Hasta la Médula. \n  \n¡Allí os esperamos a todos/as! \n  \n 
URL:https://www.aelcles.org/evento/iv-acto-solidario-ayudamos-con-tu-ayuda/
ATTACH;FMTTYPE=image/jpeg:https://www.aelcles.org/wp-content/uploads/2022/01/IV-ACTO.jpg
ORGANIZER;CN="HHLM":MAILTO:info@heroeshastalamedula.com
END:VEVENT
BEGIN:VEVENT
DTSTART;TZID=Europe/Madrid:20220204T113000
DTEND;TZID=Europe/Madrid:20220204T193000
DTSTAMP:20260426T014016
CREATED:20220127T170827Z
LAST-MODIFIED:20220127T170827Z
UID:2118-1643974200-1644003000@www.aelcles.org
SUMMARY:Día Mundial Contra el Cáncer
DESCRIPTION:¡Buenas! \nVenimos a deciros que el próximo viernes 4 de febrero\, con motivo del Día Mundial Contra el Cáncer\, la Junta Provincial de Palencia de la AECC organizará una mesa informativa en la Calle Mayor (junto al monumento a la Mujer) desde las 11:30h hasta las 13:30h\, teniendo una presentación a las 12:00h\, momento en el que se convoca a las diferentes autoridades y medios de comunicación. \nEse mismo día a las 19:30h celebraremos una charla en el Centro Cultural Provincial de la Diputación en la plaza de Los Juzgados con representantes de la investigación contra el cáncer\, a la cual también se ha convocado a autoridades médicas\, políticas y medios de comunicación. \n\nEsperamos su asistencia y agradecemos su participación en todos los eventos propuestos desde la asociación para la concienciación de la lucha contra el cáncer. \n  \n¡Os vemos allí!
URL:https://www.aelcles.org/evento/dia-mundial-contra-el-cancer/
CATEGORIES:Presencial
ATTACH;FMTTYPE=image/jpeg:https://www.aelcles.org/wp-content/uploads/2022/01/AECC-Palencia.jpg
END:VEVENT
BEGIN:VEVENT
DTSTART;TZID=Europe/Madrid:20220201T173000
DTEND;TZID=Europe/Madrid:20220201T183000
DTSTAMP:20260426T014016
CREATED:20220113T085926Z
LAST-MODIFIED:20220113T085926Z
UID:2067-1643736600-1643740200@www.aelcles.org
SUMMARY:Café con Hematología.
DESCRIPTION:¡Buenas a todos! \nEste martes 1 de febrero a las 17:30 horas tendremos el Café con Hematología.  \nUn «café virtual» junto a un grupo de pacientes y con un hematólogo que resolverá nuestras dudas. A veces también nos acompañarán otros profesionales sanitarios. \nResuelve tus dudas\, cuéntanos tu experiencia o simplemente tómate un café con nosotros. \nPodrás entrar a través de jit si meet\, poniendo la clave: ADMOBU o desde el link https://meet.jit.si/ADMOBU \n¡No olvidéis nuestra cita!
URL:https://www.aelcles.org/evento/cafe-con-hematologia-8/
CATEGORIES:online
ATTACH;FMTTYPE=image/jpeg:https://www.aelcles.org/wp-content/uploads/2021/10/Café_Hematología.jpeg
END:VEVENT
BEGIN:VEVENT
DTSTART;VALUE=DATE:20220129
DTEND;VALUE=DATE:20220216
DTSTAMP:20260426T014016
CREATED:20220129T124022Z
LAST-MODIFIED:20220129T124156Z
UID:2132-1643414400-1644969599@www.aelcles.org
SUMMARY:Concurso de Postales
DESCRIPTION:Con motivo del día mundial contra el cáncer infantil\, la asociación UCCTA organiza un concurso de postales para los centros educativos de infantil y primaria de la provincia de Zamora. \nEn el cartel tienes las indicaciones. \n¡Anímate a participar!
URL:https://www.aelcles.org/evento/concurso-de-postales/
CATEGORIES:Concurso
ATTACH;FMTTYPE=image/jpeg:https://www.aelcles.org/wp-content/uploads/2022/01/UCA.jpeg
END:VEVENT
BEGIN:VEVENT
DTSTART;TZID=Europe/Madrid:20220128T110000
DTEND;TZID=Europe/Madrid:20220128T120000
DTSTAMP:20260426T014016
CREATED:20220121T120607Z
LAST-MODIFIED:20220121T120607Z
UID:2104-1643367600-1643371200@www.aelcles.org
SUMMARY:Café con ASCOL
DESCRIPTION:¡Hola! \nDe lunes a viernes\, de 11:00 a 12:00 horas y de 17:00 a 18:00 horas\, tienes una cita para disfrutar de un Café con ASCOL . \n#AyudarTambienSeLlevaEnLaSangre. \nEn https://meet.jit.si/Ascol  \n¡Allí te esperamos!
URL:https://www.aelcles.org/evento/cafe-con-ascol-18/
CATEGORIES:online
ATTACH;FMTTYPE=image/jpeg:https://www.aelcles.org/wp-content/uploads/2022/01/Cafe-con-ASCOL.jpg
END:VEVENT
BEGIN:VEVENT
DTSTART;TZID=Europe/Madrid:20220127T170000
DTEND;TZID=Europe/Madrid:20220127T180000
DTSTAMP:20260426T014016
CREATED:20220121T120516Z
LAST-MODIFIED:20220121T120516Z
UID:2102-1643302800-1643306400@www.aelcles.org
SUMMARY:Café con ASCOL
DESCRIPTION:¡Hola! \nDe lunes a viernes\, de 11:00 a 12:00 horas y de 17:00 a 18:00 horas\, tienes una cita para disfrutar de un Café con ASCOL . \n#AyudarTambienSeLlevaEnLaSangre. \nEn https://meet.jit.si/Ascol  \n¡Allí te esperamos!
URL:https://www.aelcles.org/evento/cafe-con-ascol-17/
CATEGORIES:online
ATTACH;FMTTYPE=image/jpeg:https://www.aelcles.org/wp-content/uploads/2022/01/Cafe-con-ASCOL.jpg
END:VEVENT
BEGIN:VEVENT
DTSTART;TZID=Europe/Madrid:20220126T170000
DTEND;TZID=Europe/Madrid:20220126T180000
DTSTAMP:20260426T014016
CREATED:20220121T120330Z
LAST-MODIFIED:20220121T120330Z
UID:2096-1643216400-1643220000@www.aelcles.org
SUMMARY:Café con ASCOL
DESCRIPTION:¡Hola! \nDe lunes a viernes\, de 11:00 a 12:00 horas y de 17:00 a 18:00 horas\, tienes una cita para disfrutar de un Café con ASCOL . \n#AyudarTambienSeLlevaEnLaSangre. \nEn https://meet.jit.si/Ascol  \n¡Allí te esperamos!
URL:https://www.aelcles.org/evento/cafe-con-ascol-15/
CATEGORIES:online
ATTACH;FMTTYPE=image/jpeg:https://www.aelcles.org/wp-content/uploads/2022/01/Cafe-con-ASCOL.jpg
END:VEVENT
BEGIN:VEVENT
DTSTART;TZID=Europe/Madrid:20220125T180000
DTEND;TZID=Europe/Madrid:20220125T180000
DTSTAMP:20260426T014016
CREATED:20220121T112509Z
LAST-MODIFIED:20220121T112509Z
UID:2079-1643133600-1643133600@www.aelcles.org
SUMMARY:El reto social del cáncer de ovario.
DESCRIPTION:¡Buenas a todos y todas! \nOs esperamos el próximo martes 25 de enero de 2022 a las 18h CET en el directo de Fundación más que ideas para hablar de ‘El reto social del cáncer de ovario’. \nSe hará con la ayuda de la Doctora Herrero\, Diego Villalón y Charo Hierro. \nTe esperamos en la cuenta de @dra_herrero  \n  \n¡Allí nos vemos!
URL:https://www.aelcles.org/evento/el-reto-social-del-cancer-de-ovario/
CATEGORIES:Directo Instagram,online
ATTACH;FMTTYPE=image/jpeg:https://www.aelcles.org/wp-content/uploads/2022/01/El-reto-del-cancer-de-ovario.jpg
END:VEVENT
BEGIN:VEVENT
DTSTART;TZID=Europe/Madrid:20220125T110000
DTEND;TZID=Europe/Madrid:20220125T120000
DTSTAMP:20260426T014016
CREATED:20220121T120450Z
LAST-MODIFIED:20220121T120450Z
UID:2100-1643108400-1643112000@www.aelcles.org
SUMMARY:Café con ASCOL
DESCRIPTION:¡Hola! \nDe lunes a viernes\, de 11:00 a 12:00 horas y de 17:00 a 18:00 horas\, tienes una cita para disfrutar de un Café con ASCOL . \n#AyudarTambienSeLlevaEnLaSangre. \nEn https://meet.jit.si/Ascol  \n¡Allí te esperamos!
URL:https://www.aelcles.org/evento/cafe-con-ascol-16/
CATEGORIES:online
ATTACH;FMTTYPE=image/jpeg:https://www.aelcles.org/wp-content/uploads/2022/01/Cafe-con-ASCOL.jpg
END:VEVENT
BEGIN:VEVENT
DTSTART;TZID=Europe/Madrid:20220124T170000
DTEND;TZID=Europe/Madrid:20220124T170000
DTSTAMP:20260426T014016
CREATED:20220120T111546Z
LAST-MODIFIED:20220120T111546Z
UID:2076-1643043600-1643043600@www.aelcles.org
SUMMARY:Taller de GESTIÓN EMOCIONAL
DESCRIPTION:Qué tal \, cómo estás ? De nuevo Pausoz Pauso con todos vosotros. \n?? Invitación al Taller de GESTIÓN EMOCIONAL\, LUNES 24 DE ENERO A LAS 17:00 h \, ONLINE\n?Enero\, de nuevo con vosotros y con muchas ganas hemos organizado este taller de Gestión Emocional que además contará con algunas novedades. \nPara los que no los conocéis en estos talleres no se trata únicamente de impartir conceptos teóricos y de ceñirse a estos. Pretendemos proporcionar además herramientas de gestión de nuestras emociones\, enseñar el modo de utilizarlas correctamente y (solamente tras haberlas comprendido) de cómo aplicarlas en la vida diaria. Con todo ello\, conseguiremos mejorar nuestras relaciones afectivas y responder de forma adaptativa a las diversas situaciones de nuestro día a día.\nOs esperamos\nInfo e inscripciones para participar y recibir el enlace de Zoom. \n?688 772 584 o por ?
URL:https://www.aelcles.org/evento/taller-de-gestion-emocional-2/
CATEGORIES:online,Taller
ATTACH;FMTTYPE=image/jpeg:https://www.aelcles.org/wp-content/uploads/2022/01/Pausoz_Pauso.jpeg
END:VEVENT
BEGIN:VEVENT
DTSTART;TZID=Europe/Madrid:20220124T110000
DTEND;TZID=Europe/Madrid:20220124T120000
DTSTAMP:20260426T014016
CREATED:20220121T120050Z
LAST-MODIFIED:20220121T120050Z
UID:2092-1643022000-1643025600@www.aelcles.org
SUMMARY:Café con ASCOL
DESCRIPTION:¡Hola! \nDe lunes a viernes\, de 11:00 a 12:00 horas y de 17:00 a 18:00 horas\, tienes una cita para disfrutar de un Café con ASCOL . \n#AyudarTambienSeLlevaEnLaSangre. \nEn https://meet.jit.si/Ascol  \n¡Allí te esperamos!
URL:https://www.aelcles.org/evento/cafe-con-ascol-14/
CATEGORIES:online
ATTACH;FMTTYPE=image/jpeg:https://www.aelcles.org/wp-content/uploads/2022/01/Cafe-con-ASCOL.jpg
END:VEVENT
BEGIN:VEVENT
DTSTART;TZID=Europe/Madrid:20220122T113000
DTEND;TZID=Europe/Madrid:20220122T113000
DTSTAMP:20260426T014016
CREATED:20220121T115118Z
LAST-MODIFIED:20220121T115118Z
UID:2085-1642851000-1642851000@www.aelcles.org
SUMMARY:Rifa del Marrano de San Antón
DESCRIPTION:El 22 de enero de 2022 se celebrará la Rifa de San Antón en Beneficio de ASCOL desde el Ayuntamiento de La Alberca el próximo 22 de enero. Empezará sobre las 11:30h en la plaza del pueblo y contará con la presencia de un representante de la Universidad de Salamanca en calidad de padrino y de nuestra asociación\, entre otros. \n#AyudarTambiénSeLlevaEnLaSangre. \n  \n 
URL:https://www.aelcles.org/evento/rifa-del-marrano-de-san-anton/
ATTACH;FMTTYPE=image/jpeg:https://www.aelcles.org/wp-content/uploads/2022/01/Rifa-de-San-Anton.jpg
ORGANIZER;CN="ASCOL":MAILTO:ascol.1992@gmail.com
END:VEVENT
BEGIN:VEVENT
DTSTART;TZID=Europe/Madrid:20220121T190000
DTEND;TZID=Europe/Madrid:20220121T190000
DTSTAMP:20260426T014016
CREATED:20220121T133554Z
LAST-MODIFIED:20220121T133800Z
UID:2106-1642791600-1642791600@www.aelcles.org
SUMMARY:III Lección Cajal: De Cajal\, los embriones y el cáncer.
DESCRIPTION:A las 19h habrá una conferencia de una de las investigadoras más importantes del mundo\, Ángela Nieto. En la Sala Paraninfo de la Universidad de Zaragoza. Hasta completar aforo. No hace falta reservar.\nNos descubrirá los secretos y explicará cómo se forma un embrión\, cómo viajan las células y cómo explotando mecanismos del desarrollo embrionario las células tumorales forman las metástasis. Será una charla muy divulgativa\, accesible a todos los públicos.\nTendrá lugar en la sala Paraninfo\, que solo se abre en actos muy especiales. Una sala enorme\, preciosa y con buena ventilación. Respetando aforos. La cultura es segura.
URL:https://www.aelcles.org/evento/iii-leccion-cajal-de-cajal-los-embriones-y-el-cancer/
LOCATION:Sala Paraninfo. Universidad de Zaragoza
CATEGORIES:Presencial
ATTACH;FMTTYPE=image/jpeg:https://www.aelcles.org/wp-content/uploads/2022/01/ASPHER.jpeg
END:VEVENT
BEGIN:VEVENT
DTSTART;TZID=Europe/Madrid:20220121T170000
DTEND;TZID=Europe/Madrid:20220121T180000
DTSTAMP:20260426T014016
CREATED:20220121T115944Z
LAST-MODIFIED:20220121T115944Z
UID:2089-1642784400-1642788000@www.aelcles.org
SUMMARY:Café con ASCOL
DESCRIPTION:¡Hola! \nDe lunes a viernes\, de 11:00 a 12:00 horas y de 17:00 a 18:00 horas\, tienes una cita para disfrutar de un Café con ASCOL . \n#AyudarTambienSeLlevaEnLaSangre. \nEn https://meet.jit.si/Ascol  \n¡Allí te esperamos!
URL:https://www.aelcles.org/evento/cafe-con-ascol-13/
CATEGORIES:online
ATTACH;FMTTYPE=image/jpeg:https://www.aelcles.org/wp-content/uploads/2022/01/Cafe-con-ASCOL.jpg
END:VEVENT
BEGIN:VEVENT
DTSTART;TZID=Europe/Madrid:20220117T190000
DTEND;TZID=Europe/Madrid:20220117T190000
DTSTAMP:20260426T014016
CREATED:20220114T100935Z
LAST-MODIFIED:20220114T101028Z
UID:2058-1642446000-1642446000@www.aelcles.org
SUMMARY:Sobre lo beneficios de la fisioterapia y taller de relajación
DESCRIPTION:¡Nuevo directo en Instagram para hablar sobre nuestro taller de relajación! ?️ 17 de enero. ? 19 horas. ? Instagram @asleuval_valencia No os lo perdáis\, se va a hablar sobre los beneficios de la fisioterapia y el taller de relajación en pacientes y cuidadores. \n 
URL:https://www.aelcles.org/evento/resolviendo-mitos-y-dudas-sobre-la-donacion-de-medula/
CATEGORIES:Directo Instagram
ATTACH;FMTTYPE=image/jpeg:https://www.aelcles.org/wp-content/uploads/2022/01/Asleuval_1_2022.jpeg
END:VEVENT
BEGIN:VEVENT
DTSTART;TZID=Europe/Madrid:20220111T173000
DTEND;TZID=Europe/Madrid:20220111T173000
DTSTAMP:20260426T014016
CREATED:20220111T075543Z
LAST-MODIFIED:20220111T075951Z
UID:2061-1641922200-1641922200@www.aelcles.org
SUMMARY:Café con Hematología.
DESCRIPTION:¡Buenas a todos! \nEste martes 11 de noviembre a las 17:30 horas tendremos el Café con Hematología.  \nUn «café virtual» junto a un grupo de pacientes y con un hematólogo que resolverá nuestras dudas. A veces también nos acompañarán otros profesionales sanitarios. \nResuelve tus dudas\, cuéntanos tu experiencia o simplemente tómate un café con nosotros. \nPodrás entrar a través de jit si meet\, poniendo la clave: ADMOBU o desde el link https://meet.jit.si/ADMOBU \n¡No olvidéis nuestra cita!
URL:https://www.aelcles.org/evento/cafe-con-hematologia-7/
CATEGORIES:online
ATTACH;FMTTYPE=image/jpeg:https://www.aelcles.org/wp-content/uploads/2022/01/Cafe-con-hematologia-11-de-enero.jpg
END:VEVENT
BEGIN:VEVENT
DTSTART;VALUE=DATE:20220111
DTEND;VALUE=DATE:20220112
DTSTAMP:20260426T014016
CREATED:20220111T080047Z
LAST-MODIFIED:20220111T080047Z
UID:2064-1641859200-1641945599@www.aelcles.org
SUMMARY:Taller de Relajación
DESCRIPTION:¡Hola a todos/as!\nDebido a la situación actual del covid-19\, volvemos al taller de relajación en formato online hasta que se estabilice la situación. \nPublicaremos el video del taller el próximo martes\, 11 de enero\, en todas nuestras redes sociales.\nOs ánimos a participar y dedicar un ratito de vuestro día en cuidaros . \nRecomendamos llevar ropa cómoda y situaros en un lugar en el que estéis cómodos y podáis relajaros. \n¡Nos vemos por las redes!
URL:https://www.aelcles.org/evento/taller-de-relajacion-3/
CATEGORIES:online,Taller
ATTACH;FMTTYPE=image/jpeg:https://www.aelcles.org/wp-content/uploads/2022/01/Taller-de-relajacion-11-de-enero.jpg
END:VEVENT
BEGIN:VEVENT
DTSTART;TZID=Europe/Madrid:20211227T190000
DTEND;TZID=Europe/Madrid:20211227T190000
DTSTAMP:20260426T014016
CREATED:20211224T111714Z
LAST-MODIFIED:20211224T111714Z
UID:2051-1640631600-1640631600@www.aelcles.org
SUMMARY:Resolviendo mitos y dudas sobre la donación
DESCRIPTION:¡Hola! \nEl próximo 27 de diciembre a las 19 horas se realizará un directo en el Instagram de Asleuval: @asleuval_valencia\, para resolver mitos y dudas sobre la Donación de Médula Ósea. \nTendremos como protagonistas a Sara Manzano\, Sandra Mora González y Pepa Merino. \n¡No os lo perdáis! ¡Queremos resolver todas las dudas que tengáis sobre la donación de médula!
URL:https://www.aelcles.org/evento/resolviendo-mitos-y-dudas-sobre-la-donacion/
CATEGORIES:Directo Instagram
ATTACH;FMTTYPE=image/jpeg:https://www.aelcles.org/wp-content/uploads/2021/12/Directo-Asleuval-27-de-diciembre-1.jpg
END:VEVENT
BEGIN:VEVENT
DTSTART;TZID=Europe/Madrid:20211227T173000
DTEND;TZID=Europe/Madrid:20211227T173000
DTSTAMP:20260426T014016
CREATED:20211224T111014Z
LAST-MODIFIED:20211224T111014Z
UID:2048-1640626200-1640626200@www.aelcles.org
SUMMARY:Campamento Navideño 2021
DESCRIPTION:¡Buenas a todos/as! \nDesde ADMO EXTREMADURA va a realizarse un campamento navideño para las familias. \nSin embargo\, debido a las circunstancias actuales este se celebrará de manera virtual el 27 de diciembre a las 17:30.  \n¡Os esperamos allí cargados/as de ilusión!
URL:https://www.aelcles.org/evento/campamento-navideno-2021/
CATEGORIES:online
ATTACH;FMTTYPE=image/jpeg:https://www.aelcles.org/wp-content/uploads/2021/12/Campamento-navideno-2021.jpg
END:VEVENT
BEGIN:VEVENT
DTSTART;VALUE=DATE:20211226
DTEND;VALUE=DATE:20211230
DTSTAMP:20260426T014016
CREATED:20211224T105417Z
LAST-MODIFIED:20211224T105417Z
UID:2042-1640476800-1640822399@www.aelcles.org
SUMMARY:Torneo Benéfico de padel
DESCRIPTION:¡Hola! \nDesde Asotrame tenemos del 26 al 29 de diciembre\, un Torneo de pádel\, organizado por el Concello de Pontedemume. \nUna competición solidaria en beneficio de la  asociación. \nEn el torneo\, con categoría única\, participarán un máximo de 16 parejas. Y para apuntarse hay que enviar un e-mail con nombre y apellidos de los dos integrantes de la pareja a deportes@pontedeume.gal.  \n¡No os lo perdáis! \n 
URL:https://www.aelcles.org/evento/torneo-benefico-de-padel/
ATTACH;FMTTYPE=image/jpeg:https://www.aelcles.org/wp-content/uploads/2021/12/Torneo-de-Padel-Asotrame-1.jpg
ORGANIZER;CN="ASOTRAME":MAILTO:asotrame@asotrame.com
END:VEVENT
BEGIN:VEVENT
DTSTART;TZID=Europe/Madrid:20211222T163000
DTEND;TZID=Europe/Madrid:20211222T163000
DTSTAMP:20260426T014016
CREATED:20211220T081401Z
LAST-MODIFIED:20211220T081401Z
UID:2037-1640190600-1640190600@www.aelcles.org
SUMMARY:INVITACIÓN  AL TALLER  DE GESTIÓN EMOCIONAL 
DESCRIPTION:? ? Casi dos años desde que se declaró esta pandemia a nivel mundial. Este largo y complicado tiempo nos está sirviendo para conocer más al ser humano a través de sus ideas\, comportamientos y para conocernos más profundamente cada uno. Hemos modificado la forma de vivir\, cambiado nuestra prioridades dando importancia a cosa nuevas como por ejemplo\, la de tener una red humana de personas cercanas\, y al hecho de participar activamente en ella. En estas redes no solamente nos unimos organizaciones (como nuestra Asociación Pausoz) sino\, en general\, PERSONAS que compartimos objetivos comunes.\nEn esa línea desarrollamos nuestro trabajo desde hace tres años y para ello hemos organizamos estos talleres entre otros. En ellos compartimos con pacientes y familiares un espacio privado de escucha  en el que puedes expresarte con total confianza y donde  ofrecemos apoyo y herramientas  que te irán facilitando el seguir avanzando en tu día a día paso a paso.\n¿Te animas? Te esperamos  y si deseas participar puedes contactar\n?688 772 584  o por ?\npausozpauso2018voluntariado@gmail.com\nwww.pausozpauso.org
URL:https://www.aelcles.org/evento/invitacion-al-taller-de-gestion-emocional/
CATEGORIES:online
ATTACH;FMTTYPE=image/jpeg:https://www.aelcles.org/wp-content/uploads/2021/12/Pausoz.jpeg
END:VEVENT
BEGIN:VEVENT
DTSTART;TZID=Europe/Madrid:20211217T183000
DTEND;TZID=Europe/Madrid:20211217T183000
DTSTAMP:20260426T014016
CREATED:20211217T095517Z
LAST-MODIFIED:20211217T095639Z
UID:2033-1639765800-1639765800@www.aelcles.org
SUMMARY:La Música es como un Oasis en mi cabeza
DESCRIPTION:¡No te pierdas esta tarde el encuentro de #LaVozDelPaciente! A través de sus voces\, pacientes y profesionales sanitarios darán visibilidad a la #depresión con un repertorio de temas de los Beatles\, la Movida y un villancico. \n  \nDirigido por Marcos Castán\, el coro #LaVozDelPaciente cuenta con miembros de la Asociación de #SaludMental de La Rioja\, @ASAPME\, @FeafesEmpleo\, empleados de Janssen y profesionales sanitarios. Síguelo en directo este viernes desde las 18:30h: conectarte en streaming \n  \n¡Conéctate y suma tu voz!
URL:https://www.aelcles.org/evento/2033/
CATEGORIES:online
ATTACH;FMTTYPE=image/png:https://www.aelcles.org/wp-content/uploads/2021/12/Janssen.png
END:VEVENT
BEGIN:VEVENT
DTSTART;TZID=Europe/Madrid:20211217T100000
DTEND;TZID=Europe/Madrid:20211217T210000
DTSTAMP:20260426T014016
CREATED:20211203T095440Z
LAST-MODIFIED:20211203T095440Z
UID:1994-1639735200-1639774800@www.aelcles.org
SUMMARY:MESA SOLIDARIA DE NAVIDAD
DESCRIPTION:ATMOS te invita a su mesa solidaria\, donde conseguirás muchas y muy buenas ideas para tus regalos de navidad. \n 
URL:https://www.aelcles.org/evento/mesa-solidaria-de-navidad/
LOCATION:Centro Comercial METROMAR
CATEGORIES:Mercadillo
ATTACH;FMTTYPE=image/jpeg:https://www.aelcles.org/wp-content/uploads/2021/12/ATMOS.jpeg
END:VEVENT
BEGIN:VEVENT
DTSTART;TZID=Europe/Madrid:20211216T170000
DTEND;TZID=Europe/Madrid:20211216T180000
DTSTAMP:20260426T014016
CREATED:20211213T155923Z
LAST-MODIFIED:20211213T155923Z
UID:2030-1639674000-1639677600@www.aelcles.org
SUMMARY:Club de lectura Asotrame.
DESCRIPTION:El día 16 de diciembre de 2021 vuelve una nueva cita del club de lectura de Asotrame. En esta ocasión\, el libro sobre el que hablaremos será «Los ingratos»- Premio Primavera de Novela 2021- del escritor y periodista Pedro Simón. \nAún tienes tiempo de leer esta obra que está cargada de emoción y sumarte al encuentro. Se hará por Zoom y\, con la intención de celebrar la Navidad\, también de forma presencial en Culleredo de 17 a 18 horas.  \n¡Vente a compartir la ilusión y la maravilla de la lectura! \n 
URL:https://www.aelcles.org/evento/club-de-lectura-asotrame/
CATEGORIES:online
ATTACH;FMTTYPE=image/jpeg:https://www.aelcles.org/wp-content/uploads/2021/12/Club-de-lectura-Asotrame.jpg
ORGANIZER;CN="ASOTRAME":MAILTO:asotrame@asotrame.com
END:VEVENT
BEGIN:VEVENT
DTSTART;TZID=Europe/Madrid:20211214T173000
DTEND;TZID=Europe/Madrid:20211214T183000
DTSTAMP:20260426T014016
CREATED:20211102T181516Z
LAST-MODIFIED:20211102T183526Z
UID:1945-1639503000-1639506600@www.aelcles.org
SUMMARY:Café con Hematología
DESCRIPTION:NO TE CONFUNDAS Y TE LO PIERDAS.\nComo el primer martes coincide con el puente\, este mes lo hemos pasado al segundo martes.\nUn «café virtual» junto a un grupo de pacientes y con un hematólogo que resolverá nuestras dudas. A veces también nos acompañarán otros profesionales sanitarios. \nResuelve tus dudas\, cuéntanos tu experiencia o simplemente tómate un café con nosotros. \nPodrás entrar a través de jit si meet\, poniendo la clave: ADMOBU o desde el link https://meet.jit.si/ADMOBU \nTenemos una cita contigo ¡Allí te esperamos!
URL:https://www.aelcles.org/evento/cafe-con-hematologia-6/
CATEGORIES:online
ATTACH;FMTTYPE=image/jpeg:https://www.aelcles.org/wp-content/uploads/2021/10/Café_Hematología.jpeg
END:VEVENT
BEGIN:VEVENT
DTSTART;TZID=Europe/Madrid:20211213T180000
DTEND;TZID=Europe/Madrid:20211213T190500
DTSTAMP:20260426T014016
CREATED:20211204T194042Z
LAST-MODIFIED:20211204T194836Z
UID:2006-1639418400-1639422300@www.aelcles.org
SUMMARY:Claves en el diagnóstico de Enfermedades Hematológicas
DESCRIPTION:Os esperamos en este interesante congreso en el que se hablará sobre la Citogenética de la Leucemia Linfática Crónica y el Mieloma Múltiple y sobre la Biopsia Líquida \nInscripción\n 
URL:https://www.aelcles.org/evento/claves-en-el-diagnostico-de-enfermedades-hematologicas/
CATEGORIES:Webinar
ATTACH;FMTTYPE=image/jpeg:https://www.aelcles.org/wp-content/uploads/2021/12/ASPHER_congreso.jpeg
ORGANIZER;CN="ASPHER":MAILTO:info@aspher.es
END:VEVENT
BEGIN:VEVENT
DTSTART;TZID=Europe/Madrid:20211213T110000
DTEND;TZID=Europe/Madrid:20211219T190000
DTSTAMP:20260426T014016
CREATED:20211213T155307Z
LAST-MODIFIED:20211213T155307Z
UID:2026-1639393200-1639940400@www.aelcles.org
SUMMARY:16º Congreso iberoamericano de pacientes con cáncer
DESCRIPTION:¡Buenas a todos/as! Desde hoy 13 de diciembre hasta el 19 de dicembre se va a llevar a cabo un congreso por Gepac y otras entidades\, donde hablarán varios expertos en oncología. \nDejamos por aquí el programa para que puedan ver las charlas y mesas que se irán desarrollando a lo largo de estos días: http://congreso.gepac.es/pdf/PROGRAMA_16_CONGRESO_GEPAC.pdf  \nPuedes inscribirte desde este link: http://congreso.gepac.es/  \n¡Allí te esperamos!
URL:https://www.aelcles.org/evento/16o-congreso-iberoamericano-de-pacientes-con-cancer/
CATEGORIES:Congreso,online
ATTACH;FMTTYPE=image/jpeg:https://www.aelcles.org/wp-content/uploads/2021/12/Gepac-16-congreso.jpg
END:VEVENT
BEGIN:VEVENT
DTSTART;TZID=Europe/Madrid:20211211T120000
DTEND;TZID=Europe/Madrid:20211211T140000
DTSTAMP:20260426T014016
CREATED:20211209T125212Z
LAST-MODIFIED:20211209T125212Z
UID:2022-1639224000-1639231200@www.aelcles.org
SUMMARY:Consejos para una Navidad más saludable
DESCRIPTION:En este taller de nutrición online se darán algunos consejos para una navidad más saludable. \nPuedes inscribirte en: nutricion@asleuval.org \nO llamando al teléfono: 698941376
URL:https://www.aelcles.org/evento/consejos-para-una-navidad-mas-saludable/
CATEGORIES:Taller
ATTACH;FMTTYPE=image/jpeg:https://www.aelcles.org/wp-content/uploads/2021/12/Nutrición_ASLEUVAL.jpeg
END:VEVENT
BEGIN:VEVENT
DTSTART;TZID=Europe/Madrid:20211204T100000
DTEND;TZID=Europe/Madrid:20211204T140000
DTSTAMP:20260426T014016
CREATED:20211203T102322Z
LAST-MODIFIED:20211209T125413Z
UID:2002-1638612000-1638626400@www.aelcles.org
SUMMARY:Día internacional del voluntariado
DESCRIPTION:¡Buenas a todos/as! el día 5 de diciembre se celebra el Día Internacional del Voluntariado. \nCon motivo de este día\, la Plataforma de Voluntariado de la Comunidad Valenciana ha organizado una celebración el sábado 4 de diciembre en el tramo 11 del río\, frente al Palau de la Música. \nLa Asociación Asleuval estará presente con una mesa informativa\, animaros a pasar a visitarnos y ver todo lo que se va a realizar durante la mañana. \nSerá de 10 a 14 horas y habrá batucada\, 12 talleres para todas las edades\, la lectura del manifiesto del voluntariado y nuestra mesa informativa. \n¡Allí os esperamos!
URL:https://www.aelcles.org/evento/dia-internacional-del-voluntariado/
ATTACH;FMTTYPE=image/jpeg:https://www.aelcles.org/wp-content/uploads/2021/12/Asleuval-4-de-diciembre-dia-del-voluntariado-e1638526924829.jpg
END:VEVENT
BEGIN:VEVENT
DTSTART;TZID=Europe/Madrid:20211130T173000
DTEND;TZID=Europe/Madrid:20211130T193000
DTSTAMP:20260426T014016
CREATED:20211126T083418Z
LAST-MODIFIED:20211126T083738Z
UID:1983-1638293400-1638300600@www.aelcles.org
SUMMARY:enREDados
DESCRIPTION:Inscríbete aquí: \nhttps://eventospfizer.es/em/gente-2/register \nSegunda edición de la reunión GENTE. En esta sesión se explicarán nuevamente\, de forma amena\, clara y sencilla\, algunos conceptos de genética y las bases e implicaciones de la Terapia Génica\, con el objetivo de facilitar una mayor comprensión de estas terapias y teniendo siempre en cuenta que\, en caso de duda\, hay que recurrir a las fuentes de información más fiables: a los profesionales adecuados.\nPara ello\, contamos con un panel de expertos que ayudarán a hacer más comprensible este nuevo campo de la medicina genética\, además de testimonios de representantes de asociaciones de pacientes de enfermedades raras de origen genético. Finalmente\, habrá un diálogo en el que se debatirá sobre las fake news en torno a la Terapia Génica. Contamos para este webinar con un elenco de ponentes\, expertos en sus campos y que ayudarán a hacer más comprensible este nuevo campo de la medicina genética. Esucharemos también los testimonios de representantes de asociaciones de pacientes de enfermedades raras de origen genético.
URL:https://www.aelcles.org/evento/enredados/
CATEGORIES:Webinar
ATTACH;FMTTYPE=image/png:https://www.aelcles.org/wp-content/uploads/2021/11/Captura-de-pantalla-2021-11-26-a-las-9.35.54.png
END:VEVENT
END:VCALENDAR