BEGIN:VCALENDAR
VERSION:2.0
PRODID:-//AELCLÉS - ECPv6.15.20//NONSGML v1.0//EN
CALSCALE:GREGORIAN
METHOD:PUBLISH
X-WR-CALNAME:AELCLÉS
X-ORIGINAL-URL:https://www.aelcles.org
X-WR-CALDESC:Eventos para AELCLÉS
REFRESH-INTERVAL;VALUE=DURATION:PT1H
X-Robots-Tag:noindex
X-PUBLISHED-TTL:PT1H
BEGIN:VTIMEZONE
TZID:Europe/Madrid
BEGIN:DAYLIGHT
TZOFFSETFROM:+0100
TZOFFSETTO:+0200
TZNAME:CEST
DTSTART:20220327T010000
END:DAYLIGHT
BEGIN:STANDARD
TZOFFSETFROM:+0200
TZOFFSETTO:+0100
TZNAME:CET
DTSTART:20221030T010000
END:STANDARD
BEGIN:DAYLIGHT
TZOFFSETFROM:+0100
TZOFFSETTO:+0200
TZNAME:CEST
DTSTART:20230326T010000
END:DAYLIGHT
BEGIN:STANDARD
TZOFFSETFROM:+0200
TZOFFSETTO:+0100
TZNAME:CET
DTSTART:20231029T010000
END:STANDARD
BEGIN:DAYLIGHT
TZOFFSETFROM:+0100
TZOFFSETTO:+0200
TZNAME:CEST
DTSTART:20240331T010000
END:DAYLIGHT
BEGIN:STANDARD
TZOFFSETFROM:+0200
TZOFFSETTO:+0100
TZNAME:CET
DTSTART:20241027T010000
END:STANDARD
END:VTIMEZONE
BEGIN:VEVENT
DTSTART;TZID=Europe/Madrid:20231121T170000
DTEND;TZID=Europe/Madrid:20231121T183000
DTSTAMP:20260424T221727
CREATED:20231119T220541Z
LAST-MODIFIED:20231119T220541Z
UID:3333-1700586000-1700591400@www.aelcles.org
SUMMARY:Momento del Movimiento
DESCRIPTION:Desde AELCLÉS queremos acercar los conocimientos de la fisioterapia a pacientes que hayan pasado por un cáncer hematológico. No se trata de una consulta fisioterapéutica\, sino un espacio en el que el fisioterapeuta nos explique un aspecto concreto de interés general para nuestros pacientes y dejaremos un espacio para que los pacientes pregunten sus dudas y puedan resolverse de manera sencilla.
URL:https://www.aelcles.org/evento/momento-del-movimiento-12/
ATTACH;FMTTYPE=image/jpeg:https://www.aelcles.org/wp-content/uploads/2023/11/MOMENTO-DEL-MOVIMIENTO.jpg
END:VEVENT
BEGIN:VEVENT
DTSTART;TZID=Europe/Madrid:20231115T170000
DTEND;TZID=Europe/Madrid:20231115T180000
DTSTAMP:20260424T221727
CREATED:20231107T200245Z
LAST-MODIFIED:20231107T200245Z
UID:3316-1700067600-1700071200@www.aelcles.org
SUMMARY:Mi tiempo para Mi: REUNIÓN MIELOMA
DESCRIPTION:Especialmente dedicado a pacientes con Mieloma Múltiple. \nTendremos un encuentro entre iguales en el que podremos hablar con otros pacientes que también tengan Mieloma Múltiple. \nPuedes conectarte a través de la plataforma meet.jit.si/aelclés. \nSi quieres saber más\, no dudes en ponerte en contacto con nosotros en el correo: psicologia@aelcles.org o a través del teléfono: +34 641 496 702. \n 
URL:https://www.aelcles.org/evento/mi-tiempo-para-mi-reunion-mieloma-27/
CATEGORIES:online
ATTACH;FMTTYPE=image/png:https://www.aelcles.org/wp-content/uploads/2022/11/Mi-tiempo-para-mi-Post-para-Instagram-cuadrado-1.png
ORGANIZER;CN="AELCLES":MAILTO:info@aelcles.org
END:VEVENT
BEGIN:VEVENT
DTSTART;TZID=Europe/Madrid:20231107T053000
DTEND;TZID=Europe/Madrid:20231107T183000
DTSTAMP:20260424T221727
CREATED:20230516T152744Z
LAST-MODIFIED:20231107T175922Z
UID:3077-1699335000-1699381800@www.aelcles.org
SUMMARY:CAFÉ CON HEMATOLOGÍA
DESCRIPTION:Alguna duda en cuanto a tu salud\, tu tratamiento\, tu familiar… Estamos para pasar un rato entre personas que pasan por algo parecido o igual a lo que te pasa a tí o a alguien que quieres. \nConéctate al café virtual que ayuda a calmar tu ansiedad por tu falta de información.\n☕☕☕☕☕☕☕☕ \nHaz clic en el enlace para unirte a la reunión   Pulsa aquí
URL:https://www.aelcles.org/evento/cafe-con-hematologia-19/
ATTACH;FMTTYPE=image/jpeg:https://www.aelcles.org/wp-content/uploads/2023/05/WhatsApp-Image-2023-11-03-at-21.46.52.jpeg
END:VEVENT
BEGIN:VEVENT
DTSTART;TZID=Europe/Madrid:20231031T173000
DTEND;TZID=Europe/Madrid:20231031T183000
DTSTAMP:20260424T221727
CREATED:20230221T110058Z
LAST-MODIFIED:20231107T181416Z
UID:3058-1698773400-1698777000@www.aelcles.org
SUMMARY:MI HILO ROJO
DESCRIPTION:El último martes del mes tenemos un encuentro entre pacientes y familiares para comentar sus experiencias. \nAnímate a participar\, solo tienes que entrar en la siguiente dirección:  https://meet.jit.si/aelcles \nTe esperamos!!!
URL:https://www.aelcles.org/evento/mi-hilo-rojo-12/
ATTACH;FMTTYPE=image/jpeg:https://www.aelcles.org/wp-content/uploads/2023/05/WhatsApp-Image-2023-11-07-at-18.34.02.jpeg
END:VEVENT
BEGIN:VEVENT
DTSTART;TZID=Europe/Madrid:20231025T170000
DTEND;TZID=Europe/Madrid:20231025T180000
DTSTAMP:20260424T221727
CREATED:20231107T200036Z
LAST-MODIFIED:20231107T200036Z
UID:3313-1698253200-1698256800@www.aelcles.org
SUMMARY:Mi tiempo para Mi: REUNIÓN MIELOMA
DESCRIPTION:Especialmente dedicado a pacientes con Mieloma Múltiple. \nTendremos un encuentro entre iguales en el que podremos hablar con otros pacientes que también tengan Mieloma Múltiple. \nPuedes conectarte a través de la plataforma meet.jit.si/aelclés. \nSi quieres saber más\, no dudes en ponerte en contacto con nosotros en el correo: psicologia@aelcles.org o a través del teléfono: +34 641 496 702. \n 
URL:https://www.aelcles.org/evento/mi-tiempo-para-mi-reunion-mieloma-26/
CATEGORIES:online
ATTACH;FMTTYPE=image/jpeg:https://www.aelcles.org/wp-content/uploads/2023/03/WhatsApp-Image-2023-11-07-at-20.22.42.jpeg
ORGANIZER;CN="AELCLES":MAILTO:info@aelcles.org
END:VEVENT
BEGIN:VEVENT
DTSTART;TZID=Europe/Madrid:20231018T170000
DTEND;TZID=Europe/Madrid:20231018T180000
DTSTAMP:20260424T221727
CREATED:20231107T200007Z
LAST-MODIFIED:20231107T200007Z
UID:3312-1697648400-1697652000@www.aelcles.org
SUMMARY:Mi tiempo para Mi: REUNIÓN MIELOMA
DESCRIPTION:Especialmente dedicado a pacientes con Mieloma Múltiple. \nTendremos un encuentro entre iguales en el que podremos hablar con otros pacientes que también tengan Mieloma Múltiple. \nPuedes conectarte a través de la plataforma meet.jit.si/aelclés. \nSi quieres saber más\, no dudes en ponerte en contacto con nosotros en el correo: psicologia@aelcles.org o a través del teléfono: +34 641 496 702. \n 
URL:https://www.aelcles.org/evento/mi-tiempo-para-mi-reunion-mieloma-25/
CATEGORIES:online
ATTACH;FMTTYPE=image/jpeg:https://www.aelcles.org/wp-content/uploads/2022/05/WhatsApp-Image-2023-10-27-at-20.53.52.jpeg
ORGANIZER;CN="AELCLES":MAILTO:info@aelcles.org
END:VEVENT
BEGIN:VEVENT
DTSTART;TZID=Europe/Madrid:20231011T170000
DTEND;TZID=Europe/Madrid:20231011T180000
DTSTAMP:20260424T221727
CREATED:20231107T195825Z
LAST-MODIFIED:20231107T195825Z
UID:3309-1697043600-1697047200@www.aelcles.org
SUMMARY:Mi tiempo para Mi: REUNIÓN MIELOMA
DESCRIPTION:Especialmente dedicado a pacientes con Mieloma Múltiple. \nTendremos un encuentro entre iguales en el que podremos hablar con otros pacientes que también tengan Mieloma Múltiple. \nPuedes conectarte a través de la plataforma meet.jit.si/aelclés. \nSi quieres saber más\, no dudes en ponerte en contacto con nosotros en el correo: psicologia@aelcles.org o a través del teléfono: +34 641 496 702. \n 
URL:https://www.aelcles.org/evento/mi-tiempo-para-mi-reunion-mieloma-24/
CATEGORIES:online
ATTACH;FMTTYPE=image/jpeg:https://www.aelcles.org/wp-content/uploads/2023/03/WhatsApp-Image-2023-11-07-at-20.22.42.jpeg
ORGANIZER;CN="AELCLES":MAILTO:info@aelcles.org
END:VEVENT
BEGIN:VEVENT
DTSTART;TZID=Europe/Madrid:20231003T173000
DTEND;TZID=Europe/Madrid:20231003T183000
DTSTAMP:20260424T221727
CREATED:20230221T111006Z
LAST-MODIFIED:20231107T185656Z
UID:3060-1696354200-1696357800@www.aelcles.org
SUMMARY:CAFÉ CON HEMATOLOGÍA
DESCRIPTION:Alguna duda en cuanto a tu salud\, tu tratamiento\, tu familiar… Estamos para pasar un rato entre personas que pasan por algo parecido o igual a lo que te pasa a tí o a alguien que quieres. \nConéctate al café virtual que ayuda a calmar tu ansiedad por tu falta de información.\n☕☕☕☕☕☕☕☕ \nHaz clic en el enlace para unirte a la reunión   Pulsa aquí
URL:https://www.aelcles.org/evento/cafe-con-hematologia-18/
ATTACH;FMTTYPE=image/jpeg:https://www.aelcles.org/wp-content/uploads/2023/02/WhatsApp-Image-2023-11-07-at-19.39.12.jpeg
END:VEVENT
BEGIN:VEVENT
DTSTART;TZID=Europe/Madrid:20230927T170000
DTEND;TZID=Europe/Madrid:20230927T180000
DTSTAMP:20260424T221727
CREATED:20231107T195749Z
LAST-MODIFIED:20231107T195749Z
UID:3308-1695834000-1695837600@www.aelcles.org
SUMMARY:Mi tiempo para Mi: REUNIÓN MIELOMA
DESCRIPTION:Especialmente dedicado a pacientes con Mieloma Múltiple. \nTendremos un encuentro entre iguales en el que podremos hablar con otros pacientes que también tengan Mieloma Múltiple. \nPuedes conectarte a través de la plataforma meet.jit.si/aelclés. \nSi quieres saber más\, no dudes en ponerte en contacto con nosotros en el correo: psicologia@aelcles.org o a través del teléfono: +34 641 496 702. \n 
URL:https://www.aelcles.org/evento/mi-tiempo-para-mi-reunion-mieloma-23/
CATEGORIES:online
ATTACH;FMTTYPE=image/jpeg:https://www.aelcles.org/wp-content/uploads/2022/05/WhatsApp-Image-2023-10-27-at-20.53.52.jpeg
ORGANIZER;CN="AELCLES":MAILTO:info@aelcles.org
END:VEVENT
BEGIN:VEVENT
DTSTART;TZID=Europe/Madrid:20230926T173000
DTEND;TZID=Europe/Madrid:20230926T183000
DTSTAMP:20260424T221727
CREATED:20231107T185353Z
LAST-MODIFIED:20231107T185353Z
UID:3264-1695749400-1695753000@www.aelcles.org
SUMMARY:MI HILO ROJO
DESCRIPTION:El último martes del mes tenemos un encuentro entre pacientes y familiares para comentar sus experiencias. \nAnímate a participar\, solo tienes que entrar en la siguiente dirección:  https://meet.jit.si/aelcles \nTe esperamos!!!
URL:https://www.aelcles.org/evento/mi-hilo-rojo-15/
ATTACH;FMTTYPE=image/jpeg:https://www.aelcles.org/wp-content/uploads/2023/05/WhatsApp-Image-2023-11-07-at-18.34.02.jpeg
END:VEVENT
BEGIN:VEVENT
DTSTART;TZID=Europe/Madrid:20230922T080000
DTEND;TZID=Europe/Madrid:20230923T203000
DTSTAMP:20260424T221727
CREATED:20230817T173958Z
LAST-MODIFIED:20230817T173958Z
UID:3194-1695369600-1695501000@www.aelcles.org
SUMMARY:CONGRESO NACIONAL DE PACIENTE CON LEUCEMIA MIELOIDE CRÓNICA
DESCRIPTION:Los próximos 22 y 23 de septiembre nuestros compañeros de AELEMIC celebran su  8º Congreso Nacional de Pacientes con LMC\, este año tendrá lugar en el Hospital Universitario y Politécnico La Fe de Valencia.\nDurante dos días contarán con expertos clínicos para hablar de nuevos fármacos en la LMC\, el papel de la biología molecular y la discontinuación y el seguimiento de la enfermedad.\nTambién contarán con talleres prácticos sobre afrontamiento emocional\, ejercicio físico\,\nsexualidad y fertilidad y se resolverán dudas sobre aspectos legales y sociales asociados a la LMC. \nSi eres un paciente con LMC te esperamos en este Congreso gratuito. \nEs una oportunidad para compartir durante 2 días experiencias y aprender de la mano de expertos referentes en la LMC en España. \nPuedes ver el programa del Congreso e inscribirte a través del siguiente enlace:\nhttps://aelemic.org/inscripcion-viii-congreso-nacional-pacientes-de-lmc-aelemic-valencia-2023/
URL:https://www.aelcles.org/evento/congreso-nacional-de-paciente-con-leucemia-mieloide-cronica/
CATEGORIES:Congreso
ATTACH;FMTTYPE=image/jpeg:https://www.aelcles.org/wp-content/uploads/2023/08/WhatsApp-Image-2023-08-17-at-11.46.40.jpeg
END:VEVENT
BEGIN:VEVENT
DTSTART;TZID=Europe/Madrid:20230920T180000
DTEND;TZID=Europe/Madrid:20230920T193000
DTSTAMP:20260424T221727
CREATED:20230820T200005Z
LAST-MODIFIED:20230916T102420Z
UID:3200-1695232800-1695238200@www.aelcles.org
SUMMARY:6º CONGRESO ONLINE AELCLÉS
DESCRIPTION:Anunciamos el 6º congreso online de AELCLÉS\, será el 20 de septiembre a partir de las 18h\, será bajo el título  seguimos avanzando en hematología. \nPuedes inscribirte en este enlace:   https://forms.gle/cPvQ6eVWRnQL4anE9 \nNo te lo puedes perder!!!! \nTODO EL EL PROGRAMA DEL CONGRESO AQUÍ
URL:https://www.aelcles.org/evento/6o-congreso-online-aelcles/
ATTACH;FMTTYPE=application/pdf:https://www.aelcles.org/wp-content/uploads/2023/08/6o_congreso_AELCLES_-1.pdf
ORGANIZER;CN="AELCLES":MAILTO:info@aelcles.org
END:VEVENT
BEGIN:VEVENT
DTSTART;TZID=Europe/Madrid:20230920T170000
DTEND;TZID=Europe/Madrid:20230920T180000
DTSTAMP:20260424T221727
CREATED:20231107T195453Z
LAST-MODIFIED:20231107T195602Z
UID:3305-1695229200-1695232800@www.aelcles.org
SUMMARY:Mi tiempo para Mi: REUNIÓN MIELOMA
DESCRIPTION:Especialmente dedicado a pacientes con Mieloma Múltiple. \nTendremos un encuentro entre iguales en el que podremos hablar con otros pacientes que también tengan Mieloma Múltiple. \nPuedes conectarte a través de la plataforma meet.jit.si/aelclés. \nSi quieres saber más\, no dudes en ponerte en contacto con nosotros en el correo: psicologia@aelcles.org o a través del teléfono: +34 641 496 702. \n 
URL:https://www.aelcles.org/evento/mi-tiempo-para-mi-reunion-mieloma-21/
CATEGORIES:online
ATTACH;FMTTYPE=image/jpeg:https://www.aelcles.org/wp-content/uploads/2023/03/WhatsApp-Image-2023-11-07-at-20.22.42.jpeg
ORGANIZER;CN="AELCLES":MAILTO:info@aelcles.org
END:VEVENT
BEGIN:VEVENT
DTSTART;TZID=Europe/Madrid:20230913T170000
DTEND;TZID=Europe/Madrid:20230913T180000
DTSTAMP:20260424T221727
CREATED:20231107T195542Z
LAST-MODIFIED:20231107T195542Z
UID:3304-1694624400-1694628000@www.aelcles.org
SUMMARY:Mi tiempo para Mi: REUNIÓN MIELOMA
DESCRIPTION:Especialmente dedicado a pacientes con Mieloma Múltiple. \nTendremos un encuentro entre iguales en el que podremos hablar con otros pacientes que también tengan Mieloma Múltiple. \nPuedes conectarte a través de la plataforma meet.jit.si/aelclés. \nSi quieres saber más\, no dudes en ponerte en contacto con nosotros en el correo: psicologia@aelcles.org o a través del teléfono: +34 641 496 702. \n 
URL:https://www.aelcles.org/evento/mi-tiempo-para-mi-reunion-mieloma-22/
CATEGORIES:online
ATTACH;FMTTYPE=image/jpeg:https://www.aelcles.org/wp-content/uploads/2023/03/WhatsApp-Image-2023-11-07-at-20.22.42.jpeg
ORGANIZER;CN="AELCLES":MAILTO:info@aelcles.org
END:VEVENT
BEGIN:VEVENT
DTSTART;TZID=Europe/Madrid:20230705T170000
DTEND;TZID=Europe/Madrid:20230705T180000
DTSTAMP:20260424T221727
CREATED:20230610T110729Z
LAST-MODIFIED:20230628T193901Z
UID:3102-1688576400-1688580000@www.aelcles.org
SUMMARY:Diagnóstico: Leucemias Agudas
DESCRIPTION:¡Encuentros virtuales entre pacientes\, familiares y profesionales! \nEl diagnóstico de una leucemia se acompaña de muchas dudas e inquietudes sobre la enfermedad\, los tratamientos y los cuidados. La información nos ayuda a entender el proceso y a tomar decisiones. Por ello\, presentamos este ciclo de seminarios online\, cuyo propósito es crear un espacio de conversación entre pacientes\, familiares y profesionales para resolver dudas sobre esta enfermedad.\nTe invitamos a conocer\, de una forma cercana y entendible\, los diferentes tipos de leucemia así como sus tratamientos. Puedes inscribirte gratuitamente a través de los siguientes formularios y hacernos llegar aquellas preguntas que te gustaría resolver. ¡Te esperamos!\nUna iniciativa de Agrupación Española contra la Leucemia y Enfermedades de la Sangre (AELCLÉS) y Fundación MÁS QUE IDEAS.\n \n  \n 
URL:https://www.aelcles.org/evento/diagnostico-leucemias-agudas/
CATEGORIES:online,Seminario
ATTACH;FMTTYPE=image/jpeg:https://www.aelcles.org/wp-content/uploads/2023/06/Pieza-03-Publicacion-IG-FB-LEUCEMIAS-AGUDAS-V2.jpg
END:VEVENT
BEGIN:VEVENT
DTSTART;TZID=Europe/Madrid:20230628T170000
DTEND;TZID=Europe/Madrid:20230628T180000
DTSTAMP:20260424T221727
CREATED:20231107T195155Z
LAST-MODIFIED:20231107T195217Z
UID:3301-1687971600-1687975200@www.aelcles.org
SUMMARY:Mi tiempo para Mi: REUNIÓN MIELOMA
DESCRIPTION:Especialmente dedicado a pacientes con Mieloma Múltiple. \nTendremos un encuentro entre iguales en el que podremos hablar con otros pacientes que también tengan Mieloma Múltiple. \nPuedes conectarte a través de la plataforma meet.jit.si/aelclés. \nSi quieres saber más\, no dudes en ponerte en contacto con nosotros en el correo: psicologia@aelcles.org o a través del teléfono: +34 641 496 702. \n 
URL:https://www.aelcles.org/evento/mi-tiempo-para-mi-reunion-mieloma-20/
CATEGORIES:online
ATTACH;FMTTYPE=image/jpeg:https://www.aelcles.org/wp-content/uploads/2023/03/WhatsApp-Image-2023-11-07-at-20.22.42.jpeg
ORGANIZER;CN="AELCLES":MAILTO:info@aelcles.org
END:VEVENT
BEGIN:VEVENT
DTSTART;TZID=Europe/Madrid:20230628T170000
DTEND;TZID=Europe/Madrid:20230628T180000
DTSTAMP:20260424T221727
CREATED:20230610T110625Z
LAST-MODIFIED:20230610T110625Z
UID:3099-1687971600-1687975200@www.aelcles.org
SUMMARY:Diagnóstico: Leucemia Mieloide Crónica
DESCRIPTION:¡Encuentros virtuales entre pacientes\, familiares y profesionales! \nEl diagnóstico de una leucemia se acompaña de muchas dudas e inquietudes sobre la enfermedad\, los tratamientos y los cuidados. La información nos ayuda a entender el proceso y a tomar decisiones. Por ello\, presentamos este ciclo de seminarios online\, cuyo propósito es crear un espacio de conversación entre pacientes\, familiares y profesionales para resolver dudas sobre esta enfermedad.\nTe invitamos a conocer\, de una forma cercana y entendible\, los diferentes tipos de leucemia así como sus tratamientos. Puedes inscribirte gratuitamente a través de los siguientes formularios y hacernos llegar aquellas preguntas que te gustaría resolver. ¡Te esperamos!\nUna iniciativa de Agrupación Española contra la Leucemia y Enfermedades de la Sangre (AELCLÉS) y Fundación MÁS QUE IDEAS.\n\nVÍDEOS – DIAGNÓSTICO: LEUCEMIA \n\n  \n 
URL:https://www.aelcles.org/evento/diagnostico-leucemia-mieloide-cronica/
CATEGORIES:online,Seminario
ATTACH;FMTTYPE=image/jpeg:https://www.aelcles.org/wp-content/uploads/2023/06/Pieza-02-Publicacion-IG-FB-MIELOIDE-CRONICA.jpg
END:VEVENT
BEGIN:VEVENT
DTSTART;TZID=Europe/Madrid:20230627T170000
DTEND;TZID=Europe/Madrid:20230627T180000
DTSTAMP:20260424T221727
CREATED:20230610T110333Z
LAST-MODIFIED:20230610T110333Z
UID:3096-1687885200-1687888800@www.aelcles.org
SUMMARY:Diagnóstico: Leucemia Linfática Crónica
DESCRIPTION:¡Encuentros virtuales entre pacientes\, familiares y profesionales! \nEl diagnóstico de una leucemia se acompaña de muchas dudas e inquietudes sobre la enfermedad\, los tratamientos y los cuidados. La información nos ayuda a entender el proceso y a tomar decisiones. Por ello\, presentamos este ciclo de seminarios online\, cuyo propósito es crear un espacio de conversación entre pacientes\, familiares y profesionales para resolver dudas sobre esta enfermedad.\nTe invitamos a conocer\, de una forma cercana y entendible\, los diferentes tipos de leucemia así como sus tratamientos. Puedes inscribirte gratuitamente a través de los siguientes formularios y hacernos llegar aquellas preguntas que te gustaría resolver. ¡Te esperamos!\nUna iniciativa de Agrupación Española contra la Leucemia y Enfermedades de la Sangre (AELCLÉS) y Fundación MÁS QUE IDEAS.\n\nVÍDEOS – DIAGNÓSTICO: LEUCEMIA \n\n  \n 
URL:https://www.aelcles.org/evento/diagnostico-leucemia-linfatica-cronica/
CATEGORIES:online,Seminario
ATTACH;FMTTYPE=image/jpeg:https://www.aelcles.org/wp-content/uploads/2023/06/Pieza-01-Publicacion-IG-FB-LINFATICA-CRONICA.jpg
END:VEVENT
BEGIN:VEVENT
DTSTART;TZID=Europe/Madrid:20230621T170000
DTEND;TZID=Europe/Madrid:20230621T180000
DTSTAMP:20260424T221727
CREATED:20231107T195107Z
LAST-MODIFIED:20231107T195107Z
UID:3300-1687366800-1687370400@www.aelcles.org
SUMMARY:Mi tiempo para Mi: REUNIÓN MIELOMA
DESCRIPTION:Especialmente dedicado a pacientes con Mieloma Múltiple. \nTendremos un encuentro entre iguales en el que podremos hablar con otros pacientes que también tengan Mieloma Múltiple. \nPuedes conectarte a través de la plataforma meet.jit.si/aelclés. \nSi quieres saber más\, no dudes en ponerte en contacto con nosotros en el correo: psicologia@aelcles.org o a través del teléfono: +34 641 496 702. \n 
URL:https://www.aelcles.org/evento/mi-tiempo-para-mi-reunion-mieloma-19/
CATEGORIES:online
ATTACH;FMTTYPE=image/jpeg:https://www.aelcles.org/wp-content/uploads/2023/03/WhatsApp-Image-2023-11-07-at-20.22.42.jpeg
ORGANIZER;CN="AELCLES":MAILTO:info@aelcles.org
END:VEVENT
BEGIN:VEVENT
DTSTART;TZID=Europe/Madrid:20230620T170000
DTEND;TZID=Europe/Madrid:20230620T180000
DTSTAMP:20260424T221727
CREATED:20230516T153931Z
LAST-MODIFIED:20230516T153931Z
UID:3079-1687280400-1687284000@www.aelcles.org
SUMMARY:HEMATO TEMAS
DESCRIPTION:Pregunta todas las dudas e inquietudes a una Psicóloga que lleva mucho tiempo trabajando con pacientes oncohematológicos y puede ayudarte de forma eficiente. \nTE AYUDARÁ A VIVIR MEJOR \nEl tercer martes de mes\, tendremos una charla sobre distintos temas de psicología y luego podremos preguntar todo aquello que nos preocupe. Además\, podremos sugerir temas para que nos hable sobre ellos. \nAnímate y comparte este ratito con nosotros: https://meet.jit.si/aelcles
URL:https://www.aelcles.org/evento/hemato-temas-6/
ATTACH;FMTTYPE=image/png:https://www.aelcles.org/wp-content/uploads/2023/05/MEET.JIT_.SIAELCLES.png
END:VEVENT
BEGIN:VEVENT
DTSTART;TZID=Europe/Madrid:20230614T170000
DTEND;TZID=Europe/Madrid:20230614T180000
DTSTAMP:20260424T221727
CREATED:20231107T194932Z
LAST-MODIFIED:20231107T194932Z
UID:3298-1686762000-1686765600@www.aelcles.org
SUMMARY:Mi tiempo para Mi: REUNIÓN MIELOMA
DESCRIPTION:Especialmente dedicado a pacientes con Mieloma Múltiple. \nTendremos un encuentro entre iguales en el que podremos hablar con otros pacientes que también tengan Mieloma Múltiple. \nPuedes conectarte a través de la plataforma meet.jit.si/aelclés. \nSi quieres saber más\, no dudes en ponerte en contacto con nosotros en el correo: psicologia@aelcles.org o a través del teléfono: +34 641 496 702. \n 
URL:https://www.aelcles.org/evento/mi-tiempo-para-mi-reunion-mieloma-18/
CATEGORIES:online
ATTACH;FMTTYPE=image/jpeg:https://www.aelcles.org/wp-content/uploads/2023/03/WhatsApp-Image-2023-11-07-at-20.22.42.jpeg
ORGANIZER;CN="AELCLES":MAILTO:info@aelcles.org
END:VEVENT
BEGIN:VEVENT
DTSTART;TZID=Europe/Madrid:20230606T173000
DTEND;TZID=Europe/Madrid:20230606T183000
DTSTAMP:20260424T221727
CREATED:20231107T190719Z
LAST-MODIFIED:20231107T191641Z
UID:3274-1686072600-1686076200@www.aelcles.org
SUMMARY:CAFÉ CON HEMATOLOGÍA
DESCRIPTION:Alguna duda en cuanto a tu salud\, tu tratamiento\, tu familiar… Estamos para pasar un rato entre personas que pasan por algo parecido o igual a lo que te pasa a tí o a alguien que quieres. \nConéctate al café virtual que ayuda a calmar tu ansiedad por tu falta de información.\n☕☕☕☕☕☕☕☕ \nHaz clic en el enlace para unirte a la reunión   Pulsa aquí
URL:https://www.aelcles.org/evento/cafe-con-hematologia-21/
ATTACH;FMTTYPE=image/jpeg:https://www.aelcles.org/wp-content/uploads/2023/02/WhatsApp-Image-2023-11-07-at-19.39.12.jpeg
END:VEVENT
BEGIN:VEVENT
DTSTART;TZID=Europe/Madrid:20230531T170000
DTEND;TZID=Europe/Madrid:20230531T180000
DTSTAMP:20260424T221727
CREATED:20231107T194705Z
LAST-MODIFIED:20231107T194705Z
UID:3296-1685552400-1685556000@www.aelcles.org
SUMMARY:Mi tiempo para Mi: REUNIÓN MIELOMA
DESCRIPTION:Especialmente dedicado a pacientes con Mieloma Múltiple. \nTendremos un encuentro entre iguales en el que podremos hablar con otros pacientes que también tengan Mieloma Múltiple. \nPuedes conectarte a través de la plataforma meet.jit.si/aelclés. \nSi quieres saber más\, no dudes en ponerte en contacto con nosotros en el correo: psicologia@aelcles.org o a través del teléfono: +34 641 496 702. \n 
URL:https://www.aelcles.org/evento/mi-tiempo-para-mi-reunion-mieloma-17/
CATEGORIES:online
ATTACH;FMTTYPE=image/jpeg:https://www.aelcles.org/wp-content/uploads/2022/05/WhatsApp-Image-2023-10-27-at-20.53.52.jpeg
ORGANIZER;CN="AELCLES":MAILTO:info@aelcles.org
END:VEVENT
BEGIN:VEVENT
DTSTART;TZID=Europe/Madrid:20230529T170000
DTEND;TZID=Europe/Madrid:20230529T180000
DTSTAMP:20260424T221727
CREATED:20231107T185103Z
LAST-MODIFIED:20231107T185103Z
UID:3262-1685379600-1685383200@www.aelcles.org
SUMMARY:MI HILO ROJO
DESCRIPTION:El último lunes del mes tenemos un encuentro entre pacientes y familiares para comentar sus experiencias. \nAnímate a participar\, solo tienes que entrar en la siguiente dirección:  https://meet.jit.si/aelcles \nTe esperamos!!!
URL:https://www.aelcles.org/evento/mi-hilo-rojo-14/
ATTACH;FMTTYPE=image/png:https://www.aelcles.org/wp-content/uploads/2021/04/Copia-de-MI-HILO-ROJO-Post-para-Instagram-1.png
END:VEVENT
BEGIN:VEVENT
DTSTART;TZID=Europe/Madrid:20230524T170000
DTEND;TZID=Europe/Madrid:20230524T180000
DTSTAMP:20260424T221727
CREATED:20231107T194427Z
LAST-MODIFIED:20231107T194427Z
UID:3294-1684947600-1684951200@www.aelcles.org
SUMMARY:Mi tiempo para Mi: REUNIÓN MIELOMA
DESCRIPTION:Especialmente dedicado a pacientes con Mieloma Múltiple. \nTendremos un encuentro entre iguales en el que podremos hablar con otros pacientes que también tengan Mieloma Múltiple. \nPuedes conectarte a través de la plataforma meet.jit.si/aelclés. \nSi quieres saber más\, no dudes en ponerte en contacto con nosotros en el correo: psicologia@aelcles.org o a través del teléfono: +34 641 496 702. \n 
URL:https://www.aelcles.org/evento/mi-tiempo-para-mi-reunion-mieloma-16/
CATEGORIES:online
ATTACH;FMTTYPE=image/jpeg:https://www.aelcles.org/wp-content/uploads/2023/03/WhatsApp-Image-2023-11-07-at-20.22.42.jpeg
ORGANIZER;CN="AELCLES":MAILTO:info@aelcles.org
END:VEVENT
BEGIN:VEVENT
DTSTART;TZID=Europe/Madrid:20230524T170000
DTEND;TZID=Europe/Madrid:20230524T180000
DTSTAMP:20260424T221727
CREATED:20230221T104847Z
LAST-MODIFIED:20230221T104847Z
UID:3052-1684947600-1684951200@www.aelcles.org
SUMMARY:MOMENTO DEL MOVIMIENTO
DESCRIPTION:¡ESTAMOS CON NUESTRO FISIOTERAPEUTA PARA PODER PREGUNTARLE TODAS NUESTRAS DUDAS Y ESCUCHAR SUS INTERESANTES CONSEJOS! \nCada cuarto miércoles de mes\, nuestro fisioterapeuta nos hablará sobre distintos aspectos de la fisioterapia y oncohematología. Habrá una charla inicial y luego podremos preguntar todo aquello que nos preocupe. Además\, podremos sugerir temas para que nos hable sobre ellos. \nAnímate y comparte este ratito con nosotros: https://meet.jit.si/aelcles
URL:https://www.aelcles.org/evento/momento-del-movimiento-11/
ATTACH;FMTTYPE=image/jpeg:https://www.aelcles.org/wp-content/uploads/2022/06/Momento_Movimiento-1.jpeg
END:VEVENT
BEGIN:VEVENT
DTSTART;TZID=Europe/Madrid:20230523T170000
DTEND;TZID=Europe/Madrid:20230523T180000
DTSTAMP:20260424T221727
CREATED:20230221T104124Z
LAST-MODIFIED:20230516T141212Z
UID:3046-1684861200-1684864800@www.aelcles.org
SUMMARY:HEMATO TEMAS
DESCRIPTION:Pregunta todas las dudas e inquietudes a una Psicóloga que lleva mucho tiempo trabajando con pacientes oncohematológicos y puede ayudarte de forma eficiente. \nTE AYUDARÁ A VIVIR MEJOR \nEl tercer martes de mes\, tendremos una charla sobre distintos temas de psicología y luego podremos preguntar todo aquello que nos preocupe. Además\, podremos sugerir temas para que nos hable sobre ellos. \nAnímate y comparte este ratito con nosotros: https://meet.jit.si/aelcles
URL:https://www.aelcles.org/evento/hemato-temas-4/
ATTACH;FMTTYPE=image/jpeg:https://www.aelcles.org/wp-content/uploads/2023/01/WhatsApp-Image-2023-01-19-at-12.54.38.jpeg
END:VEVENT
BEGIN:VEVENT
DTSTART;TZID=Europe/Madrid:20230517T170000
DTEND;TZID=Europe/Madrid:20230517T180000
DTSTAMP:20260424T221727
CREATED:20231107T194010Z
LAST-MODIFIED:20231107T194010Z
UID:3291-1684342800-1684346400@www.aelcles.org
SUMMARY:Mi tiempo para Mi: REUNIÓN MIELOMA
DESCRIPTION:Especialmente dedicado a pacientes con Mieloma Múltiple. \nTendremos un encuentro entre iguales en el que podremos hablar con otros pacientes que también tengan Mieloma Múltiple. \nPuedes conectarte a través de la plataforma meet.jit.si/aelclés. \nSi quieres saber más\, no dudes en ponerte en contacto con nosotros en el correo: psicologia@aelcles.org o a través del teléfono: +34 641 496 702. \n 
URL:https://www.aelcles.org/evento/mi-tiempo-para-mi-reunion-mieloma-15/
CATEGORIES:online
ATTACH;FMTTYPE=image/jpeg:https://www.aelcles.org/wp-content/uploads/2023/03/WhatsApp-Image-2023-11-07-at-20.22.42.jpeg
ORGANIZER;CN="AELCLES":MAILTO:info@aelcles.org
END:VEVENT
BEGIN:VEVENT
DTSTART;TZID=Europe/Madrid:20230502T173000
DTEND;TZID=Europe/Madrid:20230502T183000
DTSTAMP:20260424T221727
CREATED:20231107T190457Z
LAST-MODIFIED:20231107T190457Z
UID:3270-1683048600-1683052200@www.aelcles.org
SUMMARY:CAFÉ CON HEMATOLOGÍA
DESCRIPTION:Alguna duda en cuanto a tu salud\, tu tratamiento\, tu familiar… Estamos para pasar un rato entre personas que pasan por algo parecido o igual a lo que te pasa a tí o a alguien que quieres. \nConéctate al café virtual que ayuda a calmar tu ansiedad por tu falta de información.\n☕☕☕☕☕☕☕☕ \nHaz clic en el enlace para unirte a la reunión   Pulsa aquí
URL:https://www.aelcles.org/evento/cafe-con-hematologia-20/
ATTACH;FMTTYPE=image/jpeg:https://www.aelcles.org/wp-content/uploads/2023/02/WhatsApp-Image-2023-11-07-at-19.39.12.jpeg
END:VEVENT
BEGIN:VEVENT
DTSTART;TZID=Europe/Madrid:20230426T170000
DTEND;TZID=Europe/Madrid:20230426T180000
DTSTAMP:20260424T221727
CREATED:20231107T193838Z
LAST-MODIFIED:20231107T193838Z
UID:3290-1682528400-1682532000@www.aelcles.org
SUMMARY:Mi tiempo para Mi: REUNIÓN MIELOMA
DESCRIPTION:Especialmente dedicado a pacientes con Mieloma Múltiple. \nTendremos un encuentro entre iguales en el que podremos hablar con otros pacientes que también tengan Mieloma Múltiple. \nPuedes conectarte a través de la plataforma meet.jit.si/aelclés. \nSi quieres saber más\, no dudes en ponerte en contacto con nosotros en el correo: psicologia@aelcles.org o a través del teléfono: +34 641 496 702. \n 
URL:https://www.aelcles.org/evento/mi-tiempo-para-mi-reunion-mieloma-14/
CATEGORIES:online
ATTACH;FMTTYPE=image/jpeg:https://www.aelcles.org/wp-content/uploads/2023/03/WhatsApp-Image-2023-11-07-at-20.22.42.jpeg
ORGANIZER;CN="AELCLES":MAILTO:info@aelcles.org
END:VEVENT
END:VCALENDAR