BEGIN:VCALENDAR
VERSION:2.0
PRODID:-//AELCLÉS - ECPv6.15.20//NONSGML v1.0//EN
CALSCALE:GREGORIAN
METHOD:PUBLISH
X-WR-CALNAME:AELCLÉS
X-ORIGINAL-URL:https://www.aelcles.org
X-WR-CALDESC:Eventos para AELCLÉS
REFRESH-INTERVAL;VALUE=DURATION:PT1H
X-Robots-Tag:noindex
X-PUBLISHED-TTL:PT1H
BEGIN:VTIMEZONE
TZID:Europe/Madrid
BEGIN:DAYLIGHT
TZOFFSETFROM:+0100
TZOFFSETTO:+0200
TZNAME:CEST
DTSTART:20220327T010000
END:DAYLIGHT
BEGIN:STANDARD
TZOFFSETFROM:+0200
TZOFFSETTO:+0100
TZNAME:CET
DTSTART:20221030T010000
END:STANDARD
BEGIN:DAYLIGHT
TZOFFSETFROM:+0100
TZOFFSETTO:+0200
TZNAME:CEST
DTSTART:20230326T010000
END:DAYLIGHT
BEGIN:STANDARD
TZOFFSETFROM:+0200
TZOFFSETTO:+0100
TZNAME:CET
DTSTART:20231029T010000
END:STANDARD
BEGIN:DAYLIGHT
TZOFFSETFROM:+0100
TZOFFSETTO:+0200
TZNAME:CEST
DTSTART:20240331T010000
END:DAYLIGHT
BEGIN:STANDARD
TZOFFSETFROM:+0200
TZOFFSETTO:+0100
TZNAME:CET
DTSTART:20241027T010000
END:STANDARD
BEGIN:DAYLIGHT
TZOFFSETFROM:+0100
TZOFFSETTO:+0200
TZNAME:CEST
DTSTART:20250330T010000
END:DAYLIGHT
BEGIN:STANDARD
TZOFFSETFROM:+0200
TZOFFSETTO:+0100
TZNAME:CET
DTSTART:20251026T010000
END:STANDARD
END:VTIMEZONE
BEGIN:VEVENT
DTSTART;TZID=Europe/Madrid:20240325T170000
DTEND;TZID=Europe/Madrid:20240325T180000
DTSTAMP:20260424T204446
CREATED:20240205T194654Z
LAST-MODIFIED:20240206T190721Z
UID:3412-1711386000-1711389600@www.aelcles.org
SUMMARY:Mi Hilo Rojo
DESCRIPTION:Como cada último lunes del mes nos reencontramos  con #mihilorojo\, un grupo de iguales en el que el paciente o su familiar se siente apoyado y comprendido\, solventar posibles dudas a través de otros miembros del grupo para confrontar mejor la enfermedad\, su tratamiento y recuperación. \nSe realiza a través del enlace de ZOOM\, si quieres participar ponte en contacto en el teléfono 641496702 o en psicologia@aelcles.org
URL:https://www.aelcles.org/evento/mi-hilo-rojo-18/
ATTACH;FMTTYPE=image/png:https://www.aelcles.org/wp-content/uploads/2024/02/Copia-de-MI-HILO-ROJO-Post-para-Instagram-3.png
END:VEVENT
BEGIN:VEVENT
DTSTART;TZID=Europe/Madrid:20240320T170000
DTEND;TZID=Europe/Madrid:20240320T180000
DTSTAMP:20260424T204446
CREATED:20240205T194259Z
LAST-MODIFIED:20240205T194259Z
UID:3408-1710954000-1710957600@www.aelcles.org
SUMMARY:Mi Tiempo Para Mi
DESCRIPTION:Si tienes Mieloma Múltiple recuerda que todos los miércoles del mes ofrecemos el programa #mitiempoparami\, donde se ofrece terapia psicológica gratuita a pacientes\, familiares y cuidadores de personas afectadas con Mieloma Múltiple. \nAdemás puedes contactar con personas afectadas a través de nuestro grupo de iguales en el que se trabajan aspectos como la autoestima\, emociones y compartir experiencias. \nNo te lo pierdas y ponte en contacto a través del teléfono 641496702 o en psicologia@aelcles.org
URL:https://www.aelcles.org/evento/mi-tiempo-para-mi-8/
ATTACH;FMTTYPE=image/jpeg:https://www.aelcles.org/wp-content/uploads/2022/05/WhatsApp-Image-2024-01-19-at-17.37.37.jpeg
END:VEVENT
BEGIN:VEVENT
DTSTART;TZID=Europe/Madrid:20240313T170000
DTEND;TZID=Europe/Madrid:20240313T180000
DTSTAMP:20260424T204446
CREATED:20240205T194216Z
LAST-MODIFIED:20240205T194216Z
UID:3406-1710349200-1710352800@www.aelcles.org
SUMMARY:Mi Tiempo Para Mi
DESCRIPTION:Si tienes Mieloma Múltiple recuerda que todos los miércoles del mes ofrecemos el programa #mitiempoparami\, donde se ofrece terapia psicológica gratuita a pacientes\, familiares y cuidadores de personas afectadas con Mieloma Múltiple. \nAdemás puedes contactar con personas afectadas a través de nuestro grupo de iguales en el que se trabajan aspectos como la autoestima\, emociones y compartir experiencias. \nNo te lo pierdas y ponte en contacto a través del teléfono 641496702 o en psicologia@aelcles.org
URL:https://www.aelcles.org/evento/mi-tiempo-para-mi-7/
ATTACH;FMTTYPE=image/jpeg:https://www.aelcles.org/wp-content/uploads/2022/05/WhatsApp-Image-2024-01-19-at-17.37.37.jpeg
END:VEVENT
BEGIN:VEVENT
DTSTART;TZID=Europe/Madrid:20240312T170000
DTEND;TZID=Europe/Madrid:20240312T180000
DTSTAMP:20260424T204446
CREATED:20240306T215402Z
LAST-MODIFIED:20240306T215402Z
UID:3438-1710262800-1710266400@www.aelcles.org
SUMMARY:El Club de Lectura
DESCRIPTION:El día 12 de marzo a las 17:00h se llevará a cabo el «Club de Lectura» organizado por #ASOTRAME en el que participa #AELCLÉS. El libro que se comentará será «La tesis de Nancy» de Ramón J. Sénder
URL:https://www.aelcles.org/evento/el-club-de-lectura/
ATTACH;FMTTYPE=image/jpeg:https://www.aelcles.org/wp-content/uploads/2024/03/IMG-20240306-WA0046.jpg
ORGANIZER;CN="ASOTRAME":MAILTO:asotrame@asotrame.com
END:VEVENT
BEGIN:VEVENT
DTSTART;TZID=Europe/Madrid:20240311T170000
DTEND;TZID=Europe/Madrid:20240311T180000
DTSTAMP:20260424T204446
CREATED:20240306T215032Z
LAST-MODIFIED:20240306T215032Z
UID:3434-1710176400-1710180000@www.aelcles.org
SUMMARY:Taller de Estética Oncológica
DESCRIPTION:El lunes 11 de Marzo se realizará el segundo taller de #esteticaoncologica organizado por #aelclés junto a @ascol.cyl y de la mano de @nairamartin.esteticaoncologica \nNo te lo pierdas!!! \nSerá a través de este Enlace  \n 
URL:https://www.aelcles.org/evento/taller-de-estetica-oncologica/
ATTACH;FMTTYPE=image/jpeg:https://www.aelcles.org/wp-content/uploads/2024/03/IMG_20240306_224340_554.jpg
ORGANIZER;CN="ASCOL":MAILTO:ascol.1992@gmail.com
END:VEVENT
BEGIN:VEVENT
DTSTART;TZID=Europe/Madrid:20240306T170000
DTEND;TZID=Europe/Madrid:20240306T180000
DTSTAMP:20260424T204446
CREATED:20240205T194127Z
LAST-MODIFIED:20240205T194127Z
UID:3404-1709744400-1709748000@www.aelcles.org
SUMMARY:Mi Tiempo Para Mi
DESCRIPTION:Si tienes Mieloma Múltiple recuerda que todos los miércoles del mes ofrecemos el programa #mitiempoparami\, donde se ofrece terapia psicológica gratuita a pacientes\, familiares y cuidadores de personas afectadas con Mieloma Múltiple. \nAdemás puedes contactar con personas afectadas a través de nuestro grupo de iguales en el que se trabajan aspectos como la autoestima\, emociones y compartir experiencias. \nNo te lo pierdas y ponte en contacto a través del teléfono 641496702 o en psicologia@aelcles.org
URL:https://www.aelcles.org/evento/mi-tiempo-para-mi-6/
ATTACH;FMTTYPE=image/jpeg:https://www.aelcles.org/wp-content/uploads/2022/05/WhatsApp-Image-2024-01-19-at-17.37.37.jpeg
END:VEVENT
BEGIN:VEVENT
DTSTART;TZID=Europe/Madrid:20240305T173000
DTEND;TZID=Europe/Madrid:20240305T183000
DTSTAMP:20260424T204446
CREATED:20240205T193954Z
LAST-MODIFIED:20240205T193954Z
UID:3401-1709659800-1709663400@www.aelcles.org
SUMMARY:CAFÉ CON HEMALOGÍA
DESCRIPTION:Un mes más una cita nueva con #caféconhematología martes 5 de marzo a las  17:30h en el enlace de zoom https://us06web.zoom.us/j/82421398293
URL:https://www.aelcles.org/evento/cafe-con-hemalogia-2/
ATTACH;FMTTYPE=image/png:https://www.aelcles.org/wp-content/uploads/2024/02/Primera-cita-de-este-ano-9-de-Enero-2.png
END:VEVENT
BEGIN:VEVENT
DTSTART;TZID=Europe/Madrid:20240228T170000
DTEND;TZID=Europe/Madrid:20240228T180000
DTSTAMP:20260424T204446
CREATED:20240205T192150Z
LAST-MODIFIED:20240205T192150Z
UID:3395-1709139600-1709143200@www.aelcles.org
SUMMARY:Mi Tiempo Para Mi
DESCRIPTION:Si tienes Mieloma Múltiple recuerda que todos los miércoles del mes ofrecemos el programa #mitiempoparami\, donde se ofrece terapia psicológica gratuita a pacientes\, familiares y cuidadores de personas afectadas con Mieloma Múltiple. \nAdemás puedes contactar con personas afectadas a través de nuestro grupo de iguales en el que se trabajan aspectos como la autoestima\, emociones y compartir experiencias. \nNo te lo pierdas y ponte en contacto a través del teléfono 641496702 o en psicologia@aelcles.org
URL:https://www.aelcles.org/evento/mi-tiempo-para-mi-5/
ATTACH;FMTTYPE=image/jpeg:https://www.aelcles.org/wp-content/uploads/2022/05/WhatsApp-Image-2024-01-19-at-17.37.37.jpeg
END:VEVENT
BEGIN:VEVENT
DTSTART;TZID=Europe/Madrid:20240226T170000
DTEND;TZID=Europe/Madrid:20240226T180000
DTSTAMP:20260424T204446
CREATED:20240205T190951Z
LAST-MODIFIED:20240205T190951Z
UID:3386-1708966800-1708970400@www.aelcles.org
SUMMARY:Mi Hilo Rojo
DESCRIPTION:Como cada último lunes el día 26 de febrero nos reencontramos  con #mihilorojo\, un grupo de iguales en el que el paciente o su familiar se siente apoyado y comprendido\, solventar posibles dudas a través de otros miembros del grupo para confrontar mejor la enfermedad\, su tratamiento y recuperación. \nSe realiza a través del enlace de ZOOM\, si quieres participar ponte en contacto en el teléfono 641496702 o en psicologia@aelcles.org
URL:https://www.aelcles.org/evento/mi-hilo-rojo-17/
ATTACH;FMTTYPE=image/png:https://www.aelcles.org/wp-content/uploads/2024/02/Copia-de-MI-HILO-ROJO-Post-para-Instagram-2.png
END:VEVENT
BEGIN:VEVENT
DTSTART;TZID=Europe/Madrid:20240221T170000
DTEND;TZID=Europe/Madrid:20240221T180000
DTSTAMP:20260424T204446
CREATED:20240205T192101Z
LAST-MODIFIED:20240205T192101Z
UID:3393-1708534800-1708538400@www.aelcles.org
SUMMARY:Mi Tiempo Para Mi
DESCRIPTION:Si tienes Mieloma Múltiple recuerda que todos los miércoles del mes ofrecemos el programa #mitiempoparami\, donde se ofrece terapia psicológica gratuita a pacientes\, familiares y cuidadores de personas afectadas con Mieloma Múltiple. \nAdemás puedes contactar con personas afectadas a través de nuestro grupo de iguales en el que se trabajan aspectos como la autoestima\, emociones y compartir experiencias. \nNo te lo pierdas y ponte en contacto a través del teléfono 641496702 o en psicologia@aelcles.org
URL:https://www.aelcles.org/evento/mi-tiempo-para-mi-4/
ATTACH;FMTTYPE=image/jpeg:https://www.aelcles.org/wp-content/uploads/2022/05/WhatsApp-Image-2024-01-19-at-17.37.37.jpeg
END:VEVENT
BEGIN:VEVENT
DTSTART;TZID=Europe/Madrid:20240214T170000
DTEND;TZID=Europe/Madrid:20240214T180000
DTSTAMP:20260424T204446
CREATED:20240205T191856Z
LAST-MODIFIED:20240205T192017Z
UID:3391-1707930000-1707933600@www.aelcles.org
SUMMARY:Mi Tiempo Para Mi
DESCRIPTION:Si tienes Mieloma Múltiple recuerda que todos los miércoles del mes ofrecemos el programa #mitiempoparami\, donde se ofrece terapia psicológica gratuita a pacientes\, familiares y cuidadores de personas afectadas con Mieloma Múltiple. \nAdemás puedes contactar con personas afectadas a través de nuestro grupo de iguales en el que se trabajan aspectos como la autoestima\, emociones y compartir experiencias. \nNo te lo pierdas y ponte en contacto a través del teléfono 641496702 o en psicologia@aelcles.org
URL:https://www.aelcles.org/evento/mi-tiempo-para-mi-3/
ATTACH;FMTTYPE=image/jpeg:https://www.aelcles.org/wp-content/uploads/2022/05/WhatsApp-Image-2024-01-19-at-17.37.37.jpeg
END:VEVENT
BEGIN:VEVENT
DTSTART;TZID=Europe/Madrid:20240207T170000
DTEND;TZID=Europe/Madrid:20240207T180000
DTSTAMP:20260424T204446
CREATED:20240205T191521Z
LAST-MODIFIED:20240205T192328Z
UID:3389-1707325200-1707328800@www.aelcles.org
SUMMARY:Mi Tiempo Para Mi
DESCRIPTION:Si tienes Mieloma Múltiple recuerda que todos los miércoles del mes ofrecemos el programa #mitiempoparami\, donde se ofrece terapia psicológica gratuita a pacientes\, familiares y cuidadores de personas afectadas con Mieloma Múltiple. \nAdemás puedes contactar con personas afectadas a través de nuestro grupo de iguales en el que se trabajan aspectos como la autoestima\, emociones y compartir experiencias. \nNo te lo pierdas y ponte en contacto a través del teléfono 641496702 o en psicologia@aelcles.org
URL:https://www.aelcles.org/evento/mi-tiempo-para-mi-2/
ATTACH;FMTTYPE=image/jpeg:https://www.aelcles.org/wp-content/uploads/2022/05/WhatsApp-Image-2024-01-19-at-17.37.37.jpeg
END:VEVENT
BEGIN:VEVENT
DTSTART;TZID=Europe/Madrid:20240206T173000
DTEND;TZID=Europe/Madrid:20240206T183000
DTSTAMP:20260424T204446
CREATED:20240205T185858Z
LAST-MODIFIED:20240205T185858Z
UID:3383-1707240600-1707244200@www.aelcles.org
SUMMARY:CAFÉ CON HEMALOGÍA
DESCRIPTION:Un mes más una cita nueva con #caféconhematología martes 6 de febrero a las  17:30h en el enlace de zoom https://us06web.zoom.us/j/82421398293
URL:https://www.aelcles.org/evento/cafe-con-hemalogia/
ATTACH;FMTTYPE=image/png:https://www.aelcles.org/wp-content/uploads/2024/02/Primera-cita-de-este-ano-9-de-Enero-1.png
END:VEVENT
BEGIN:VEVENT
DTSTART;TZID=Europe/Madrid:20240202T170000
DTEND;TZID=Europe/Madrid:20240202T180000
DTSTAMP:20260424T204446
CREATED:20240111T191829Z
LAST-MODIFIED:20240111T191829Z
UID:3359-1706893200-1706896800@www.aelcles.org
SUMMARY:CLUB DE LECTURA
DESCRIPTION:                   Viernes 2 de febrero a las 17h.
URL:https://www.aelcles.org/evento/club-de-lectura-3/
ATTACH;FMTTYPE=image/jpeg:https://www.aelcles.org/wp-content/uploads/2024/01/WhatsApp-Image-2024-01-11-at-19.57.47.jpeg
ORGANIZER;CN="ASOTRAME":MAILTO:asotrame@asotrame.com
END:VEVENT
BEGIN:VEVENT
DTSTART;TZID=Europe/Madrid:20240129T170000
DTEND;TZID=Europe/Madrid:20240129T180000
DTSTAMP:20260424T204446
CREATED:20240111T191617Z
LAST-MODIFIED:20240111T191617Z
UID:3357-1706547600-1706551200@www.aelcles.org
SUMMARY:MI HILO ROJO
DESCRIPTION:     Os esperamos en Mi Hilo Rojo el lunes 29 de enero a las 17h.
URL:https://www.aelcles.org/evento/mi-hilo-rojo-16/
ATTACH;FMTTYPE=image/jpeg:https://www.aelcles.org/wp-content/uploads/2024/01/WhatsApp-Image-2024-01-11-at-19.56.26.jpeg
END:VEVENT
BEGIN:VEVENT
DTSTART;TZID=Europe/Madrid:20240123T170000
DTEND;TZID=Europe/Madrid:20240123T180000
DTSTAMP:20260424T204446
CREATED:20240111T191325Z
LAST-MODIFIED:20240111T191325Z
UID:3355-1706029200-1706032800@www.aelcles.org
SUMMARY:MOMENTO DEL MOVIMIENTO
DESCRIPTION:     Os esperamos el martes 23 de enero a las 17h.
URL:https://www.aelcles.org/evento/momento-del-movimiento-13/
ATTACH;FMTTYPE=image/jpeg:https://www.aelcles.org/wp-content/uploads/2024/01/WhatsApp-Image-2024-01-11-at-19.55.07.jpeg
END:VEVENT
BEGIN:VEVENT
DTSTART;TZID=Europe/Madrid:20240117T170000
DTEND;TZID=Europe/Madrid:20240117T180000
DTSTAMP:20260424T204447
CREATED:20240111T191126Z
LAST-MODIFIED:20240111T191126Z
UID:3349-1705510800-1705514400@www.aelcles.org
SUMMARY:MI TIEMPO PARA MI
DESCRIPTION:Miércoles 17 de Enero a las 17h. La conexión será por zoom \n 
URL:https://www.aelcles.org/evento/mi-tiempo-para-mi/
ATTACH;FMTTYPE=image/jpeg:https://www.aelcles.org/wp-content/uploads/2024/01/WhatsApp-Image-2024-01-11-at-19.54.49.jpeg
END:VEVENT
BEGIN:VEVENT
DTSTART;TZID=Europe/Madrid:20240109T170000
DTEND;TZID=Europe/Madrid:20240109T183000
DTSTAMP:20260424T204447
CREATED:20240106T092549Z
LAST-MODIFIED:20240106T092549Z
UID:3345-1704819600-1704825000@www.aelcles.org
SUMMARY:Café Con Hematología
DESCRIPTION:Empezamos el año con nuestra cita mensual de #cafeconhematologia a la misma hora de siempre\, 17h \nEsperamos que hayáis cargado bien las pilas y os esperamos a todos en el canal de meet.jit.si. \nhttps://meet.jit.si/ADMOBU \n 
URL:https://www.aelcles.org/evento/cafe-con-hematologia-23/
ATTACH;FMTTYPE=image/png:https://www.aelcles.org/wp-content/uploads/2024/01/Primera-cita-de-este-ano-9-de-Enero_20240106_094130_0000.png
END:VEVENT
BEGIN:VEVENT
DTSTART;TZID=Europe/Madrid:20231205T053000
DTEND;TZID=Europe/Madrid:20231205T183000
DTSTAMP:20260424T204447
CREATED:20231107T191928Z
LAST-MODIFIED:20231204T183937Z
UID:3276-1701754200-1701801000@www.aelcles.org
SUMMARY:CAFÉ CON HEMATOLOGÍA
DESCRIPTION:Último #cafeconhematologia del año!!!!\nAlguna duda en cuanto a tu salud\, tu tratamiento\, tu familiar… Estamos para pasar un rato entre personas que pasan por algo parecido o igual a lo que te pasa a tí o a alguien que quieres. \nConéctate al café virtual que ayuda a calmar tu ansiedad por tu falta de información.\n☕☕☕☕☕☕☕☕ \nHaz clic en el enlace para unirte a la reunión   Pulsa aquí
URL:https://www.aelcles.org/evento/cafe-con-hematologia-22/
ATTACH;FMTTYPE=image/jpeg:https://www.aelcles.org/wp-content/uploads/2023/11/WhatsApp-Image-2023-11-07-at-19.39.12.jpeg
END:VEVENT
BEGIN:VEVENT
DTSTART;TZID=Europe/Madrid:20231201T170000
DTEND;TZID=Europe/Madrid:20231201T190000
DTSTAMP:20260424T204447
CREATED:20231128T184813Z
LAST-MODIFIED:20231128T184813Z
UID:3338-1701450000-1701457200@www.aelcles.org
SUMMARY:Club De Lectura
DESCRIPTION:Este viernes día 1 de Dic\, a las 17:00h\, disfrutaremos del #clubdelectura organizado por Asotrame  \n\n \n  \nEn esta ocasión hablaremos del libro: «𝐿𝑒𝑐𝑐𝑖𝑜𝑛𝑒𝑠 𝑑𝑒 𝑞𝑢𝑖́𝑚𝑖𝑐𝑎» de Bonnie Garmus\, una novela que aborda el tema de la #IgualdadDeGénero y de la necesidad de ser uno mismo o una misma. \nSi quieres participar conéctate vía ZOOM En este enlace \n  \nID de reunión: 812 1442 4162 \nCódigo de acceso: 746923 \n  \n¡Te esperamos!
URL:https://www.aelcles.org/evento/club-de-lectura-2/
ATTACH;FMTTYPE=image/jpeg:https://www.aelcles.org/wp-content/uploads/2023/11/IMG_20231128_193744_355.jpg
END:VEVENT
BEGIN:VEVENT
DTSTART;TZID=Europe/Madrid:20231129T170000
DTEND;TZID=Europe/Madrid:20231129T180000
DTSTAMP:20260424T204447
CREATED:20231107T200456Z
LAST-MODIFIED:20231107T200456Z
UID:3320-1701277200-1701280800@www.aelcles.org
SUMMARY:Mi tiempo para Mi: REUNIÓN MIELOMA
DESCRIPTION:Especialmente dedicado a pacientes con Mieloma Múltiple. \nTendremos un encuentro entre iguales en el que podremos hablar con otros pacientes que también tengan Mieloma Múltiple. \nPuedes conectarte a través de la plataforma meet.jit.si/aelclés. \nSi quieres saber más\, no dudes en ponerte en contacto con nosotros en el correo: psicologia@aelcles.org o a través del teléfono: +34 641 496 702. \n 
URL:https://www.aelcles.org/evento/mi-tiempo-para-mi-reunion-mieloma-29/
CATEGORIES:online
ATTACH;FMTTYPE=image/jpeg:https://www.aelcles.org/wp-content/uploads/2022/05/WhatsApp-Image-2023-10-27-at-20.53.52.jpeg
ORGANIZER;CN="AELCLES":MAILTO:info@aelcles.org
END:VEVENT
BEGIN:VEVENT
DTSTART;TZID=Europe/Madrid:20231128T170000
DTEND;TZID=Europe/Madrid:20231128T180000
DTSTAMP:20260424T204447
CREATED:20230516T154154Z
LAST-MODIFIED:20231127T180942Z
UID:3083-1701190800-1701194400@www.aelcles.org
SUMMARY:MI HILO ROJO
DESCRIPTION:El último martes del mes tenemos un encuentro entre pacientes y familiares para comentar sus experiencias. \nAnímate a participar\, solo tienes que entrar en la siguiente dirección:  https://meet.jit.si/aelcles \nTe esperamos!!!
URL:https://www.aelcles.org/evento/mi-hilo-rojo-13/
ATTACH;FMTTYPE=image/jpeg:https://www.aelcles.org/wp-content/uploads/2023/05/WhatsApp-Image-2023-11-07-at-18.34.02.jpeg
END:VEVENT
BEGIN:VEVENT
DTSTART;TZID=Europe/Madrid:20231123T180000
DTEND;TZID=Europe/Madrid:20231123T220000
DTSTAMP:20260424T204447
CREATED:20231119T215855Z
LAST-MODIFIED:20231119T215855Z
UID:3329-1700762400-1700776800@www.aelcles.org
SUMMARY:
DESCRIPTION:Nuestros compañeros de Asleuval nos invitan a la II Jornada Investigación y Ciencia centrada en el Paciente. \nSerá el 23 de noviembre a las16:00 horas en el Auditorio del Instituto de Investigación Sanitaria la Fe de Valencia. \nHabrá una comida tipo cóctel a las 14:00 horas. \nSe ruega confirmar asistencia  Aquí
URL:https://www.aelcles.org/evento/3329/
ATTACH;FMTTYPE=image/jpeg:https://www.aelcles.org/wp-content/uploads/2023/11/Programa-Jornada-Asleuval-scaled.jpg
END:VEVENT
BEGIN:VEVENT
DTSTART;TZID=Europe/Madrid:20231122T170000
DTEND;TZID=Europe/Madrid:20231122T180000
DTSTAMP:20260424T204447
CREATED:20231107T200343Z
LAST-MODIFIED:20231107T200343Z
UID:3318-1700672400-1700676000@www.aelcles.org
SUMMARY:Mi tiempo para Mi: REUNIÓN MIELOMA
DESCRIPTION:Especialmente dedicado a pacientes con Mieloma Múltiple. \nTendremos un encuentro entre iguales en el que podremos hablar con otros pacientes que también tengan Mieloma Múltiple. \nPuedes conectarte a través de la plataforma meet.jit.si/aelclés. \nSi quieres saber más\, no dudes en ponerte en contacto con nosotros en el correo: psicologia@aelcles.org o a través del teléfono: +34 641 496 702. \n 
URL:https://www.aelcles.org/evento/mi-tiempo-para-mi-reunion-mieloma-28/
CATEGORIES:online
ATTACH;FMTTYPE=image/jpeg:https://www.aelcles.org/wp-content/uploads/2023/03/WhatsApp-Image-2023-11-07-at-20.22.42.jpeg
ORGANIZER;CN="AELCLES":MAILTO:info@aelcles.org
END:VEVENT
BEGIN:VEVENT
DTSTART;TZID=Europe/Madrid:20231121T170000
DTEND;TZID=Europe/Madrid:20231121T183000
DTSTAMP:20260424T204447
CREATED:20231119T220541Z
LAST-MODIFIED:20231119T220541Z
UID:3333-1700586000-1700591400@www.aelcles.org
SUMMARY:Momento del Movimiento
DESCRIPTION:Desde AELCLÉS queremos acercar los conocimientos de la fisioterapia a pacientes que hayan pasado por un cáncer hematológico. No se trata de una consulta fisioterapéutica\, sino un espacio en el que el fisioterapeuta nos explique un aspecto concreto de interés general para nuestros pacientes y dejaremos un espacio para que los pacientes pregunten sus dudas y puedan resolverse de manera sencilla.
URL:https://www.aelcles.org/evento/momento-del-movimiento-12/
ATTACH;FMTTYPE=image/jpeg:https://www.aelcles.org/wp-content/uploads/2023/11/MOMENTO-DEL-MOVIMIENTO.jpg
END:VEVENT
BEGIN:VEVENT
DTSTART;TZID=Europe/Madrid:20231115T170000
DTEND;TZID=Europe/Madrid:20231115T180000
DTSTAMP:20260424T204447
CREATED:20231107T200245Z
LAST-MODIFIED:20231107T200245Z
UID:3316-1700067600-1700071200@www.aelcles.org
SUMMARY:Mi tiempo para Mi: REUNIÓN MIELOMA
DESCRIPTION:Especialmente dedicado a pacientes con Mieloma Múltiple. \nTendremos un encuentro entre iguales en el que podremos hablar con otros pacientes que también tengan Mieloma Múltiple. \nPuedes conectarte a través de la plataforma meet.jit.si/aelclés. \nSi quieres saber más\, no dudes en ponerte en contacto con nosotros en el correo: psicologia@aelcles.org o a través del teléfono: +34 641 496 702. \n 
URL:https://www.aelcles.org/evento/mi-tiempo-para-mi-reunion-mieloma-27/
CATEGORIES:online
ATTACH;FMTTYPE=image/png:https://www.aelcles.org/wp-content/uploads/2022/11/Mi-tiempo-para-mi-Post-para-Instagram-cuadrado-1.png
ORGANIZER;CN="AELCLES":MAILTO:info@aelcles.org
END:VEVENT
BEGIN:VEVENT
DTSTART;TZID=Europe/Madrid:20231107T053000
DTEND;TZID=Europe/Madrid:20231107T183000
DTSTAMP:20260424T204447
CREATED:20230516T152744Z
LAST-MODIFIED:20231107T175922Z
UID:3077-1699335000-1699381800@www.aelcles.org
SUMMARY:CAFÉ CON HEMATOLOGÍA
DESCRIPTION:Alguna duda en cuanto a tu salud\, tu tratamiento\, tu familiar… Estamos para pasar un rato entre personas que pasan por algo parecido o igual a lo que te pasa a tí o a alguien que quieres. \nConéctate al café virtual que ayuda a calmar tu ansiedad por tu falta de información.\n☕☕☕☕☕☕☕☕ \nHaz clic en el enlace para unirte a la reunión   Pulsa aquí
URL:https://www.aelcles.org/evento/cafe-con-hematologia-19/
ATTACH;FMTTYPE=image/jpeg:https://www.aelcles.org/wp-content/uploads/2023/05/WhatsApp-Image-2023-11-03-at-21.46.52.jpeg
END:VEVENT
BEGIN:VEVENT
DTSTART;TZID=Europe/Madrid:20231031T173000
DTEND;TZID=Europe/Madrid:20231031T183000
DTSTAMP:20260424T204447
CREATED:20230221T110058Z
LAST-MODIFIED:20231107T181416Z
UID:3058-1698773400-1698777000@www.aelcles.org
SUMMARY:MI HILO ROJO
DESCRIPTION:El último martes del mes tenemos un encuentro entre pacientes y familiares para comentar sus experiencias. \nAnímate a participar\, solo tienes que entrar en la siguiente dirección:  https://meet.jit.si/aelcles \nTe esperamos!!!
URL:https://www.aelcles.org/evento/mi-hilo-rojo-12/
ATTACH;FMTTYPE=image/jpeg:https://www.aelcles.org/wp-content/uploads/2023/05/WhatsApp-Image-2023-11-07-at-18.34.02.jpeg
END:VEVENT
BEGIN:VEVENT
DTSTART;TZID=Europe/Madrid:20231025T170000
DTEND;TZID=Europe/Madrid:20231025T180000
DTSTAMP:20260424T204447
CREATED:20231107T200036Z
LAST-MODIFIED:20231107T200036Z
UID:3313-1698253200-1698256800@www.aelcles.org
SUMMARY:Mi tiempo para Mi: REUNIÓN MIELOMA
DESCRIPTION:Especialmente dedicado a pacientes con Mieloma Múltiple. \nTendremos un encuentro entre iguales en el que podremos hablar con otros pacientes que también tengan Mieloma Múltiple. \nPuedes conectarte a través de la plataforma meet.jit.si/aelclés. \nSi quieres saber más\, no dudes en ponerte en contacto con nosotros en el correo: psicologia@aelcles.org o a través del teléfono: +34 641 496 702. \n 
URL:https://www.aelcles.org/evento/mi-tiempo-para-mi-reunion-mieloma-26/
CATEGORIES:online
ATTACH;FMTTYPE=image/jpeg:https://www.aelcles.org/wp-content/uploads/2023/03/WhatsApp-Image-2023-11-07-at-20.22.42.jpeg
ORGANIZER;CN="AELCLES":MAILTO:info@aelcles.org
END:VEVENT
BEGIN:VEVENT
DTSTART;TZID=Europe/Madrid:20231018T170000
DTEND;TZID=Europe/Madrid:20231018T180000
DTSTAMP:20260424T204447
CREATED:20231107T200007Z
LAST-MODIFIED:20231107T200007Z
UID:3312-1697648400-1697652000@www.aelcles.org
SUMMARY:Mi tiempo para Mi: REUNIÓN MIELOMA
DESCRIPTION:Especialmente dedicado a pacientes con Mieloma Múltiple. \nTendremos un encuentro entre iguales en el que podremos hablar con otros pacientes que también tengan Mieloma Múltiple. \nPuedes conectarte a través de la plataforma meet.jit.si/aelclés. \nSi quieres saber más\, no dudes en ponerte en contacto con nosotros en el correo: psicologia@aelcles.org o a través del teléfono: +34 641 496 702. \n 
URL:https://www.aelcles.org/evento/mi-tiempo-para-mi-reunion-mieloma-25/
CATEGORIES:online
ATTACH;FMTTYPE=image/jpeg:https://www.aelcles.org/wp-content/uploads/2022/05/WhatsApp-Image-2023-10-27-at-20.53.52.jpeg
ORGANIZER;CN="AELCLES":MAILTO:info@aelcles.org
END:VEVENT
END:VCALENDAR