BEGIN:VCALENDAR
VERSION:2.0
PRODID:-//AELCLÉS - ECPv6.15.20//NONSGML v1.0//EN
CALSCALE:GREGORIAN
METHOD:PUBLISH
X-WR-CALNAME:AELCLÉS
X-ORIGINAL-URL:https://www.aelcles.org
X-WR-CALDESC:Eventos para AELCLÉS
REFRESH-INTERVAL;VALUE=DURATION:PT1H
X-Robots-Tag:noindex
X-PUBLISHED-TTL:PT1H
BEGIN:VTIMEZONE
TZID:Europe/Madrid
BEGIN:DAYLIGHT
TZOFFSETFROM:+0100
TZOFFSETTO:+0200
TZNAME:CEST
DTSTART:20250330T010000
END:DAYLIGHT
BEGIN:STANDARD
TZOFFSETFROM:+0200
TZOFFSETTO:+0100
TZNAME:CET
DTSTART:20251026T010000
END:STANDARD
BEGIN:DAYLIGHT
TZOFFSETFROM:+0100
TZOFFSETTO:+0200
TZNAME:CEST
DTSTART:20260329T010000
END:DAYLIGHT
BEGIN:STANDARD
TZOFFSETFROM:+0200
TZOFFSETTO:+0100
TZNAME:CET
DTSTART:20261025T010000
END:STANDARD
BEGIN:DAYLIGHT
TZOFFSETFROM:+0100
TZOFFSETTO:+0200
TZNAME:CEST
DTSTART:20270328T010000
END:DAYLIGHT
BEGIN:STANDARD
TZOFFSETFROM:+0200
TZOFFSETTO:+0100
TZNAME:CET
DTSTART:20271031T010000
END:STANDARD
END:VTIMEZONE
BEGIN:VEVENT
DTSTART;TZID=Europe/Madrid:20260331T170000
DTEND;TZID=Europe/Madrid:20260331T180000
DTSTAMP:20260422T122525
CREATED:20260211T080049Z
LAST-MODIFIED:20260327T121601Z
UID:4899-1774976400-1774980000@www.aelcles.org
SUMMARY:Mi Hilo Rojo
DESCRIPTION:Como cada mes nos reencontramos  con #mihilorojo\, un grupo de iguales en el que el paciente o su familiar se siente apoyado y comprendido\, solventar posibles dudas a través de otros miembros del grupo para confrontar mejor la enfermedad\, su tratamiento y recuperación. \nSe realiza a través del enlace de ZOOM https://us06web.zoom.us/j/89012542532\, si quieres participar ponte en contacto en psicologia@aelcles.org o en el teléfono 641496702 \n 
URL:https://www.aelcles.org/evento/mi-hilo-rojo-35/
CATEGORIES:online
ATTACH;FMTTYPE=image/png:https://www.aelcles.org/wp-content/uploads/2026/02/c726ba55-94fa-461a-b309-df0fd428b37b.png
END:VEVENT
END:VCALENDAR