BEGIN:VCALENDAR
VERSION:2.0
PRODID:-//AELCLÉS - ECPv6.15.20//NONSGML v1.0//EN
CALSCALE:GREGORIAN
METHOD:PUBLISH
X-ORIGINAL-URL:https://www.aelcles.org
X-WR-CALDESC:Eventos para AELCLÉS
REFRESH-INTERVAL;VALUE=DURATION:PT1H
X-Robots-Tag:noindex
X-PUBLISHED-TTL:PT1H
BEGIN:VTIMEZONE
TZID:Europe/Madrid
BEGIN:DAYLIGHT
TZOFFSETFROM:+0100
TZOFFSETTO:+0200
TZNAME:CEST
DTSTART:20250330T010000
END:DAYLIGHT
BEGIN:STANDARD
TZOFFSETFROM:+0200
TZOFFSETTO:+0100
TZNAME:CET
DTSTART:20251026T010000
END:STANDARD
BEGIN:DAYLIGHT
TZOFFSETFROM:+0100
TZOFFSETTO:+0200
TZNAME:CEST
DTSTART:20260329T010000
END:DAYLIGHT
BEGIN:STANDARD
TZOFFSETFROM:+0200
TZOFFSETTO:+0100
TZNAME:CET
DTSTART:20261025T010000
END:STANDARD
BEGIN:DAYLIGHT
TZOFFSETFROM:+0100
TZOFFSETTO:+0200
TZNAME:CEST
DTSTART:20270328T010000
END:DAYLIGHT
BEGIN:STANDARD
TZOFFSETFROM:+0200
TZOFFSETTO:+0100
TZNAME:CET
DTSTART:20271031T010000
END:STANDARD
END:VTIMEZONE
BEGIN:VEVENT
DTSTART;TZID=Europe/Madrid:20260317T170000
DTEND;TZID=Europe/Madrid:20260317T180000
DTSTAMP:20260422T144910
CREATED:20260126T075729Z
LAST-MODIFIED:20260126T075854Z
UID:4847-1773766800-1773770400@www.aelcles.org
SUMMARY:Club de Lectura
DESCRIPTION:Nuevo #ClubDeLectura el próximo martes 17 de marzo a las 17:00h.\nEn esta ocasión hemos elegido «Seda» de Alessandro Baricco.\nAnímate a leerlo y conéctate con nosotr@s el 17 de marzo a las 17:00h en el enlace:\nhttps://us06web.zoom.us/j/87899859400\nTe esperamos!! \n  \n  \n  \n 
URL:https://www.aelcles.org/evento/club-de-lectura-11/
CATEGORIES:online
ATTACH;FMTTYPE=image/png:https://www.aelcles.org/wp-content/uploads/2026/01/SEDA-2.png
END:VEVENT
END:VCALENDAR