BEGIN:VCALENDAR
VERSION:2.0
PRODID:-//AELCLÉS - ECPv6.15.20//NONSGML v1.0//EN
CALSCALE:GREGORIAN
METHOD:PUBLISH
X-WR-CALNAME:AELCLÉS
X-ORIGINAL-URL:https://www.aelcles.org
X-WR-CALDESC:Eventos para AELCLÉS
REFRESH-INTERVAL;VALUE=DURATION:PT1H
X-Robots-Tag:noindex
X-PUBLISHED-TTL:PT1H
BEGIN:VTIMEZONE
TZID:Europe/Madrid
BEGIN:DAYLIGHT
TZOFFSETFROM:+0100
TZOFFSETTO:+0200
TZNAME:CEST
DTSTART:20250330T010000
END:DAYLIGHT
BEGIN:STANDARD
TZOFFSETFROM:+0200
TZOFFSETTO:+0100
TZNAME:CET
DTSTART:20251026T010000
END:STANDARD
BEGIN:DAYLIGHT
TZOFFSETFROM:+0100
TZOFFSETTO:+0200
TZNAME:CEST
DTSTART:20260329T010000
END:DAYLIGHT
BEGIN:STANDARD
TZOFFSETFROM:+0200
TZOFFSETTO:+0100
TZNAME:CET
DTSTART:20261025T010000
END:STANDARD
BEGIN:DAYLIGHT
TZOFFSETFROM:+0100
TZOFFSETTO:+0200
TZNAME:CEST
DTSTART:20270328T010000
END:DAYLIGHT
BEGIN:STANDARD
TZOFFSETFROM:+0200
TZOFFSETTO:+0100
TZNAME:CET
DTSTART:20271031T010000
END:STANDARD
END:VTIMEZONE
BEGIN:VEVENT
DTSTART;TZID=Europe/Madrid:20260120T170000
DTEND;TZID=Europe/Madrid:20260120T180000
DTSTAMP:20260422T181606
CREATED:20251223T173110Z
LAST-MODIFIED:20260114T111642Z
UID:4801-1768928400-1768932000@www.aelcles.org
SUMMARY:Club de Lectura
DESCRIPTION:Nuevo #ClubDeLectura el próximo martes 20 de enero a las 17:00h.\nEn esta ocasión hemos elegido «La Camarera» de Nita Prose.\nAnímate a leerlo y conéctate con nosotr@s el 20 de enero a las 17:00h en el enlace:\nhttps://us06web.zoom.us/j/87899859400\nTe esperamos!! \n  \n  \n \n  \n 
URL:https://www.aelcles.org/evento/club-de-lectura-10/
CATEGORIES:online
ATTACH;FMTTYPE=image/png:https://www.aelcles.org/wp-content/uploads/2025/12/Cartel-Club-de-Lectura-LA-CAMARERA.png
END:VEVENT
END:VCALENDAR