BEGIN:VCALENDAR
VERSION:2.0
PRODID:-//AELCLÉS - ECPv6.15.20//NONSGML v1.0//EN
CALSCALE:GREGORIAN
METHOD:PUBLISH
X-WR-CALNAME:AELCLÉS
X-ORIGINAL-URL:https://www.aelcles.org
X-WR-CALDESC:Eventos para AELCLÉS
REFRESH-INTERVAL;VALUE=DURATION:PT1H
X-Robots-Tag:noindex
X-PUBLISHED-TTL:PT1H
BEGIN:VTIMEZONE
TZID:Europe/Madrid
BEGIN:DAYLIGHT
TZOFFSETFROM:+0100
TZOFFSETTO:+0200
TZNAME:CEST
DTSTART:20240331T010000
END:DAYLIGHT
BEGIN:STANDARD
TZOFFSETFROM:+0200
TZOFFSETTO:+0100
TZNAME:CET
DTSTART:20241027T010000
END:STANDARD
BEGIN:DAYLIGHT
TZOFFSETFROM:+0100
TZOFFSETTO:+0200
TZNAME:CEST
DTSTART:20250330T010000
END:DAYLIGHT
BEGIN:STANDARD
TZOFFSETFROM:+0200
TZOFFSETTO:+0100
TZNAME:CET
DTSTART:20251026T010000
END:STANDARD
BEGIN:DAYLIGHT
TZOFFSETFROM:+0100
TZOFFSETTO:+0200
TZNAME:CEST
DTSTART:20260329T010000
END:DAYLIGHT
BEGIN:STANDARD
TZOFFSETFROM:+0200
TZOFFSETTO:+0100
TZNAME:CET
DTSTART:20261025T010000
END:STANDARD
END:VTIMEZONE
BEGIN:VEVENT
DTSTART;TZID=Europe/Madrid:20251120T170000
DTEND;TZID=Europe/Madrid:20251120T180000
DTSTAMP:20260422T214537
CREATED:20251110T100122Z
LAST-MODIFIED:20251110T100122Z
UID:4627-1763658000-1763661600@www.aelcles.org
SUMMARY:Club de Lectura
DESCRIPTION:Nuevo #ClubDeLectura el próximo jueves 20 de noviembre a las 17:00h.\nEn esta ocasión queremos celebrar el centenario del nacimiento de Carmen Martín Gaite y para ello hemos elegido «Caperucita en Manhattan».\nAnímate a leerlo y conéctate con nosotr@s el 20 de noviembre a las 17:00h en el enlace:\nhttps://us06web.zoom.us/j/82077184348\nTe esperamos!! \n  \n \n  \n  \n  \n  \n 
URL:https://www.aelcles.org/evento/club-de-lectura-9/
CATEGORIES:online
ATTACH;FMTTYPE=image/jpeg:https://www.aelcles.org/wp-content/uploads/2025/11/Club_lectura_noviembre_2025.jpeg
END:VEVENT
END:VCALENDAR