BEGIN:VCALENDAR
VERSION:2.0
PRODID:-//AELCLÉS - ECPv6.15.20//NONSGML v1.0//EN
CALSCALE:GREGORIAN
METHOD:PUBLISH
X-WR-CALNAME:AELCLÉS
X-ORIGINAL-URL:https://www.aelcles.org
X-WR-CALDESC:Eventos para AELCLÉS
REFRESH-INTERVAL;VALUE=DURATION:PT1H
X-Robots-Tag:noindex
X-PUBLISHED-TTL:PT1H
BEGIN:VTIMEZONE
TZID:Europe/Madrid
BEGIN:DAYLIGHT
TZOFFSETFROM:+0100
TZOFFSETTO:+0200
TZNAME:CEST
DTSTART:20240331T010000
END:DAYLIGHT
BEGIN:STANDARD
TZOFFSETFROM:+0200
TZOFFSETTO:+0100
TZNAME:CET
DTSTART:20241027T010000
END:STANDARD
BEGIN:DAYLIGHT
TZOFFSETFROM:+0100
TZOFFSETTO:+0200
TZNAME:CEST
DTSTART:20250330T010000
END:DAYLIGHT
BEGIN:STANDARD
TZOFFSETFROM:+0200
TZOFFSETTO:+0100
TZNAME:CET
DTSTART:20251026T010000
END:STANDARD
BEGIN:DAYLIGHT
TZOFFSETFROM:+0100
TZOFFSETTO:+0200
TZNAME:CEST
DTSTART:20260329T010000
END:DAYLIGHT
BEGIN:STANDARD
TZOFFSETFROM:+0200
TZOFFSETTO:+0100
TZNAME:CET
DTSTART:20261025T010000
END:STANDARD
END:VTIMEZONE
BEGIN:VEVENT
DTSTART;TZID=Europe/Madrid:20251111T173000
DTEND;TZID=Europe/Madrid:20251111T183000
DTSTAMP:20260422T214609
CREATED:20251012T090234Z
LAST-MODIFIED:20251110T184852Z
UID:4598-1762882200-1762885800@www.aelcles.org
SUMMARY:Café con Hematología
DESCRIPTION:Se cancela el «Café con Hematología» del martes 11 de noviembre a las 17:30.\nOs avisaremos en cuanto tengamos nueva fecha
URL:https://www.aelcles.org/evento/cafe-con-hematologia-38/
CATEGORIES:online
ATTACH;FMTTYPE=image/png:https://www.aelcles.org/wp-content/uploads/2025/10/Captura-de-pantalla-2025-11-10-a-las-19.48.17.png
ORGANIZER;CN="AELCLES":MAILTO:info@aelcles.org
END:VEVENT
END:VCALENDAR