BEGIN:VCALENDAR
VERSION:2.0
PRODID:-//AELCLÉS - ECPv6.15.20//NONSGML v1.0//EN
CALSCALE:GREGORIAN
METHOD:PUBLISH
X-ORIGINAL-URL:https://www.aelcles.org
X-WR-CALDESC:Eventos para AELCLÉS
REFRESH-INTERVAL;VALUE=DURATION:PT1H
X-Robots-Tag:noindex
X-PUBLISHED-TTL:PT1H
BEGIN:VTIMEZONE
TZID:Europe/Madrid
BEGIN:DAYLIGHT
TZOFFSETFROM:+0100
TZOFFSETTO:+0200
TZNAME:CEST
DTSTART:20240331T010000
END:DAYLIGHT
BEGIN:STANDARD
TZOFFSETFROM:+0200
TZOFFSETTO:+0100
TZNAME:CET
DTSTART:20241027T010000
END:STANDARD
BEGIN:DAYLIGHT
TZOFFSETFROM:+0100
TZOFFSETTO:+0200
TZNAME:CEST
DTSTART:20250330T010000
END:DAYLIGHT
BEGIN:STANDARD
TZOFFSETFROM:+0200
TZOFFSETTO:+0100
TZNAME:CET
DTSTART:20251026T010000
END:STANDARD
BEGIN:DAYLIGHT
TZOFFSETFROM:+0100
TZOFFSETTO:+0200
TZNAME:CEST
DTSTART:20260329T010000
END:DAYLIGHT
BEGIN:STANDARD
TZOFFSETFROM:+0200
TZOFFSETTO:+0100
TZNAME:CET
DTSTART:20261025T010000
END:STANDARD
END:VTIMEZONE
BEGIN:VEVENT
DTSTART;TZID=Europe/Madrid:20250611T170000
DTEND;TZID=Europe/Madrid:20250611T180000
DTSTAMP:20260424T165610
CREATED:20250607T154957Z
LAST-MODIFIED:20250607T155042Z
UID:4283-1749661200-1749664800@www.aelcles.org
SUMMARY:Club de Lectura
DESCRIPTION:En nuestro próximo «CLUB DE LECTURA»\, que celebraremos el miércoles 11 de Junio a las 17:00h\, comentaremos el libro «La asistenta» de Freida McFadden.\nSi eres una persona con cáncer hematológico o cuidas a una de ellas y quieres acompañarnos escríbenos a info@aelcles.org o envíanos un whatsapp al 641496702. \n  \n \n  \n  \n 
URL:https://www.aelcles.org/evento/club-de-lectura-8/
CATEGORIES:online
ATTACH;FMTTYPE=image/jpeg:https://www.aelcles.org/wp-content/uploads/2025/06/club-de-lectura_Junio.jpeg
END:VEVENT
END:VCALENDAR