BEGIN:VCALENDAR
VERSION:2.0
PRODID:-//AELCLÉS - ECPv6.15.20//NONSGML v1.0//EN
CALSCALE:GREGORIAN
METHOD:PUBLISH
X-ORIGINAL-URL:https://www.aelcles.org
X-WR-CALDESC:Eventos para AELCLÉS
REFRESH-INTERVAL;VALUE=DURATION:PT1H
X-Robots-Tag:noindex
X-PUBLISHED-TTL:PT1H
BEGIN:VTIMEZONE
TZID:Europe/Madrid
BEGIN:DAYLIGHT
TZOFFSETFROM:+0100
TZOFFSETTO:+0200
TZNAME:CEST
DTSTART:20230326T010000
END:DAYLIGHT
BEGIN:STANDARD
TZOFFSETFROM:+0200
TZOFFSETTO:+0100
TZNAME:CET
DTSTART:20231029T010000
END:STANDARD
BEGIN:DAYLIGHT
TZOFFSETFROM:+0100
TZOFFSETTO:+0200
TZNAME:CEST
DTSTART:20240331T010000
END:DAYLIGHT
BEGIN:STANDARD
TZOFFSETFROM:+0200
TZOFFSETTO:+0100
TZNAME:CET
DTSTART:20241027T010000
END:STANDARD
BEGIN:DAYLIGHT
TZOFFSETFROM:+0100
TZOFFSETTO:+0200
TZNAME:CEST
DTSTART:20250330T010000
END:DAYLIGHT
BEGIN:STANDARD
TZOFFSETFROM:+0200
TZOFFSETTO:+0100
TZNAME:CET
DTSTART:20251026T010000
END:STANDARD
END:VTIMEZONE
BEGIN:VEVENT
DTSTART;TZID=Europe/Madrid:20241029T170000
DTEND;TZID=Europe/Madrid:20241029T180000
DTSTAMP:20260425T043434
CREATED:20241021T105851Z
LAST-MODIFIED:20241021T105925Z
UID:3852-1730221200-1730224800@www.aelcles.org
SUMMARY:Club de Lectura
DESCRIPTION:El próximo martes 29 de octubre a las 17:00h Asotrame\, con la colaboración de AELCLÉS\, organiza su «Club de lectura» y en esta ocasión nos propone la novela «Los nombres propios» de Marta Jiménez.\nSi eres paciente de cáncer hematológico o familiar y quieres acompañarnos escríbenos a proyectos@asotrame.com o envíanos un whatsapp al 641496702.
URL:https://www.aelcles.org/evento/club-de-lectura-5/
CATEGORIES:online
ATTACH;FMTTYPE=image/jpeg:https://www.aelcles.org/wp-content/uploads/2024/10/Club_lectura_2024-10-29-at-17.jpeg
END:VEVENT
END:VCALENDAR