BEGIN:VCALENDAR
VERSION:2.0
PRODID:-//AELCLÉS - ECPv6.15.20//NONSGML v1.0//EN
CALSCALE:GREGORIAN
METHOD:PUBLISH
X-ORIGINAL-URL:https://www.aelcles.org
X-WR-CALDESC:Eventos para AELCLÉS
REFRESH-INTERVAL;VALUE=DURATION:PT1H
X-Robots-Tag:noindex
X-PUBLISHED-TTL:PT1H
BEGIN:VTIMEZONE
TZID:Europe/Madrid
BEGIN:DAYLIGHT
TZOFFSETFROM:+0100
TZOFFSETTO:+0200
TZNAME:CEST
DTSTART:20240331T010000
END:DAYLIGHT
BEGIN:STANDARD
TZOFFSETFROM:+0200
TZOFFSETTO:+0100
TZNAME:CET
DTSTART:20241027T010000
END:STANDARD
BEGIN:DAYLIGHT
TZOFFSETFROM:+0100
TZOFFSETTO:+0200
TZNAME:CEST
DTSTART:20250330T010000
END:DAYLIGHT
BEGIN:STANDARD
TZOFFSETFROM:+0200
TZOFFSETTO:+0100
TZNAME:CET
DTSTART:20251026T010000
END:STANDARD
BEGIN:DAYLIGHT
TZOFFSETFROM:+0100
TZOFFSETTO:+0200
TZNAME:CEST
DTSTART:20260329T010000
END:DAYLIGHT
BEGIN:STANDARD
TZOFFSETFROM:+0200
TZOFFSETTO:+0100
TZNAME:CET
DTSTART:20261025T010000
END:STANDARD
END:VTIMEZONE
BEGIN:VEVENT
DTSTART;TZID=Europe/Madrid:20251007T173000
DTEND;TZID=Europe/Madrid:20251007T183000
DTSTAMP:20260422T214526
CREATED:20250911T155510Z
LAST-MODIFIED:20251003T085353Z
UID:4397-1759858200-1759861800@www.aelcles.org
SUMMARY:Café con Hematología
DESCRIPTION:Como todos los meses\, el 1er martes\, a las 17:30\, tenemos nuestro «Café con Hematología». Este mes será el 7 de octubre\nConéctate en: https://us06web.zoom.us/j/82667307433\nSi eres una persona con una enfermedad oncohematológica o quien la cuida puedes plantear tus dudas a nuestro hematólogo Dr. Javier Díaz.\nOrganiza ADMOBU junto con AELCLÉS.\nColabora Johnson&Johnson.\n  \n  \n  \n  \n  \n  \n  \n 
URL:https://www.aelcles.org/evento/cafe-con-hematologia-37/
CATEGORIES:online
ATTACH;FMTTYPE=image/jpeg:https://www.aelcles.org/wp-content/uploads/2025/09/octubre_2025.jpeg
ORGANIZER;CN="AELCLES":MAILTO:info@aelcles.org
END:VEVENT
BEGIN:VEVENT
DTSTART;TZID=Europe/Madrid:20251008T000000
DTEND;TZID=Europe/Madrid:20251008T000000
DTSTAMP:20260422T214526
CREATED:20250911T161037Z
LAST-MODIFIED:20250911T161037Z
UID:4413-1759881600-1759881600@www.aelcles.org
SUMMARY:Mi tiempo para Mi
DESCRIPTION:Si tienes Mieloma Múltiple recuerda que desde #AELCLÉS\, estamos desarrollando el programa «Mi tiempo para mí» para personas con Mieloma Múltiple.\nEste programa ofrece «terapia psicológica» gratuita a pacientes\, familiares y cuidadores de personas afectadas con Mieloma Múltiple. Además puedes contactar con otras personas afectadas con Mieloma Múltiple a través de nuestro grupo de iguales\, en el que trabajamos aspectos como autoestima\, emociones y compartimos experiencias. \nNo te lo pienses y únete a nosotras!!! contáctanos en psicologia@aelcles.org o en el teléfono 641496702
URL:https://www.aelcles.org/evento/mi-tiempo-para-mi-38/
CATEGORIES:online
ATTACH;FMTTYPE=image/jpeg:https://www.aelcles.org/wp-content/uploads/2022/05/Mi-tiempo-para-mi.jpg
END:VEVENT
BEGIN:VEVENT
DTSTART;TZID=Europe/Madrid:20251015T000000
DTEND;TZID=Europe/Madrid:20251015T000000
DTSTAMP:20260422T214526
CREATED:20250911T161115Z
LAST-MODIFIED:20250911T161115Z
UID:4414-1760486400-1760486400@www.aelcles.org
SUMMARY:Mi tiempo para Mi
DESCRIPTION:Si tienes Mieloma Múltiple recuerda que desde #AELCLÉS\, estamos desarrollando el programa «Mi tiempo para mí» para personas con Mieloma Múltiple.\nEste programa ofrece «terapia psicológica» gratuita a pacientes\, familiares y cuidadores de personas afectadas con Mieloma Múltiple. Además puedes contactar con otras personas afectadas con Mieloma Múltiple a través de nuestro grupo de iguales\, en el que trabajamos aspectos como autoestima\, emociones y compartimos experiencias. \nNo te lo pienses y únete a nosotras!!! contáctanos en psicologia@aelcles.org o en el teléfono 641496702
URL:https://www.aelcles.org/evento/mi-tiempo-para-mi-39/
CATEGORIES:online
ATTACH;FMTTYPE=image/jpeg:https://www.aelcles.org/wp-content/uploads/2022/05/Mi-tiempo-para-mi.jpg
END:VEVENT
BEGIN:VEVENT
DTSTART;TZID=Europe/Madrid:20251020T170000
DTEND;TZID=Europe/Madrid:20251020T180000
DTSTAMP:20260422T214526
CREATED:20250911T161149Z
LAST-MODIFIED:20250917T114735Z
UID:4415-1760979600-1760983200@www.aelcles.org
SUMMARY:Mi Hilo Rojo
DESCRIPTION:Como cada último lunes del mes nos reencontramos  con #mihilorojo\, un grupo de iguales en el que el paciente o su familiar se siente apoyado y comprendido\, solventar posibles dudas a través de otros miembros del grupo para confrontar mejor la enfermedad\, su tratamiento y recuperación. \nSe realiza a través del enlace de ZOOM\, si quieres participar ponte en contacto en psicologia@aelcles.org o en el teléfono 641496702
URL:https://www.aelcles.org/evento/mi-hilo-rojo-30/
CATEGORIES:online
ATTACH;FMTTYPE=image/jpeg:https://www.aelcles.org/wp-content/uploads/2024/04/WhatsApp-Image-2024-04-27-at-13.20.42.jpeg
END:VEVENT
END:VCALENDAR