BEGIN:VCALENDAR
VERSION:2.0
PRODID:-//AELCLÉS - ECPv6.15.20//NONSGML v1.0//EN
CALSCALE:GREGORIAN
METHOD:PUBLISH
X-ORIGINAL-URL:https://www.aelcles.org
X-WR-CALDESC:Eventos para AELCLÉS
REFRESH-INTERVAL;VALUE=DURATION:PT1H
X-Robots-Tag:noindex
X-PUBLISHED-TTL:PT1H
BEGIN:VTIMEZONE
TZID:Europe/Madrid
BEGIN:DAYLIGHT
TZOFFSETFROM:+0100
TZOFFSETTO:+0200
TZNAME:CEST
DTSTART:20240331T010000
END:DAYLIGHT
BEGIN:STANDARD
TZOFFSETFROM:+0200
TZOFFSETTO:+0100
TZNAME:CET
DTSTART:20241027T010000
END:STANDARD
BEGIN:DAYLIGHT
TZOFFSETFROM:+0100
TZOFFSETTO:+0200
TZNAME:CEST
DTSTART:20250330T010000
END:DAYLIGHT
BEGIN:STANDARD
TZOFFSETFROM:+0200
TZOFFSETTO:+0100
TZNAME:CET
DTSTART:20251026T010000
END:STANDARD
BEGIN:DAYLIGHT
TZOFFSETFROM:+0100
TZOFFSETTO:+0200
TZNAME:CEST
DTSTART:20260329T010000
END:DAYLIGHT
BEGIN:STANDARD
TZOFFSETFROM:+0200
TZOFFSETTO:+0100
TZNAME:CET
DTSTART:20261025T010000
END:STANDARD
END:VTIMEZONE
BEGIN:VEVENT
DTSTART;TZID=Europe/Madrid:20250401T173000
DTEND;TZID=Europe/Madrid:20250401T183000
DTSTAMP:20260424T182745
CREATED:20250331T083028Z
LAST-MODIFIED:20250331T083028Z
UID:4125-1743528600-1743532200@www.aelcles.org
SUMMARY:Café con Hematología
DESCRIPTION:Este mes nuestra cita de #caféconhematología será el 1 de abril\n \n  \n  \n  \n  \n  \n  \n 
URL:https://www.aelcles.org/evento/cafe-con-hematologia-33/
CATEGORIES:online
ATTACH;FMTTYPE=image/jpeg:https://www.aelcles.org/wp-content/uploads/2025/03/CAFE-CON-HEMATOLOGIA__Abril_2025.jpeg
ORGANIZER;CN="AELCLES":MAILTO:info@aelcles.org
END:VEVENT
BEGIN:VEVENT
DTSTART;TZID=Europe/Madrid:20250422T170000
DTEND;TZID=Europe/Madrid:20250422T180000
DTSTAMP:20260424T182745
CREATED:20250222T121654Z
LAST-MODIFIED:20250223T131457Z
UID:4071-1745341200-1745344800@www.aelcles.org
SUMMARY:Club de Lectura
DESCRIPTION:El próximo martes 22 de abril a las 17:00h\,  AELCLÉS\, organiza su «Club de lectura» y en esta ocasión nos propone la novela «Antonia» de Nieves Concostrina.\nSi eres una persona con cáncer hematológico o cuidas a una de ellas y quieres acompañarnos escríbenos a info@aelcles.org o envíanos un whatsapp al 641496702. \n  \n \n 
URL:https://www.aelcles.org/evento/club-de-lectura-7/
CATEGORIES:online
ATTACH;FMTTYPE=image/jpeg:https://www.aelcles.org/wp-content/uploads/2025/02/Abril_2025.jpeg
END:VEVENT
END:VCALENDAR