BEGIN:VCALENDAR
VERSION:2.0
PRODID:-//AELCLÉS - ECPv6.15.20//NONSGML v1.0//EN
CALSCALE:GREGORIAN
METHOD:PUBLISH
X-WR-CALNAME:AELCLÉS
X-ORIGINAL-URL:https://www.aelcles.org
X-WR-CALDESC:Eventos para AELCLÉS
REFRESH-INTERVAL;VALUE=DURATION:PT1H
X-Robots-Tag:noindex
X-PUBLISHED-TTL:PT1H
BEGIN:VTIMEZONE
TZID:Europe/Madrid
BEGIN:DAYLIGHT
TZOFFSETFROM:+0100
TZOFFSETTO:+0200
TZNAME:CEST
DTSTART:20230326T010000
END:DAYLIGHT
BEGIN:STANDARD
TZOFFSETFROM:+0200
TZOFFSETTO:+0100
TZNAME:CET
DTSTART:20231029T010000
END:STANDARD
BEGIN:DAYLIGHT
TZOFFSETFROM:+0100
TZOFFSETTO:+0200
TZNAME:CEST
DTSTART:20240331T010000
END:DAYLIGHT
BEGIN:STANDARD
TZOFFSETFROM:+0200
TZOFFSETTO:+0100
TZNAME:CET
DTSTART:20241027T010000
END:STANDARD
BEGIN:DAYLIGHT
TZOFFSETFROM:+0100
TZOFFSETTO:+0200
TZNAME:CEST
DTSTART:20250330T010000
END:DAYLIGHT
BEGIN:STANDARD
TZOFFSETFROM:+0200
TZOFFSETTO:+0100
TZNAME:CET
DTSTART:20251026T010000
END:STANDARD
END:VTIMEZONE
BEGIN:VEVENT
DTSTART;TZID=Europe/Madrid:20241001T173000
DTEND;TZID=Europe/Madrid:20241001T183000
DTSTAMP:20260425T043218
CREATED:20240930T100507Z
LAST-MODIFIED:20240930T100904Z
UID:3747-1727803800-1727807400@www.aelcles.org
SUMMARY:Café con Hematología
DESCRIPTION:Nuestra cita de #caféconhematología cómo siempre será el primer martes del mes con la colaboración de #JohnsonJohnson \n  \nLa próxima es el 1 de octubre e a las 17:30h en el enlace https://us06web.zoom.us/j/87073534778 \n \nOs esperamos!!! \n 
URL:https://www.aelcles.org/evento/cafe-con-hematologia-27/
CATEGORIES:online
ATTACH;FMTTYPE=image/jpeg:https://www.aelcles.org/wp-content/uploads/2024/09/CCH_1-oct.jpeg
ORGANIZER;CN="AELCLES":MAILTO:info@aelcles.org
END:VEVENT
BEGIN:VEVENT
DTSTART;TZID=Europe/Madrid:20241002T000000
DTEND;TZID=Europe/Madrid:20241002T000000
DTSTAMP:20260425T043218
CREATED:20240930T103907Z
LAST-MODIFIED:20240930T103907Z
UID:3752-1727827200-1727827200@www.aelcles.org
SUMMARY:Mi tiempo para Mi
DESCRIPTION:Si tienes Mieloma Múltiple recuerda que desde #AELCLÉS\, estamos desarrollando el programa «Mi tiempo para mí» para personas con Mieloma Múltiple.\nEste programa ofrece «terapia psicológica» gratuita a pacientes\, familiares y cuidadores de personas afectadas con Mieloma Múltiple. Además puedes contactar con otras personas afectadas con Mieloma Múltiple a través de nuestro grupo de iguales\, en el que trabajamos aspectos como autoestima\, emociones y compartimos experiencias. \nNo te lo pienses y únete a nosotras!!! contáctanos en psicologia@aelcles.org o en el teléfono 641496702
URL:https://www.aelcles.org/evento/mi-tiempo-para-mi-22/
CATEGORIES:online
ATTACH;FMTTYPE=image/jpeg:https://www.aelcles.org/wp-content/uploads/2022/05/Mi-tiempo-para-mi.jpg
END:VEVENT
BEGIN:VEVENT
DTSTART;TZID=Europe/Madrid:20241009T000000
DTEND;TZID=Europe/Madrid:20241009T000000
DTSTAMP:20260425T043218
CREATED:20240930T104056Z
LAST-MODIFIED:20240930T104056Z
UID:3754-1728432000-1728432000@www.aelcles.org
SUMMARY:Mi tiempo para Mi
DESCRIPTION:Si tienes Mieloma Múltiple recuerda que desde #AELCLÉS\, estamos desarrollando el programa «Mi tiempo para mí» para personas con Mieloma Múltiple.\nEste programa ofrece «terapia psicológica» gratuita a pacientes\, familiares y cuidadores de personas afectadas con Mieloma Múltiple. Además puedes contactar con otras personas afectadas con Mieloma Múltiple a través de nuestro grupo de iguales\, en el que trabajamos aspectos como autoestima\, emociones y compartimos experiencias. \nNo te lo pienses y únete a nosotras!!! contáctanos en psicologia@aelcles.org o en el teléfono 641496702
URL:https://www.aelcles.org/evento/mi-tiempo-para-mi-23/
CATEGORIES:online
ATTACH;FMTTYPE=image/jpeg:https://www.aelcles.org/wp-content/uploads/2022/05/Mi-tiempo-para-mi.jpg
END:VEVENT
BEGIN:VEVENT
DTSTART;TZID=Europe/Madrid:20241014T170000
DTEND;TZID=Europe/Madrid:20241014T180000
DTSTAMP:20260425T043218
CREATED:20241010T092928Z
LAST-MODIFIED:20241010T093123Z
UID:3809-1728925200-1728928800@www.aelcles.org
SUMMARY:Acompañamiento final de vida
DESCRIPTION:El taller formativo «Acompañamiento final de vida» está dirigido exclusivamente a trabajador@s\, técnic@s y personas pertenecientes a las Juntas Directivas de las asociaciones que forman parte de AELCLÉS. \nSerá el lunes 14 de octubre a las 17:00h organizado por ASCOL con la colaboración de AELCLÉS\,\nSi estás interesado en participar escribe un mail a ipsicologia@aelcles.org o envía un wasap al 641496702. Gracias
URL:https://www.aelcles.org/evento/acompanamiento-final-de-vida/
CATEGORIES:online
ATTACH;FMTTYPE=image/jpeg:https://www.aelcles.org/wp-content/uploads/2024/10/WhatsApp-Image-2024-10-10-at-11.22.54.jpeg
ORGANIZER;CN="AELCLES":MAILTO:info@aelcles.org
END:VEVENT
BEGIN:VEVENT
DTSTART;TZID=Europe/Madrid:20241016T000000
DTEND;TZID=Europe/Madrid:20241016T000000
DTSTAMP:20260425T043218
CREATED:20240930T104230Z
LAST-MODIFIED:20240930T104230Z
UID:3756-1729036800-1729036800@www.aelcles.org
SUMMARY:Mi tiempo para Mi
DESCRIPTION:Si tienes Mieloma Múltiple recuerda que desde #AELCLÉS\, estamos desarrollando el programa «Mi tiempo para mí» para personas con Mieloma Múltiple.\nEste programa ofrece «terapia psicológica» gratuita a pacientes\, familiares y cuidadores de personas afectadas con Mieloma Múltiple. Además puedes contactar con otras personas afectadas con Mieloma Múltiple a través de nuestro grupo de iguales\, en el que trabajamos aspectos como autoestima\, emociones y compartimos experiencias. \nNo te lo pienses y únete a nosotras!!! contáctanos en psicologia@aelcles.org o en el teléfono 641496702
URL:https://www.aelcles.org/evento/mi-tiempo-para-mi-24/
CATEGORIES:online
ATTACH;FMTTYPE=image/jpeg:https://www.aelcles.org/wp-content/uploads/2022/05/Mi-tiempo-para-mi.jpg
END:VEVENT
BEGIN:VEVENT
DTSTART;TZID=Europe/Madrid:20241028T170000
DTEND;TZID=Europe/Madrid:20241028T180000
DTSTAMP:20260425T043218
CREATED:20241002T175307Z
LAST-MODIFIED:20241002T175307Z
UID:3772-1730134800-1730138400@www.aelcles.org
SUMMARY:Mi Hilo Rojo
DESCRIPTION:Como cada último lunes del mes nos reencontramos  con #mihilorojo\, un grupo de iguales en el que el paciente o su familiar se siente apoyado y comprendido\, solventar posibles dudas a través de otros miembros del grupo para confrontar mejor la enfermedad\, su tratamiento y recuperación. \nSe realiza a través del enlace de ZOOM\, si quieres participar ponte en contacto en psicologia@aelcles.org o en el teléfono 641496702
URL:https://www.aelcles.org/evento/mi-hilo-rojo-22/
CATEGORIES:online
ATTACH;FMTTYPE=image/png:https://www.aelcles.org/wp-content/uploads/2024/04/Diseno-sin-titulo.png
END:VEVENT
BEGIN:VEVENT
DTSTART;TZID=Europe/Madrid:20241029T170000
DTEND;TZID=Europe/Madrid:20241029T180000
DTSTAMP:20260425T043218
CREATED:20241021T105851Z
LAST-MODIFIED:20241021T105925Z
UID:3852-1730221200-1730224800@www.aelcles.org
SUMMARY:Club de Lectura
DESCRIPTION:El próximo martes 29 de octubre a las 17:00h Asotrame\, con la colaboración de AELCLÉS\, organiza su «Club de lectura» y en esta ocasión nos propone la novela «Los nombres propios» de Marta Jiménez.\nSi eres paciente de cáncer hematológico o familiar y quieres acompañarnos escríbenos a proyectos@asotrame.com o envíanos un whatsapp al 641496702.
URL:https://www.aelcles.org/evento/club-de-lectura-5/
CATEGORIES:online
ATTACH;FMTTYPE=image/jpeg:https://www.aelcles.org/wp-content/uploads/2024/10/Club_lectura_2024-10-29-at-17.jpeg
END:VEVENT
END:VCALENDAR