BEGIN:VCALENDAR
VERSION:2.0
PRODID:-//AELCLÉS - ECPv6.15.20//NONSGML v1.0//EN
CALSCALE:GREGORIAN
METHOD:PUBLISH
X-WR-CALNAME:AELCLÉS
X-ORIGINAL-URL:https://www.aelcles.org
X-WR-CALDESC:Eventos para AELCLÉS
REFRESH-INTERVAL;VALUE=DURATION:PT1H
X-Robots-Tag:noindex
X-PUBLISHED-TTL:PT1H
BEGIN:VTIMEZONE
TZID:Europe/Madrid
BEGIN:DAYLIGHT
TZOFFSETFROM:+0100
TZOFFSETTO:+0200
TZNAME:CEST
DTSTART:20250330T010000
END:DAYLIGHT
BEGIN:STANDARD
TZOFFSETFROM:+0200
TZOFFSETTO:+0100
TZNAME:CET
DTSTART:20251026T010000
END:STANDARD
BEGIN:DAYLIGHT
TZOFFSETFROM:+0100
TZOFFSETTO:+0200
TZNAME:CEST
DTSTART:20260329T010000
END:DAYLIGHT
BEGIN:STANDARD
TZOFFSETFROM:+0200
TZOFFSETTO:+0100
TZNAME:CET
DTSTART:20261025T010000
END:STANDARD
BEGIN:DAYLIGHT
TZOFFSETFROM:+0100
TZOFFSETTO:+0200
TZNAME:CEST
DTSTART:20270328T010000
END:DAYLIGHT
BEGIN:STANDARD
TZOFFSETFROM:+0200
TZOFFSETTO:+0100
TZNAME:CET
DTSTART:20271031T010000
END:STANDARD
END:VTIMEZONE
BEGIN:VEVENT
DTSTART;TZID=Europe/Madrid:20260423T000000
DTEND;TZID=Europe/Madrid:20260423T000000
DTSTAMP:20260422T111555
CREATED:20260303T081859Z
LAST-MODIFIED:20260303T081859Z
UID:4991-1776902400-1776902400@www.aelcles.org
SUMMARY:Mi tiempo para Mi
DESCRIPTION:Si tienes Mieloma Múltiple recuerda que desde #AELCLÉS\, estamos desarrollando el programa «Mi tiempo para mí» para personas con Mieloma Múltiple.\nEste programa ofrece «terapia psicológica» gratuita a pacientes\, familiares y cuidadores de personas afectadas con Mieloma Múltiple. Además puedes contactar con otras personas afectadas con Mieloma Múltiple a través de nuestro grupo de iguales\, en el que trabajamos aspectos como autoestima\, emociones y compartimos experiencias. \n¡¡¡No te lo pienses y únete a nosotras!!! contáctanos en psicologia@aelcles.org o en el teléfono 641496702
URL:https://www.aelcles.org/evento/mi-tiempo-para-mi-55/
CATEGORIES:online
ATTACH;FMTTYPE=image/png:https://www.aelcles.org/wp-content/uploads/2025/12/Captura-de-pantalla-2025-12-01-a-las-9.34.52.png
END:VEVENT
BEGIN:VEVENT
DTSTART;TZID=Europe/Madrid:20260427T170000
DTEND;TZID=Europe/Madrid:20260427T180000
DTSTAMP:20260422T111555
CREATED:20260303T081255Z
LAST-MODIFIED:20260303T081255Z
UID:4985-1777309200-1777312800@www.aelcles.org
SUMMARY:Mi Hilo Rojo
DESCRIPTION:Como cada último lunes del mes nos reencontramos  con #mihilorojo\, un grupo de iguales en el que el paciente o su familiar se siente apoyado y comprendido\, solventar posibles dudas a través de otros miembros del grupo para confrontar mejor la enfermedad\, su tratamiento y recuperación. \nSe realiza a través del enlace de ZOOM\, si quieres participar ponte en contacto en psicologia@aelcles.org o en el teléfono 641496702 \n 
URL:https://www.aelcles.org/evento/mi-hilo-rojo-34/
CATEGORIES:online
ATTACH;FMTTYPE=image/png:https://www.aelcles.org/wp-content/uploads/2025/12/ChatGPT-Image-23-dic-2025-18_24_26.png
END:VEVENT
BEGIN:VEVENT
DTSTART;TZID=Europe/Madrid:20260505T173000
DTEND;TZID=Europe/Madrid:20260505T183000
DTSTAMP:20260422T111555
CREATED:20260410T072654Z
LAST-MODIFIED:20260410T072654Z
UID:5049-1778002200-1778005800@www.aelcles.org
SUMMARY:Café con Hematología
DESCRIPTION:Como cada primer martes de mes\, tenemos #cafeconhematologia  a las 17:30. \nSi eres paciente hematológico o cuidador/a puedes plantear tus dudas a nuestro hematólogo Javier Díaz.\nConéctate en: https://us06web.zoom.us/j/87569565271\nOrganiza ADMOBU junto con AELCLÉS/GRUPO_O
URL:https://www.aelcles.org/evento/cafe-con-hematologia-44/
CATEGORIES:online
ATTACH;FMTTYPE=image/png:https://www.aelcles.org/wp-content/uploads/2025/12/CAFE-CON-HEMATOLOGIA.png
ORGANIZER;CN="AELCLES":MAILTO:info@aelcles.org
END:VEVENT
BEGIN:VEVENT
DTSTART;TZID=Europe/Madrid:20260507T000000
DTEND;TZID=Europe/Madrid:20260507T000000
DTSTAMP:20260422T111555
CREATED:20260410T073615Z
LAST-MODIFIED:20260410T073615Z
UID:5054-1778112000-1778112000@www.aelcles.org
SUMMARY:Mi tiempo para Mi
DESCRIPTION:Si tienes Mieloma Múltiple recuerda que desde #AELCLÉS\, estamos desarrollando el programa «Mi tiempo para mí» para personas con Mieloma Múltiple.\nEste programa ofrece «terapia psicológica» gratuita a pacientes\, familiares y cuidadores de personas afectadas con Mieloma Múltiple. Además puedes contactar con otras personas afectadas con Mieloma Múltiple a través de nuestro grupo de iguales\, en el que trabajamos aspectos como autoestima\, emociones y compartimos experiencias. \n¡¡¡No te lo pienses y únete a nosotras!!! contáctanos en psicologia@aelcles.org o en el teléfono 641496702
URL:https://www.aelcles.org/evento/mi-tiempo-para-mi-56/
CATEGORIES:online
ATTACH;FMTTYPE=image/png:https://www.aelcles.org/wp-content/uploads/2025/12/Captura-de-pantalla-2025-12-01-a-las-9.34.52.png
END:VEVENT
BEGIN:VEVENT
DTSTART;TZID=Europe/Madrid:20260514T000000
DTEND;TZID=Europe/Madrid:20260514T000000
DTSTAMP:20260422T111555
CREATED:20260410T073651Z
LAST-MODIFIED:20260410T073651Z
UID:5056-1778716800-1778716800@www.aelcles.org
SUMMARY:Mi tiempo para Mi
DESCRIPTION:Si tienes Mieloma Múltiple recuerda que desde #AELCLÉS\, estamos desarrollando el programa «Mi tiempo para mí» para personas con Mieloma Múltiple.\nEste programa ofrece «terapia psicológica» gratuita a pacientes\, familiares y cuidadores de personas afectadas con Mieloma Múltiple. Además puedes contactar con otras personas afectadas con Mieloma Múltiple a través de nuestro grupo de iguales\, en el que trabajamos aspectos como autoestima\, emociones y compartimos experiencias. \n¡¡¡No te lo pienses y únete a nosotras!!! contáctanos en psicologia@aelcles.org o en el teléfono 641496702
URL:https://www.aelcles.org/evento/mi-tiempo-para-mi-57/
CATEGORIES:online
ATTACH;FMTTYPE=image/png:https://www.aelcles.org/wp-content/uploads/2025/12/Captura-de-pantalla-2025-12-01-a-las-9.34.52.png
END:VEVENT
BEGIN:VEVENT
DTSTART;TZID=Europe/Madrid:20260519T170000
DTEND;TZID=Europe/Madrid:20260519T180000
DTSTAMP:20260422T111555
CREATED:20260410T073252Z
LAST-MODIFIED:20260410T073252Z
UID:5051-1779210000-1779213600@www.aelcles.org
SUMMARY:Club de Lectura
DESCRIPTION:Nuevo #ClubDeLectura el próximo martes 19 de mayo a las 17:00h.\nEn esta ocasión hemos elegido «Por si un día volvemos» de María Dueñas.\nAnímate a leerlo y conéctate con nosotr@s el 19 de mayo a las 17:00h en el enlace:\nhttps://us06web.zoom.us/j/87899859400\nTe esperamos!! \n  \n  \n  \n 
URL:https://www.aelcles.org/evento/club-de-lectura-12/
CATEGORIES:online
ATTACH;FMTTYPE=image/png:https://www.aelcles.org/wp-content/uploads/2026/04/Por-si-un-dia-volvemos.png
END:VEVENT
BEGIN:VEVENT
DTSTART;TZID=Europe/Madrid:20260521T000000
DTEND;TZID=Europe/Madrid:20260521T000000
DTSTAMP:20260422T111555
CREATED:20260410T073730Z
LAST-MODIFIED:20260410T073730Z
UID:5058-1779321600-1779321600@www.aelcles.org
SUMMARY:Mi tiempo para Mi
DESCRIPTION:Si tienes Mieloma Múltiple recuerda que desde #AELCLÉS\, estamos desarrollando el programa «Mi tiempo para mí» para personas con Mieloma Múltiple.\nEste programa ofrece «terapia psicológica» gratuita a pacientes\, familiares y cuidadores de personas afectadas con Mieloma Múltiple. Además puedes contactar con otras personas afectadas con Mieloma Múltiple a través de nuestro grupo de iguales\, en el que trabajamos aspectos como autoestima\, emociones y compartimos experiencias. \n¡¡¡No te lo pienses y únete a nosotras!!! contáctanos en psicologia@aelcles.org o en el teléfono 641496702
URL:https://www.aelcles.org/evento/mi-tiempo-para-mi-58/
CATEGORIES:online
ATTACH;FMTTYPE=image/png:https://www.aelcles.org/wp-content/uploads/2025/12/Captura-de-pantalla-2025-12-01-a-las-9.34.52.png
END:VEVENT
BEGIN:VEVENT
DTSTART;TZID=Europe/Madrid:20260525T170000
DTEND;TZID=Europe/Madrid:20260525T180000
DTSTAMP:20260422T111555
CREATED:20260410T072409Z
LAST-MODIFIED:20260410T072409Z
UID:5047-1779728400-1779732000@www.aelcles.org
SUMMARY:Mi Hilo Rojo
DESCRIPTION:Como cada último lunes  de mes nos reencontramos  con #mihilorojo\, un grupo de iguales en el que el paciente o su familiar se siente apoyado y comprendido\, solventar posibles dudas a través de otros miembros del grupo para confrontar mejor la enfermedad\, su tratamiento y recuperación. \nSe realiza a través del enlace de ZOOM https://us06web.zoom.us/j/89012542532\, si quieres participar ponte en contacto en psicologia@aelcles.org o en el teléfono 641496702 \n 
URL:https://www.aelcles.org/evento/mi-hilo-rojo-36/
CATEGORIES:online
ATTACH;FMTTYPE=image/png:https://www.aelcles.org/wp-content/uploads/2026/02/c726ba55-94fa-461a-b309-df0fd428b37b.png
END:VEVENT
END:VCALENDAR