BEGIN:VCALENDAR
VERSION:2.0
PRODID:-//AELCLÉS - ECPv6.15.20//NONSGML v1.0//EN
CALSCALE:GREGORIAN
METHOD:PUBLISH
X-ORIGINAL-URL:https://www.aelcles.org
X-WR-CALDESC:Eventos para AELCLÉS
REFRESH-INTERVAL;VALUE=DURATION:PT1H
X-Robots-Tag:noindex
X-PUBLISHED-TTL:PT1H
BEGIN:VTIMEZONE
TZID:Europe/Madrid
BEGIN:DAYLIGHT
TZOFFSETFROM:+0100
TZOFFSETTO:+0200
TZNAME:CEST
DTSTART:20250330T010000
END:DAYLIGHT
BEGIN:STANDARD
TZOFFSETFROM:+0200
TZOFFSETTO:+0100
TZNAME:CET
DTSTART:20251026T010000
END:STANDARD
BEGIN:DAYLIGHT
TZOFFSETFROM:+0100
TZOFFSETTO:+0200
TZNAME:CEST
DTSTART:20260329T010000
END:DAYLIGHT
BEGIN:STANDARD
TZOFFSETFROM:+0200
TZOFFSETTO:+0100
TZNAME:CET
DTSTART:20261025T010000
END:STANDARD
BEGIN:DAYLIGHT
TZOFFSETFROM:+0100
TZOFFSETTO:+0200
TZNAME:CEST
DTSTART:20270328T010000
END:DAYLIGHT
BEGIN:STANDARD
TZOFFSETFROM:+0200
TZOFFSETTO:+0100
TZNAME:CET
DTSTART:20271031T010000
END:STANDARD
END:VTIMEZONE
BEGIN:VEVENT
DTSTART;TZID=Europe/Madrid:20260326T170000
DTEND;TZID=Europe/Madrid:20260326T180000
DTSTAMP:20260422T181433
CREATED:20260323T081925Z
LAST-MODIFIED:20260323T082038Z
UID:5031-1774544400-1774548000@www.aelcles.org
SUMMARY:Meditación guiada
DESCRIPTION:🧘‍♂️ ¡Regálate una hora de paz!\nEste jueves 26 de marzo (17h-18h)\, Teresa Sánchez nos acompañará en una sesión de meditación guiada. Un espacio para respirar profundo y encontrar tranquilidad.\n✨ Anímate a participar y desconectar del día a día.\nConéctate en:\nhttps://us06web.zoom.us/j/85150160987
URL:https://www.aelcles.org/evento/meditacion-guiada-2/
CATEGORIES:online
ATTACH;FMTTYPE=image/png:https://www.aelcles.org/wp-content/uploads/2026/03/Meditacion-1.png
END:VEVENT
END:VCALENDAR