BEGIN:VCALENDAR
VERSION:2.0
PRODID:-//AELCLÉS - ECPv6.15.20//NONSGML v1.0//EN
CALSCALE:GREGORIAN
METHOD:PUBLISH
X-ORIGINAL-URL:https://www.aelcles.org
X-WR-CALDESC:Eventos para AELCLÉS
REFRESH-INTERVAL;VALUE=DURATION:PT1H
X-Robots-Tag:noindex
X-PUBLISHED-TTL:PT1H
BEGIN:VTIMEZONE
TZID:Europe/Madrid
BEGIN:DAYLIGHT
TZOFFSETFROM:+0100
TZOFFSETTO:+0200
TZNAME:CEST
DTSTART:20250330T010000
END:DAYLIGHT
BEGIN:STANDARD
TZOFFSETFROM:+0200
TZOFFSETTO:+0100
TZNAME:CET
DTSTART:20251026T010000
END:STANDARD
BEGIN:DAYLIGHT
TZOFFSETFROM:+0100
TZOFFSETTO:+0200
TZNAME:CEST
DTSTART:20260329T010000
END:DAYLIGHT
BEGIN:STANDARD
TZOFFSETFROM:+0200
TZOFFSETTO:+0100
TZNAME:CET
DTSTART:20261025T010000
END:STANDARD
BEGIN:DAYLIGHT
TZOFFSETFROM:+0100
TZOFFSETTO:+0200
TZNAME:CEST
DTSTART:20270328T010000
END:DAYLIGHT
BEGIN:STANDARD
TZOFFSETFROM:+0200
TZOFFSETTO:+0100
TZNAME:CET
DTSTART:20271031T010000
END:STANDARD
END:VTIMEZONE
BEGIN:VEVENT
DTSTART;VALUE=DATE:20260227
DTEND;VALUE=DATE:20260228
DTSTAMP:20260422T181434
CREATED:20260227T074542Z
LAST-MODIFIED:20260227T074558Z
UID:4979-1772150400-1772236799@www.aelcles.org
SUMMARY:27 de febrero | Día Mundial del Trasplante de Órganos y Tejidos
DESCRIPTION:Hoy rendimos homenaje a todas las personas donantes y a sus familias\, cuya generosidad hace posible regalar vida y esperanza a quienes más lo necesitan. La donación de órganos y tejidos es un acto solidario que transforma el dolor en oportunidad y demuestra el poder de la empatía y el compromiso social. \nHoy recordamos la importancia de hablar sobre la donación. \nGracias a cada donante por dejar una huella que sigue latiendo en otras vidas.
URL:https://www.aelcles.org/evento/27-de-febrero-dia-mundial-del-trasplante-de-organos-y-tejidos/
ATTACH;FMTTYPE=image/png:https://www.aelcles.org/wp-content/uploads/2026/02/27-de-febrero.png
END:VEVENT
END:VCALENDAR