BEGIN:VCALENDAR
VERSION:2.0
PRODID:-//AELCLÉS - ECPv6.15.20//NONSGML v1.0//EN
CALSCALE:GREGORIAN
METHOD:PUBLISH
X-WR-CALNAME:AELCLÉS
X-ORIGINAL-URL:https://www.aelcles.org
X-WR-CALDESC:Eventos para AELCLÉS
REFRESH-INTERVAL;VALUE=DURATION:PT1H
X-Robots-Tag:noindex
X-PUBLISHED-TTL:PT1H
BEGIN:VTIMEZONE
TZID:Europe/Madrid
BEGIN:DAYLIGHT
TZOFFSETFROM:+0100
TZOFFSETTO:+0200
TZNAME:CEST
DTSTART:20250330T010000
END:DAYLIGHT
BEGIN:STANDARD
TZOFFSETFROM:+0200
TZOFFSETTO:+0100
TZNAME:CET
DTSTART:20251026T010000
END:STANDARD
BEGIN:DAYLIGHT
TZOFFSETFROM:+0100
TZOFFSETTO:+0200
TZNAME:CEST
DTSTART:20260329T010000
END:DAYLIGHT
BEGIN:STANDARD
TZOFFSETFROM:+0200
TZOFFSETTO:+0100
TZNAME:CET
DTSTART:20261025T010000
END:STANDARD
BEGIN:DAYLIGHT
TZOFFSETFROM:+0100
TZOFFSETTO:+0200
TZNAME:CEST
DTSTART:20270328T010000
END:DAYLIGHT
BEGIN:STANDARD
TZOFFSETFROM:+0200
TZOFFSETTO:+0100
TZNAME:CET
DTSTART:20271031T010000
END:STANDARD
END:VTIMEZONE
BEGIN:VEVENT
DTSTART;TZID=Europe/Madrid:20260218T130000
DTEND;TZID=Europe/Madrid:20260218T140000
DTSTAMP:20260422T195037
CREATED:20260216T094228Z
LAST-MODIFIED:20260216T094228Z
UID:4939-1771419600-1771423200@www.aelcles.org
SUMMARY:Presentación de la encuesta: Impacto socioeconómico de las enfermedades oncohematológicas en España
DESCRIPTION:Presentaremos los resultados de la encuesta AELCLÉS 2024-2025\, mostrando cómo las enfermedades oncohematológicas afectan no solo la salud\, sino también la vida social y laboral de los pacientes. \nInscribete aquí: https://forms.gle/LY6pmsZ3cm3aemeE9\n💬 Te esperamos para conocer estos datos y reflexionar sobre cómo avanzar hacia una atención integral que evite que los pacientes paguen un precio adicional por la enfermedad. \n📢 Acto de presentación: Impacto socioeconómico de las enfermedades oncohematológicas en España\n🗓 Fecha: 18 de febrero de 2026\n⏰ Hora: 13:00 – 14:00\n🏨 Lugar: Hotel Mayorazgo\, C/ Flor Baja\, 3 · Semiesquina Gran Vía\, 61\, Madrid
URL:https://www.aelcles.org/evento/presentacion-de-la-encuesta-impacto-socioeconomico-de-las-enfermedades-oncohematologicas-en-espana/
LOCATION:Hotel Mayorazgo\, C/ Flor Baja\, 3 · Semiesquina Gran Vía\, 61\, Madrid\, Spain
CATEGORIES:Presencial
ATTACH;FMTTYPE=image/png:https://www.aelcles.org/wp-content/uploads/2026/02/Programa180226_High-scaled.png
END:VEVENT
END:VCALENDAR