BEGIN:VCALENDAR
VERSION:2.0
PRODID:-//AELCLÉS - ECPv6.15.20//NONSGML v1.0//EN
CALSCALE:GREGORIAN
METHOD:PUBLISH
X-ORIGINAL-URL:https://www.aelcles.org
X-WR-CALDESC:Eventos para AELCLÉS
REFRESH-INTERVAL;VALUE=DURATION:PT1H
X-Robots-Tag:noindex
X-PUBLISHED-TTL:PT1H
BEGIN:VTIMEZONE
TZID:Europe/Madrid
BEGIN:DAYLIGHT
TZOFFSETFROM:+0100
TZOFFSETTO:+0200
TZNAME:CEST
DTSTART:20250330T010000
END:DAYLIGHT
BEGIN:STANDARD
TZOFFSETFROM:+0200
TZOFFSETTO:+0100
TZNAME:CET
DTSTART:20251026T010000
END:STANDARD
BEGIN:DAYLIGHT
TZOFFSETFROM:+0100
TZOFFSETTO:+0200
TZNAME:CEST
DTSTART:20260329T010000
END:DAYLIGHT
BEGIN:STANDARD
TZOFFSETFROM:+0200
TZOFFSETTO:+0100
TZNAME:CET
DTSTART:20261025T010000
END:STANDARD
BEGIN:DAYLIGHT
TZOFFSETFROM:+0100
TZOFFSETTO:+0200
TZNAME:CEST
DTSTART:20270328T010000
END:DAYLIGHT
BEGIN:STANDARD
TZOFFSETFROM:+0200
TZOFFSETTO:+0100
TZNAME:CET
DTSTART:20271031T010000
END:STANDARD
END:VTIMEZONE
BEGIN:VEVENT
DTSTART;VALUE=DATE:20260211
DTEND;VALUE=DATE:20260212
DTSTAMP:20260422T195339
CREATED:20260211T091701Z
LAST-MODIFIED:20260211T091701Z
UID:4907-1770768000-1770854399@www.aelcles.org
SUMMARY:11 de febrero | Día Internacional de la Mujer y la Niña en la Ciencia
DESCRIPTION:En el Día Internacional de la Mujer y la Niña en la Ciencia queremos reconocer y agradecer especialmente a todas las hematólogas\, enfermeras\, investigadoras y profesionales sanitarias que\, con su conocimiento\, dedicación y compromiso\, trabajan cada día para mejorar la vida de los pacientes. \nSu labor no solo impulsa el avance científico\, sino que también aporta humanidad\, esperanza y futuro. Gracias por vuestro esfuerzo\, vuestra vocación y vuestra contribución imprescindible a la ciencia y a la salud.
URL:https://www.aelcles.org/evento/11-de-febrero-dia-internacional-de-la-mujer-y-la-nina-en-la-ciencia/
ATTACH;FMTTYPE=image/png:https://www.aelcles.org/wp-content/uploads/2026/02/Diseno-sin-titulo-2.png
END:VEVENT
END:VCALENDAR