BEGIN:VCALENDAR
VERSION:2.0
PRODID:-//AELCLÉS - ECPv6.15.20//NONSGML v1.0//EN
CALSCALE:GREGORIAN
METHOD:PUBLISH
X-WR-CALNAME:AELCLÉS
X-ORIGINAL-URL:https://www.aelcles.org
X-WR-CALDESC:Eventos para AELCLÉS
REFRESH-INTERVAL;VALUE=DURATION:PT1H
X-Robots-Tag:noindex
X-PUBLISHED-TTL:PT1H
BEGIN:VTIMEZONE
TZID:Europe/Madrid
BEGIN:DAYLIGHT
TZOFFSETFROM:+0100
TZOFFSETTO:+0200
TZNAME:CEST
DTSTART:20250330T010000
END:DAYLIGHT
BEGIN:STANDARD
TZOFFSETFROM:+0200
TZOFFSETTO:+0100
TZNAME:CET
DTSTART:20251026T010000
END:STANDARD
BEGIN:DAYLIGHT
TZOFFSETFROM:+0100
TZOFFSETTO:+0200
TZNAME:CEST
DTSTART:20260329T010000
END:DAYLIGHT
BEGIN:STANDARD
TZOFFSETFROM:+0200
TZOFFSETTO:+0100
TZNAME:CET
DTSTART:20261025T010000
END:STANDARD
BEGIN:DAYLIGHT
TZOFFSETFROM:+0100
TZOFFSETTO:+0200
TZNAME:CEST
DTSTART:20270328T010000
END:DAYLIGHT
BEGIN:STANDARD
TZOFFSETFROM:+0200
TZOFFSETTO:+0100
TZNAME:CET
DTSTART:20271031T010000
END:STANDARD
END:VTIMEZONE
BEGIN:VEVENT
DTSTART;TZID=Europe/Madrid:20260129T180000
DTEND;TZID=Europe/Madrid:20260129T190000
DTSTAMP:20260422T195032
CREATED:20260123T110758Z
LAST-MODIFIED:20260123T110758Z
UID:4833-1769709600-1769713200@www.aelcles.org
SUMMARY:Mi hilo rojo
DESCRIPTION:Este jueves\, 29 de enero\, a las 18:00h tendremos\, de manera presencial y online\, nuestra reunión de grupo de apoyo «Mi hilo rojo».\nEn esta ocasión\, nos acompañará el Dr. Luis Carlos Álvaro González\, que relatará su experiencia con la enfermedad y el papel que tuvo la escritura de su libro “Diario de un médico enfermo” en su proceso de afrontamiento.\nSi estás en Bilbao\, puedes asistir presencialmente al Centro Cívico de Basurto; si no\, puedes conectarte a través del siguiente enlace: https://us06web.zoom.us/j/89824580205\n¡Te esperamos! \n 
URL:https://www.aelcles.org/evento/mi-hilo-rojo-32/
LOCATION:Centro Cívico de Basurto
CATEGORIES:online,Presencial
ATTACH;FMTTYPE=image/jpeg:https://www.aelcles.org/wp-content/uploads/2026/01/WhatsApp-Image-2026-01-22-at-14.55.46.jpeg
END:VEVENT
END:VCALENDAR