BEGIN:VCALENDAR
VERSION:2.0
PRODID:-//AELCLÉS - ECPv6.15.20//NONSGML v1.0//EN
CALSCALE:GREGORIAN
METHOD:PUBLISH
X-ORIGINAL-URL:https://www.aelcles.org
X-WR-CALDESC:Eventos para AELCLÉS
REFRESH-INTERVAL;VALUE=DURATION:PT1H
X-Robots-Tag:noindex
X-PUBLISHED-TTL:PT1H
BEGIN:VTIMEZONE
TZID:Europe/Madrid
BEGIN:DAYLIGHT
TZOFFSETFROM:+0100
TZOFFSETTO:+0200
TZNAME:CEST
DTSTART:20230326T010000
END:DAYLIGHT
BEGIN:STANDARD
TZOFFSETFROM:+0200
TZOFFSETTO:+0100
TZNAME:CET
DTSTART:20231029T010000
END:STANDARD
BEGIN:DAYLIGHT
TZOFFSETFROM:+0100
TZOFFSETTO:+0200
TZNAME:CEST
DTSTART:20240331T010000
END:DAYLIGHT
BEGIN:STANDARD
TZOFFSETFROM:+0200
TZOFFSETTO:+0100
TZNAME:CET
DTSTART:20241027T010000
END:STANDARD
BEGIN:DAYLIGHT
TZOFFSETFROM:+0100
TZOFFSETTO:+0200
TZNAME:CEST
DTSTART:20250330T010000
END:DAYLIGHT
BEGIN:STANDARD
TZOFFSETFROM:+0200
TZOFFSETTO:+0100
TZNAME:CET
DTSTART:20251026T010000
END:STANDARD
END:VTIMEZONE
BEGIN:VEVENT
DTSTART;TZID=Europe/Madrid:20240509T170000
DTEND;TZID=Europe/Madrid:20240509T180000
DTSTAMP:20260425T191038
CREATED:20240508T165825Z
LAST-MODIFIED:20240508T165825Z
UID:3552-1715274000-1715277600@www.aelcles.org
SUMMARY:HABLEMOS DE CÁNCER Y...... ANSIEDAD Y DEPRESIÓN
DESCRIPTION:“Hablemos de cáncer y ansiedad y depresión”. En este ciclo estarán el oncólogo Alfonso Cortés\,  Estefanía Romero desde su rol de psicooncóloga y Bernard Gaspar\, presidente de la Asociación Española de Afectados de Cáncer de Pulmón (AEACaP). En este encuentro\, se conversará sobre el malestar emocional que a menudo acompaña al diagnóstico de cáncer y a su proceso de tratamiento y sobre qué podemos hacer para cuidar mejor nuestra salud mental.\n 
URL:https://www.aelcles.org/evento/hablemos-de-cancer-y-ansiedad-y-depresion/
ATTACH;FMTTYPE=image/jpeg:https://www.aelcles.org/wp-content/uploads/2024/05/WhatsApp-Image-2024-05-08-at-18.50.44.jpeg
END:VEVENT
END:VCALENDAR